BEGIN:VCALENDAR
VERSION:2.0
PRODID:-//NJ Mom - ECPv6.15.20//NONSGML v1.0//EN
CALSCALE:GREGORIAN
METHOD:PUBLISH
X-ORIGINAL-URL:https://njmom.com
X-WR-CALDESC:Events for NJ Mom
REFRESH-INTERVAL;VALUE=DURATION:PT1H
X-Robots-Tag:noindex
X-PUBLISHED-TTL:PT1H
BEGIN:VTIMEZONE
TZID:UTC
BEGIN:STANDARD
TZOFFSETFROM:+0000
TZOFFSETTO:+0000
TZNAME:UTC
DTSTART:20250101T000000
END:STANDARD
END:VTIMEZONE
BEGIN:VEVENT
DTSTART;TZID=UTC:20260409T190000
DTEND;TZID=UTC:20260409T210000
DTSTAMP:20260425T182237
CREATED:20260319T123128Z
LAST-MODIFIED:20260319T123128Z
UID:10013759-1775761200-1775768400@njmom.com
SUMMARY:ParkLife Comedy Night
DESCRIPTION:Get ready to laugh yourself silly at our very first Comedy Night at The Park. Perfectly timed with April Fools’ Day\, join us for an evening of stand-up\, playful twists\, and nonstop entertainment that’ll keep you smiling from start to finish. We’ll have a cash bar to keep the good vibes flowing\, plus snacks and light bites available for purchase to enjoy while you laugh. Come out\, relax\, and enjoy a night where the only thing serious… is how funny it’s going to be. \n++++ \nThe event is part of The Park’s ongoing ParkLife Events series\, a lineup of public gatherings that range from hands-on culinary classes to outdoor concerts and group fitness classes. These monthly events are designed to bring the community together and focus on experiences that encourage connection. \nLocated at 300 Connell Drive\, The Park is New Jersey’s newest destination neighborhood\, built around a 20-minute walkable campus concept. It aims to reimagine how public spaces foster community\, creating opportunities for people to socialize\, connect and spend time together in one central hub.
URL:https://njmom.com/event/parklife-comedy-night/
LOCATION:Table & Banter Mark\, 300 Connell Drive\, Level 2\, Berkeley Heights\, NJ\, 07102\, United States
ATTACH;FMTTYPE=image/jpeg:https://njmom.com/wp-content/uploads/2026/03/commedy-night.jpg
END:VEVENT
END:VCALENDAR