BEGIN:VCALENDAR
VERSION:2.0
PRODID:-//NJ Mom - ECPv6.15.20//NONSGML v1.0//EN
CALSCALE:GREGORIAN
METHOD:PUBLISH
X-ORIGINAL-URL:https://njmom.com
X-WR-CALDESC:Events for NJ Mom
REFRESH-INTERVAL;VALUE=DURATION:PT1H
X-Robots-Tag:noindex
X-PUBLISHED-TTL:PT1H
BEGIN:VTIMEZONE
TZID:UTC
BEGIN:STANDARD
TZOFFSETFROM:+0000
TZOFFSETTO:+0000
TZNAME:UTC
DTSTART:20250101T000000
END:STANDARD
END:VTIMEZONE
BEGIN:VEVENT
DTSTART;TZID=UTC:20260517T120000
DTEND;TZID=UTC:20260517T150000
DTSTAMP:20260421T071011
CREATED:20260420T123028Z
LAST-MODIFIED:20260420T123028Z
UID:10013885-1779019200-1779030000@njmom.com
SUMMARY:Walk4Friends 2026
DESCRIPTION:Please join The Friendship Circle of Central Jersey on Sunday\, May 17th at 12 pm and be a part of something meaningful! \nWalk4Friends is an annual community event that brings people together to raise awareness and funds for individuals with disabilities. The walk promotes inclusion\, friendship\, and support\, uniting families\, volunteers\, and the community in a fun and meaningful way. Proceeds help sustain Friendship Circle’s programs\, ensuring participants continue to thrive in a warm and inclusive environment. \nThe event will be taking place at the Marlboro Recreation Center in Marlboro Township\, NJ.\nYou will enjoy DJ music\, games\, food\, and festival fun for all ages.\nThis is a family friendly event and open to everyone.\nWe can’t wait to see you on Sunday\, May 17th!
URL:https://njmom.com/event/walk4friends-2026/
LOCATION:Marlboro Township Recreation Center\, 1979 Township Drive\, Marlboro\, NJ\, 07746
CATEGORIES:Charity,Spring Festivals
ATTACH;FMTTYPE=image/jpeg:https://njmom.com/wp-content/uploads/2026/04/walk-png.jpg
ORGANIZER;CN="Friendship Circle of Central Jersey":MAILTO:info@friendsnj.com
END:VEVENT
END:VCALENDAR