BEGIN:VCALENDAR
VERSION:2.0
PRODID:-//NJ Mom - ECPv6.15.20//NONSGML v1.0//EN
CALSCALE:GREGORIAN
METHOD:PUBLISH
X-WR-CALNAME:NJ Mom
X-ORIGINAL-URL:https://njmom.com
X-WR-CALDESC:Events for NJ Mom
REFRESH-INTERVAL;VALUE=DURATION:PT1H
X-Robots-Tag:noindex
X-PUBLISHED-TTL:PT1H
BEGIN:VTIMEZONE
TZID:UTC
BEGIN:STANDARD
TZOFFSETFROM:+0000
TZOFFSETTO:+0000
TZNAME:UTC
DTSTART:20250101T000000
END:STANDARD
END:VTIMEZONE
BEGIN:VEVENT
DTSTART;VALUE=DATE:20260622
DTEND;VALUE=DATE:20260822
DTSTAMP:20260420T222913
CREATED:20260417T122857Z
LAST-MODIFIED:20260417T122857Z
UID:10013880-1782086400-1787356799@njmom.com
SUMMARY:YWCA Princeton Summer Program 2026
DESCRIPTION:The YWCA Princeton has an action-packed Summer Program for kids ages 4–8! Choose from five hands-on experiences that build confidence\, strengthen problem-solving skills\, and spark creativity. EmpowerU Summer Program encourages young learners to explore interests and discover new passions. Running from June 22 through August 21\, 2026\, each of the five themes is offered weekly and includes Mad Scientists\, Mini Makers\, Start-Up Kids Club\, Super Hero Academy\, and Take a Bow. Mix and match weeks to fit your schedule. For details and registration\, visit ywcaprinceton.org or call Namita Kumar\, Burke Enrollment\, (609) 497-2100 ext. 386\, or email nKumar@ywcaprinceton.org.
URL:https://njmom.com/event/ywca-princeton-summer-program-2026/
LOCATION:YWCA Princeton\, 59 Paul Robeson Pl\, Princeton\, NJ\, 08540\, United States
ATTACH;FMTTYPE=image/jpeg:https://njmom.com/wp-content/uploads/2026/04/Empower-U-Summer-Program-1.jpg
END:VEVENT
BEGIN:VEVENT
DTSTART;TZID=UTC:20260622T160000
DTEND;TZID=UTC:20260622T190000
DTSTAMP:20260420T222913
CREATED:20260312T130555Z
LAST-MODIFIED:20260312T130555Z
UID:10013683-1782144000-1782154800@njmom.com
SUMMARY:Pet Photos with the Easter Bunny at MarketFair
DESCRIPTION:Bring your furry friends for photos with the Easter Bunny at MarketFair! All pets are welcome to participate\, and each visiting pet will receive a special spring bandana and treat to celebrate the season. Pets must be on a leash or safely secured in a carrier while visiting. \nPhoto packages will be available for purchase on site\, and reservations are recommended but not required.
URL:https://njmom.com/event/pet-photos-with-the-easter-bunny-at-marketfair/2026-06-22/
LOCATION:MarketFair\, 3535 US Highway 1\, Princeton\, NJ\, 08540\, United States
ATTACH;FMTTYPE=image/jpeg:https://njmom.com/wp-content/uploads/2026/03/pet-photos.jpeg
END:VEVENT
BEGIN:VEVENT
DTSTART;TZID=UTC:20260626T120000
DTEND;TZID=UTC:20260626T130000
DTSTAMP:20260420T222913
CREATED:20260123T133255Z
LAST-MODIFIED:20260123T133255Z
UID:10012515-1782475200-1782478800@njmom.com
SUMMARY:Cup and Canvas: Mindful Art Hour
DESCRIPTION:End your week with a simple\, mindful art project paired with a cup of tea. 🌿🎨☕. \nCup & Canvas weekly sessions are designed for anyone who needs an emotional and energetic tune-up. \nUnwind\, sip tea\, and explore your creativity to gather calm & new energy to decompress at the end of your week. \nNew beginner-friendly activity every week with instruction (e.g. simple watercolor\, collage\, clay handbuilding). No art experience needed. All materials are provided. Bring your lunch and a friend! \nBenefits for YOU:\n– Replenish Your Energy: Step away from daily demands with mindful art that soothes the mind.\n– Reconnect with Yourself: Enjoy time just for you—no expectations\, no pressure.\n– Build Connection: Share space with others who value creativity and self-care.\n– Flexible & Welcoming: Bring your lunch\, sip tea\, and create at your own pace.
URL:https://njmom.com/event/cup-and-canvas-mindful-art-hour/2026-06-26/
LOCATION:Rising Heart Studio\, 323 Main St\, Metuchen\, NJ\, 08840\, United States
ATTACH;FMTTYPE=image/jpeg:https://njmom.com/wp-content/uploads/2026/01/Screenshot-2026-01-22-at-2.00.22-PM.jpg
ORGANIZER;CN="Rising Heart Coaching and Art Studio":MAILTO:okollider@gmail.com
END:VEVENT
BEGIN:VEVENT
DTSTART;TZID=UTC:20260627T130000
DTEND;TZID=UTC:20260627T150000
DTSTAMP:20260420T222913
CREATED:20250217T184441Z
LAST-MODIFIED:20250218T151533Z
UID:10000247-1782565200-1782572400@njmom.com
SUMMARY:IN HER FOOTSTEPS: a celebration of women in history
DESCRIPTION:Step into history with\, IN HER FOOTSTEPS\, a fun\, family-friendly\, immersive theatrical experience that brings great women from the past to life through dynamic performances\, multimedia displays\, and hands-on activities. \nIN HER FOOTSTEPS will be on Saturdays and Sundays in March 2025 at 1 PM and 4 PM at the Museum of Jersey City History\, located at the historic Apple Tree House\, 298 Academy Street\, Jersey City\, NJ. For more information\, www.speranzatheatre.org.
URL:https://njmom.com/event/in-her-footsteps-a-celebration-of-women-in-history/2026-06-27/
LOCATION:Museum of Jersey City History\, located at the historic Apple Tree House\, 298 Academy Street\, Jersey City\, NJ\, 07306\, United States
ATTACH;FMTTYPE=image/jpeg:https://njmom.com/wp-content/uploads/2025/02/Footsteps-2025-Email-Signature.jpg
ORGANIZER;CN="Diana Basmajian":MAILTO:info@speranzatheatre.org
END:VEVENT
BEGIN:VEVENT
DTSTART;TZID=UTC:20260628T130000
DTEND;TZID=UTC:20260628T150000
DTSTAMP:20260420T222913
CREATED:20250217T184441Z
LAST-MODIFIED:20250218T151533Z
UID:10000248-1782651600-1782658800@njmom.com
SUMMARY:IN HER FOOTSTEPS: a celebration of women in history
DESCRIPTION:Step into history with\, IN HER FOOTSTEPS\, a fun\, family-friendly\, immersive theatrical experience that brings great women from the past to life through dynamic performances\, multimedia displays\, and hands-on activities. \nIN HER FOOTSTEPS will be on Saturdays and Sundays in March 2025 at 1 PM and 4 PM at the Museum of Jersey City History\, located at the historic Apple Tree House\, 298 Academy Street\, Jersey City\, NJ. For more information\, www.speranzatheatre.org.
URL:https://njmom.com/event/in-her-footsteps-a-celebration-of-women-in-history/2026-06-28/
LOCATION:Museum of Jersey City History\, located at the historic Apple Tree House\, 298 Academy Street\, Jersey City\, NJ\, 07306\, United States
ATTACH;FMTTYPE=image/jpeg:https://njmom.com/wp-content/uploads/2025/02/Footsteps-2025-Email-Signature.jpg
ORGANIZER;CN="Diana Basmajian":MAILTO:info@speranzatheatre.org
END:VEVENT
END:VCALENDAR