BEGIN:VCALENDAR
VERSION:2.0
PRODID:-//NJ Mom - ECPv6.15.20//NONSGML v1.0//EN
CALSCALE:GREGORIAN
METHOD:PUBLISH
X-WR-CALNAME:NJ Mom
X-ORIGINAL-URL:https://njmom.com
X-WR-CALDESC:Events for NJ Mom
REFRESH-INTERVAL;VALUE=DURATION:PT1H
X-Robots-Tag:noindex
X-PUBLISHED-TTL:PT1H
BEGIN:VTIMEZONE
TZID:UTC
BEGIN:STANDARD
TZOFFSETFROM:+0000
TZOFFSETTO:+0000
TZNAME:UTC
DTSTART:20240101T000000
END:STANDARD
END:VTIMEZONE
BEGIN:VEVENT
DTSTART;TZID=UTC:20250130T093000
DTEND;TZID=UTC:20250130T103000
DTSTAMP:20260420T170806
CREATED:20250106T172903Z
LAST-MODIFIED:20250106T172903Z
UID:10000041-1738229400-1738233000@njmom.com
SUMMARY:Wheee Get Fit & Play
DESCRIPTION:Wheee Get Fit and Play is a boot camp-style group fitness class for moms and their little ones! Class includes a 30-40-minute workout followed by 15-20 minutes of kid-time activities during which we play songs\, dance\, and crawl! We welcome ALL fitness levels\, ages\, sizes\, and backgrounds. Certified pregnancy and postpartum fitness instructors help make modifications to meet you where you are. Being in a class full of moms creates a great community of new friendships to bloom. Ask your doctor if you are cleared to exercise before taking the class. Please bring your own towel or mat for the program. This program is in-person only\, and a physical\nmovement waiver is required.\nCost: Free\nLiveWell Center\, 200 Wyckoff Rd. Suite 1200\, Eatontown\, NJ 07724\nSponsoring Facility: Monmouth Medical Center and Monmouth Medical Center Southern Campus
URL:https://njmom.com/event/wheee-get-fit-play/
LOCATION:NJ
CATEGORIES:New Moms
END:VEVENT
BEGIN:VEVENT
DTSTART;TZID=UTC:20250130T183000
DTEND;TZID=UTC:20250130T203000
DTSTAMP:20260420T170806
CREATED:20250106T172805Z
LAST-MODIFIED:20250106T172805Z
UID:10000040-1738261800-1738269000@njmom.com
SUMMARY:Infant Care Class - Jersey City Medical Center
DESCRIPTION:The program will include two hours of combination lectures and movie presentations on topics like physical appearance\, diapering\, bathing\, cord care\, and special procedures. You must complete the registration and payment received at least two weeks before the class date. They will send the link before the start of class.\nCost: $35 per couple\nVirtual\nSponsoring Facility: Jersey City Medical Center\nEufemia Rios RN\, Childbirth Educator\, (201) 915-2365 or Email: Eufemia.rios@rwjbh.org
URL:https://njmom.com/event/infant-care-class-jersey-city-medical-center/
LOCATION:NJ
CATEGORIES:New Moms
END:VEVENT
BEGIN:VEVENT
DTSTART;TZID=UTC:20250201T150000
DTEND;TZID=UTC:20250201T170000
DTSTAMP:20260420T170806
CREATED:20250123T180017Z
LAST-MODIFIED:20250123T180017Z
UID:10000050-1738422000-1738429200@njmom.com
SUMMARY:My Little Man and Me: Valentine’s Day Party
DESCRIPTION:February 1 at 3 PM\nA Valentine’s Day party that celebrates sons\, grandsons\, and nephews. Enjoy games\, crafts\, snacks\, punch\, and a photo booth area while making special memories.\nCost: $5-$30; recommended for ages 4-8.\nLiberty Hall Museum\, 1003 Morris Avenue\, Union\, NJ 07083
URL:https://njmom.com/event/my-little-man-and-me-valentines-day-party/
LOCATION:NJ
CATEGORIES:Valentine's Day
ATTACH;FMTTYPE=image/jpeg:https://njmom.com/wp-content/uploads/2025/01/472930702_1149663037158937_4885329260499826818_n.jpg
END:VEVENT
BEGIN:VEVENT
DTSTART;VALUE=DATE:20250202
DTEND;VALUE=DATE:20250215
DTSTAMP:20260420T170806
CREATED:20250123T180357Z
LAST-MODIFIED:20250123T180357Z
UID:10000052-1738454400-1739577599@njmom.com
SUMMARY:Kissing Booth Photos
DESCRIPTION:February 2-14 at 10 AM\nBring your furry friend and family members for fun photos this Valentine’s Day. All photos are free\, and walk-ins are welcome.\nCost: Free\nDoggie Sweets\, 15 Morris Avenue Unit 119\, Long Branch\, NJ 07740
URL:https://njmom.com/event/kissing-booth-photos/
LOCATION:NJ
CATEGORIES:Free Events,Valentine's Day
ATTACH;FMTTYPE=image/jpeg:https://njmom.com/wp-content/uploads/2025/01/https___cdn.evbuc_.com_images_662887559_1089147665403_1_original.jpg
END:VEVENT
BEGIN:VEVENT
DTSTART;TZID=UTC:20250202T120000
DTEND;TZID=UTC:20250202T160000
DTSTAMP:20260420T170806
CREATED:20250123T180250Z
LAST-MODIFIED:20250123T180250Z
UID:10000051-1738497600-1738512000@njmom.com
SUMMARY:Asbury Fresh Valentine’s Day Pop-Up Market at Porta
DESCRIPTION:February 2 at 12 PM\nNeed to shop for V-Day gifts? Visit Porta in Asbury Park\, where you can shop among artisans and makers while enjoying yummy drinks and food.\nCost: Free\nPorta\, 911 Kingsley Street\, Asbury Park\, NJ 07712
URL:https://njmom.com/event/asbury-fresh-valentines-day-pop-up-market-at-porta/
LOCATION:NJ
CATEGORIES:Valentine's Day
ATTACH;FMTTYPE=image/png:https://njmom.com/wp-content/uploads/2025/01/PORTA-V-DAY-POST.png
END:VEVENT
END:VCALENDAR