BEGIN:VCALENDAR
VERSION:2.0
PRODID:-//NJ Mom - ECPv6.15.20//NONSGML v1.0//EN
CALSCALE:GREGORIAN
METHOD:PUBLISH
X-WR-CALNAME:NJ Mom
X-ORIGINAL-URL:https://njmom.com
X-WR-CALDESC:Events for NJ Mom
REFRESH-INTERVAL;VALUE=DURATION:PT1H
X-Robots-Tag:noindex
X-PUBLISHED-TTL:PT1H
BEGIN:VTIMEZONE
TZID:UTC
BEGIN:STANDARD
TZOFFSETFROM:+0000
TZOFFSETTO:+0000
TZNAME:UTC
DTSTART:20240101T000000
END:STANDARD
END:VTIMEZONE
BEGIN:VEVENT
DTSTART;TZID=UTC:20250405T100000
DTEND;TZID=UTC:20250405T160000
DTSTAMP:20260423T144241
CREATED:20250310T151915Z
LAST-MODIFIED:20250310T151915Z
UID:10000712-1743847200-1743868800@njmom.com
SUMMARY:Wheaton Springs
DESCRIPTION:Celebrate the start of Wheaton Arts and Cultural Center’s creative season with the free kick-off event Wheaton Springs 2025 from 10 a.m. to 4 p.m. on Saturday\, April 5! The Wheaton Springs 2025 event offers visitors of all ages the chance to explore\, experience\, create\, and celebrate across WheatonArts’ 45-acre campus that inspires creativity. Admission to all exhibitions and artist studio demonstrations is free and open to the public\, part of WheatonArts Family Days\, presented by PNC Arts Alive! \nExplore Transformations: The Wasserstein Collection of Contemporary Glass and redundancies curated by David Schnuckel in the Museum of American Glass and Communities and Cultures of Down Jersey in the Down Jersey Folklife Center on display April through December\, \nExperience a collection of artist demonstrations throughout the campus and take a kiln tour in the Pottery Studio! \nCreate a series of hands-on projects for all ages and skill levels with our spring themed Family Art Activities! \nCelebrate with food\, shopping\, and a walk around the Nature Trail! \nThe Wheaton Springs opening season event is free and open to the public from 10 a.m. to 4 p.m. on Saturday\, April 5\, 2025. For more information about WheatonArts’ programs\, call 856-825-6800 or 800-998-4552\, or visit wheatonarts.org. WheatonArts is open April through December from 11 a.m. to 4 p.m. Thursday through Sunday. Special event hours may vary. Admission tickets can be purchased online or at the gate. Closed Easter Sunday\, Memorial Day\, Labor Day\, Thanksgiving Day\, Christmas Day\, and New Year’s Day. \nWheatonArts strives to ensure the accessibility of its exhibitions\, events\, and programs to all persons with disabilities. Please provide two weeks’ notice of additional needs. Patrons with hearing and speech disabilities may contact WheatonArts through the New Jersey Relay Service (TRS) 800-852-7899 or by dialing 711. \nFunding has been made possible in part by the New Jersey State Council on the Arts\, a Partner Agency of the National Endowment for the Arts\, the National Endowment for the Arts\, and the New Jersey Cultural Trust. WheatonArts receives general operating support from the New Jersey Historical Commission\, Division of Cultural Affairs in the New Jersey Department of State\, and is supported in part by the New Jersey Department of State\, Division of Travel and Tourism. \nWheatonArts is located at GPS: 1000 Village Drive\, Millville\, NJ 08332
URL:https://njmom.com/event/wheaton-springs/
LOCATION:WheatonArts\, 1000 Village Drive\, Millville\, NJ\, 08332\, United States
CATEGORIES:Free Events
ATTACH;FMTTYPE=image/jpeg:https://njmom.com/wp-content/uploads/2025/03/WheatonArts-Glass-Studio-Image-scaled.jpg
ORGANIZER;CN="WheatonArts":MAILTO:news@wheatonarts.org
END:VEVENT
BEGIN:VEVENT
DTSTART;TZID=UTC:20250621T100000
DTEND;TZID=UTC:20250621T160000
DTSTAMP:20260423T144241
CREATED:20250609T132545Z
LAST-MODIFIED:20250609T132545Z
UID:10002710-1750500000-1750521600@njmom.com
SUMMARY:Fantasy Faire
DESCRIPTION:Wheaton Arts and Cultural Center proudly declares that Fantasy Faire returns on Saturday\, June 21\, and Sunday\, June 22\, from 10 a.m. to 4 p.m. each day! In partnership with Mystic Realms\, Ltd®\, this annual event features talented performers as they bring to life the “Kingdom of Wheaton” by enacting a series of interconnected shows. Visitors of all ages can interact with strolling costumed characters portraying historical and mythical figures throughout WheatonArts’ campus. Everyone is invited to come dressed in their favorite fantasy garbs to enjoy a variety of live performances and sword demonstrations\, engage in free family art activities\, play pirate games\, shop the merchants’ alley\, and so much more! Fantasy Faire is included with general admission to WheatonArts. \nFantasy Faire is included in the price of admission to WheatonArts. Admission is $12.00 for Adults\, $11.00 for Senior Adults\, and $7.00 for Students. Children five and under are free. Tickets are available at the front gate and online. WheatonArts information and group rates can be found online at wheatonarts.org or by calling 856-825-6800. For details about Mystic Realms®\, call 856.430.0716 or visit online at mysticrealms.com.   \nWheatonArts is located at GPS: 1000 Village Drive\, Millville\, NJ 08332
URL:https://njmom.com/event/fantasy-faire/2025-06-21/
LOCATION:WheatonArts\, 1000 Village Drive\, Millville\, NJ\, 08332\, United States
CATEGORIES:Summer Festivals
ATTACH;FMTTYPE=image/jpeg:https://njmom.com/wp-content/uploads/2025/06/FanFaire2024_Taral-2825.jpg
ORGANIZER;CN="WheatonArts":MAILTO:news@wheatonarts.org
END:VEVENT
BEGIN:VEVENT
DTSTART;TZID=UTC:20250622T100000
DTEND;TZID=UTC:20250622T160000
DTSTAMP:20260423T144241
CREATED:20250609T132545Z
LAST-MODIFIED:20250609T132545Z
UID:10002711-1750586400-1750608000@njmom.com
SUMMARY:Fantasy Faire
DESCRIPTION:Wheaton Arts and Cultural Center proudly declares that Fantasy Faire returns on Saturday\, June 21\, and Sunday\, June 22\, from 10 a.m. to 4 p.m. each day! In partnership with Mystic Realms\, Ltd®\, this annual event features talented performers as they bring to life the “Kingdom of Wheaton” by enacting a series of interconnected shows. Visitors of all ages can interact with strolling costumed characters portraying historical and mythical figures throughout WheatonArts’ campus. Everyone is invited to come dressed in their favorite fantasy garbs to enjoy a variety of live performances and sword demonstrations\, engage in free family art activities\, play pirate games\, shop the merchants’ alley\, and so much more! Fantasy Faire is included with general admission to WheatonArts. \nFantasy Faire is included in the price of admission to WheatonArts. Admission is $12.00 for Adults\, $11.00 for Senior Adults\, and $7.00 for Students. Children five and under are free. Tickets are available at the front gate and online. WheatonArts information and group rates can be found online at wheatonarts.org or by calling 856-825-6800. For details about Mystic Realms®\, call 856.430.0716 or visit online at mysticrealms.com.   \nWheatonArts is located at GPS: 1000 Village Drive\, Millville\, NJ 08332
URL:https://njmom.com/event/fantasy-faire/2025-06-22/
LOCATION:WheatonArts\, 1000 Village Drive\, Millville\, NJ\, 08332\, United States
CATEGORIES:Summer Festivals
ATTACH;FMTTYPE=image/jpeg:https://njmom.com/wp-content/uploads/2025/06/FanFaire2024_Taral-2825.jpg
ORGANIZER;CN="WheatonArts":MAILTO:news@wheatonarts.org
END:VEVENT
BEGIN:VEVENT
DTSTART;TZID=UTC:20250716T110000
DTEND;TZID=UTC:20250716T190000
DTSTAMP:20260423T144241
CREATED:20250630T140235Z
LAST-MODIFIED:20250630T140235Z
UID:10003667-1752663600-1752692400@njmom.com
SUMMARY:Wheaton Wednesdays
DESCRIPTION:Wheaton Arts and Cultural Center is offering two free late Wednesdays this summer on July 16 and August 20. Experience the grounds for the extended hours of 11 a.m. to 7 p.m. There will be free art activities for the whole family to enjoy and design contests in the Glass and Pottery Studios. Step inside the Museum of American Glass for special exhibit tours\, visit the Folklife Center for special programming\, participate in a campus-wide scavenger hunt\, hear live music\, enjoy a bite to eat\, and more. \nWheaton Wednesday dates are FREE to the public\, part of WheatonArts Family Days! Presented by PNC Arts Alive! Learn more at wheatonarts.org.
URL:https://njmom.com/event/wheaton-wednesdays/2025-07-16/
LOCATION:WheatonArts\, 1000 Village Drive\, Millville\, NJ\, 08332\, United States
CATEGORIES:Free Events
ATTACH;FMTTYPE=image/jpeg:https://njmom.com/wp-content/uploads/2025/06/ww_banner_2025.jpg
ORGANIZER;CN="WheatonArts":MAILTO:news@wheatonarts.org
END:VEVENT
BEGIN:VEVENT
DTSTART;TZID=UTC:20250820T110000
DTEND;TZID=UTC:20250820T190000
DTSTAMP:20260423T144241
CREATED:20250630T140235Z
LAST-MODIFIED:20250630T140235Z
UID:10003668-1755687600-1755716400@njmom.com
SUMMARY:Wheaton Wednesdays
DESCRIPTION:Wheaton Arts and Cultural Center is offering two free late Wednesdays this summer on July 16 and August 20. Experience the grounds for the extended hours of 11 a.m. to 7 p.m. There will be free art activities for the whole family to enjoy and design contests in the Glass and Pottery Studios. Step inside the Museum of American Glass for special exhibit tours\, visit the Folklife Center for special programming\, participate in a campus-wide scavenger hunt\, hear live music\, enjoy a bite to eat\, and more. \nWheaton Wednesday dates are FREE to the public\, part of WheatonArts Family Days! Presented by PNC Arts Alive! Learn more at wheatonarts.org.
URL:https://njmom.com/event/wheaton-wednesdays/2025-08-20/
LOCATION:WheatonArts\, 1000 Village Drive\, Millville\, NJ\, 08332\, United States
CATEGORIES:Free Events
ATTACH;FMTTYPE=image/jpeg:https://njmom.com/wp-content/uploads/2025/06/ww_banner_2025.jpg
ORGANIZER;CN="WheatonArts":MAILTO:news@wheatonarts.org
END:VEVENT
BEGIN:VEVENT
DTSTART;TZID=UTC:20251004T100000
DTEND;TZID=UTC:20251004T170000
DTSTAMP:20260423T144241
CREATED:20250825T123550Z
LAST-MODIFIED:20250825T123550Z
UID:10005380-1759572000-1759597200@njmom.com
SUMMARY:Festival of Fine Craft
DESCRIPTION:Celebrating 26 years of artistic excellence\, Wheaton Arts and Cultural Center hosts the anticipated annual Festival of Fine Craft on October 4 and 5\, rain or shine! This crowd-favorite event features the work of over 150 juried contemporary and traditional artists\, unique artist demonstrations\, a Beer & Wine Garden\, family art activities\, WheatonArts signature Glass Pumpkin Fundraiser\, live musical entertainment\, and more! \nThroughout the WheatonArts campus\, visitors can engage with a diverse community of artists exhibiting and selling their handcrafted works of art. From inspired paintings\, decorative ceramics\, and novel jewelry to innovative wood sculptures and vibrant wearables\, the Festival offers interesting one-of-a-kind treasures for everyone! Some of the artist demonstrations for this year include basket making\, woodturning\, intaglio etching\, copper flame painting\, and more! \nEveryone can experience the creative process with additional complementary art-making activities thanks to a special PNC Arts Alive grant. Other fee-based artistic hands-on opportunities will also be available throughout the grounds. WheatonArts signature Glass Pumpkin Fundraiser will be back once again as an outdoor installation that invites Festival goers to be immersed around beautifully handcrafted glass pumpkins of all shapes\, sizes\, and colors—each individually handcrafted by WheatonArts’ Glass Studio Team. All fundraiser proceeds support arts educational programming at WheatonArts. \nVisitors 21 years and older can grab a seat\, or a hay bale\, to enjoy the Beer & Wine Garden (Permit #140641) with selections from Glasstown Brewing Company and Bellview Winery. Various gourmet food vendors and specialty food trucks will line the food court with refreshments for purchase. Additionally\, visitors can enjoy live musical entertainment from South Jersey’s own Chris Lax and the Package Goods Orchestra. And the Festival fun doesn’t end there\, as everyone can stop by the information table near the front gate to sign up for a chance to win a variety of WheatonArts door prizes! \nFestival hours are 10 a.m. to 5 p.m. on Saturday and Sunday\, October 4 and 5\, rain or shine\, and is included with general admission to WheatonArts. Admission at the gate is $14 adults\, $13 senior adults\, $8 students\, and free for WheatonArts members and children ages five or younger. The Festival is sponsored in part by OceanFirst Bank. \nWheatonArts is located at GPS: 1000 Village Drive\, Millville\, NJ 08332
URL:https://njmom.com/event/festival-of-fine-craft/2025-10-04/
LOCATION:WheatonArts\, 1000 Village Drive\, Millville\, NJ\, 08332\, United States
CATEGORIES:Fall Festivals
ATTACH;FMTTYPE=image/jpeg:https://njmom.com/wp-content/uploads/2025/08/FFC_2024_4.jpg
ORGANIZER;CN="WheatonArts":MAILTO:news@wheatonarts.org
END:VEVENT
BEGIN:VEVENT
DTSTART;TZID=UTC:20251005T100000
DTEND;TZID=UTC:20251005T170000
DTSTAMP:20260423T144241
CREATED:20250825T123550Z
LAST-MODIFIED:20250825T123550Z
UID:10005381-1759658400-1759683600@njmom.com
SUMMARY:Festival of Fine Craft
DESCRIPTION:Celebrating 26 years of artistic excellence\, Wheaton Arts and Cultural Center hosts the anticipated annual Festival of Fine Craft on October 4 and 5\, rain or shine! This crowd-favorite event features the work of over 150 juried contemporary and traditional artists\, unique artist demonstrations\, a Beer & Wine Garden\, family art activities\, WheatonArts signature Glass Pumpkin Fundraiser\, live musical entertainment\, and more! \nThroughout the WheatonArts campus\, visitors can engage with a diverse community of artists exhibiting and selling their handcrafted works of art. From inspired paintings\, decorative ceramics\, and novel jewelry to innovative wood sculptures and vibrant wearables\, the Festival offers interesting one-of-a-kind treasures for everyone! Some of the artist demonstrations for this year include basket making\, woodturning\, intaglio etching\, copper flame painting\, and more! \nEveryone can experience the creative process with additional complementary art-making activities thanks to a special PNC Arts Alive grant. Other fee-based artistic hands-on opportunities will also be available throughout the grounds. WheatonArts signature Glass Pumpkin Fundraiser will be back once again as an outdoor installation that invites Festival goers to be immersed around beautifully handcrafted glass pumpkins of all shapes\, sizes\, and colors—each individually handcrafted by WheatonArts’ Glass Studio Team. All fundraiser proceeds support arts educational programming at WheatonArts. \nVisitors 21 years and older can grab a seat\, or a hay bale\, to enjoy the Beer & Wine Garden (Permit #140641) with selections from Glasstown Brewing Company and Bellview Winery. Various gourmet food vendors and specialty food trucks will line the food court with refreshments for purchase. Additionally\, visitors can enjoy live musical entertainment from South Jersey’s own Chris Lax and the Package Goods Orchestra. And the Festival fun doesn’t end there\, as everyone can stop by the information table near the front gate to sign up for a chance to win a variety of WheatonArts door prizes! \nFestival hours are 10 a.m. to 5 p.m. on Saturday and Sunday\, October 4 and 5\, rain or shine\, and is included with general admission to WheatonArts. Admission at the gate is $14 adults\, $13 senior adults\, $8 students\, and free for WheatonArts members and children ages five or younger. The Festival is sponsored in part by OceanFirst Bank. \nWheatonArts is located at GPS: 1000 Village Drive\, Millville\, NJ 08332
URL:https://njmom.com/event/festival-of-fine-craft/2025-10-05/
LOCATION:WheatonArts\, 1000 Village Drive\, Millville\, NJ\, 08332\, United States
CATEGORIES:Fall Festivals
ATTACH;FMTTYPE=image/jpeg:https://njmom.com/wp-content/uploads/2025/08/FFC_2024_4.jpg
ORGANIZER;CN="WheatonArts":MAILTO:news@wheatonarts.org
END:VEVENT
BEGIN:VEVENT
DTSTART;TZID=UTC:20251025T130000
DTEND;TZID=UTC:20251025T160000
DTSTAMP:20260423T144241
CREATED:20251010T124610Z
LAST-MODIFIED:20251010T124610Z
UID:10008500-1761397200-1761408000@njmom.com
SUMMARY:HalloWheaton
DESCRIPTION:WheatonArts will be presenting an afternoon of diverse family activities throughout the campus on Saturday\, October 25\, 2025\, from 1pm to 4pm. Visitors are welcome to Trick-or-Treat in Halloween costumes and meet traditional costumed characters played by the talented Mystic Realms actors. Attendees are also welcome to visit the Museum of American Glass for special exhibit tours\, visit the exhibit in the Down Jersey Folklife Center\, watch live demonstrations in our Artist Studios\, participate in a campus-wide scavenger hunt\, enjoy a bite to eat\, and more. \nHalloWheaton is FREE to the public\, part of WheatonArts Family Days! Presented by PNC Arts Alive!
URL:https://njmom.com/event/hallowheaton/
LOCATION:WheatonArts\, 1000 Village Drive\, Millville\, NJ\, 08332\, United States
CATEGORIES:Fall Festivals,Free Events
ATTACH;FMTTYPE=image/gif:https://njmom.com/wp-content/uploads/2025/10/crowd_1.gif
ORGANIZER;CN="WheatonArts":MAILTO:news@wheatonarts.org
END:VEVENT
END:VCALENDAR