BEGIN:VCALENDAR
VERSION:2.0
PRODID:-//NJ Mom - ECPv6.15.20//NONSGML v1.0//EN
CALSCALE:GREGORIAN
METHOD:PUBLISH
X-ORIGINAL-URL:https://njmom.com
X-WR-CALDESC:Events for NJ Mom
REFRESH-INTERVAL;VALUE=DURATION:PT1H
X-Robots-Tag:noindex
X-PUBLISHED-TTL:PT1H
BEGIN:VTIMEZONE
TZID:UTC
BEGIN:STANDARD
TZOFFSETFROM:+0000
TZOFFSETTO:+0000
TZNAME:UTC
DTSTART:20240101T000000
END:STANDARD
END:VTIMEZONE
BEGIN:VEVENT
DTSTART;TZID=UTC:20250702T083000
DTEND;TZID=UTC:20250702T090000
DTSTAMP:20260424T221800
CREATED:20250701T141023Z
LAST-MODIFIED:20250701T141023Z
UID:10003698-1751445000-1751446800@njmom.com
SUMMARY:Little Noodles: Ocean Week Play Classes (Ages 2–5)
DESCRIPTION:Join Little Noodles for a teacher-led\, sensory-rich play class by the beautiful Barnegat Bay! During Ocean Week\, children ages 2–5 will explore the wonders of the sea through songs\, stories\, crafts\, and movement. Each 30-minute session includes circle time\, hands-on art\, and music — all in a fun\, small-group setting (just 6 kids per class). \nPerfect for toddlers and preschoolers\, Little Noodles combines early learning with joyful connection and creative play. Led by a certified teacher and mom with over 10 years of experience.
URL:https://njmom.com/event/little-noodles-ocean-week-play-classes-ages-2-5/2025-07-02/
LOCATION:Laurel Boulevard Gazebo\, 1300 Laurel Blvd\, Lanoka Harbor\, NJ\, 08734\, United States
CATEGORIES:New Moms
ATTACH;FMTTYPE=image/jpeg:https://njmom.com/wp-content/uploads/2025/06/ChatGPT-Image-Jun-30-2025-10_23_35-AM.jpg
ORGANIZER;CN="Little Noodles":MAILTO:littlenoodleslearning@gmail.com
END:VEVENT
BEGIN:VEVENT
DTSTART;TZID=UTC:20250703T083000
DTEND;TZID=UTC:20250703T090000
DTSTAMP:20260424T221800
CREATED:20250701T141023Z
LAST-MODIFIED:20250701T141023Z
UID:10003699-1751531400-1751533200@njmom.com
SUMMARY:Little Noodles: Ocean Week Play Classes (Ages 2–5)
DESCRIPTION:Join Little Noodles for a teacher-led\, sensory-rich play class by the beautiful Barnegat Bay! During Ocean Week\, children ages 2–5 will explore the wonders of the sea through songs\, stories\, crafts\, and movement. Each 30-minute session includes circle time\, hands-on art\, and music — all in a fun\, small-group setting (just 6 kids per class). \nPerfect for toddlers and preschoolers\, Little Noodles combines early learning with joyful connection and creative play. Led by a certified teacher and mom with over 10 years of experience.
URL:https://njmom.com/event/little-noodles-ocean-week-play-classes-ages-2-5/2025-07-03/
LOCATION:Laurel Boulevard Gazebo\, 1300 Laurel Blvd\, Lanoka Harbor\, NJ\, 08734\, United States
CATEGORIES:New Moms
ATTACH;FMTTYPE=image/jpeg:https://njmom.com/wp-content/uploads/2025/06/ChatGPT-Image-Jun-30-2025-10_23_35-AM.jpg
ORGANIZER;CN="Little Noodles":MAILTO:littlenoodleslearning@gmail.com
END:VEVENT
BEGIN:VEVENT
DTSTART;TZID=UTC:20250706T083000
DTEND;TZID=UTC:20250706T090000
DTSTAMP:20260424T221800
CREATED:20250701T141023Z
LAST-MODIFIED:20250701T141023Z
UID:10003700-1751790600-1751792400@njmom.com
SUMMARY:Little Noodles: Ocean Week Play Classes (Ages 2–5)
DESCRIPTION:Join Little Noodles for a teacher-led\, sensory-rich play class by the beautiful Barnegat Bay! During Ocean Week\, children ages 2–5 will explore the wonders of the sea through songs\, stories\, crafts\, and movement. Each 30-minute session includes circle time\, hands-on art\, and music — all in a fun\, small-group setting (just 6 kids per class). \nPerfect for toddlers and preschoolers\, Little Noodles combines early learning with joyful connection and creative play. Led by a certified teacher and mom with over 10 years of experience.
URL:https://njmom.com/event/little-noodles-ocean-week-play-classes-ages-2-5/2025-07-06/
LOCATION:Laurel Boulevard Gazebo\, 1300 Laurel Blvd\, Lanoka Harbor\, NJ\, 08734\, United States
CATEGORIES:New Moms
ATTACH;FMTTYPE=image/jpeg:https://njmom.com/wp-content/uploads/2025/06/ChatGPT-Image-Jun-30-2025-10_23_35-AM.jpg
ORGANIZER;CN="Little Noodles":MAILTO:littlenoodleslearning@gmail.com
END:VEVENT
BEGIN:VEVENT
DTSTART;TZID=UTC:20260126T100000
DTEND;TZID=UTC:20260126T110000
DTSTAMP:20260424T221800
CREATED:20251208T133712Z
LAST-MODIFIED:20251208T133712Z
UID:10011415-1769421600-1769425200@njmom.com
SUMMARY:Beyond the Bug Preschool Series
DESCRIPTION:Spark curiosity and wonder in your little explorers with Beyond the Bug’s interactive preschool programs! These hour-long programs feature 2–3 live animal ambassadors alongside engaging hands-on activities\, games\, and crafts designed for younger learners. Each program fosters a love for nature while teaching age-appropriate lessons about the amazing animals that share our planet.
URL:https://njmom.com/event/beyond-the-bug-preschool-series/2026-01-26/
LOCATION:Monroe Twp Community Center\, 120 monmouth rd\, monroe twp\, NJ\, 08831\, United States
ATTACH;FMTTYPE=image/jpeg:https://njmom.com/wp-content/uploads/2025/12/Screenshot-2025-12-06-161549.jpg
ORGANIZER;CN="Beyond the Bug":MAILTO:beyondthebugllc@gmail.com
END:VEVENT
BEGIN:VEVENT
DTSTART;TZID=UTC:20260202T100000
DTEND;TZID=UTC:20260202T110000
DTSTAMP:20260424T221800
CREATED:20251208T133712Z
LAST-MODIFIED:20251208T133712Z
UID:10011416-1770026400-1770030000@njmom.com
SUMMARY:Beyond the Bug Preschool Series
DESCRIPTION:Spark curiosity and wonder in your little explorers with Beyond the Bug’s interactive preschool programs! These hour-long programs feature 2–3 live animal ambassadors alongside engaging hands-on activities\, games\, and crafts designed for younger learners. Each program fosters a love for nature while teaching age-appropriate lessons about the amazing animals that share our planet.
URL:https://njmom.com/event/beyond-the-bug-preschool-series/2026-02-02/
LOCATION:Monroe Twp Community Center\, 120 monmouth rd\, monroe twp\, NJ\, 08831\, United States
ATTACH;FMTTYPE=image/jpeg:https://njmom.com/wp-content/uploads/2025/12/Screenshot-2025-12-06-161549.jpg
ORGANIZER;CN="Beyond the Bug":MAILTO:beyondthebugllc@gmail.com
END:VEVENT
BEGIN:VEVENT
DTSTART;TZID=UTC:20260209T100000
DTEND;TZID=UTC:20260209T110000
DTSTAMP:20260424T221800
CREATED:20251208T133712Z
LAST-MODIFIED:20251208T133712Z
UID:10011417-1770631200-1770634800@njmom.com
SUMMARY:Beyond the Bug Preschool Series
DESCRIPTION:Spark curiosity and wonder in your little explorers with Beyond the Bug’s interactive preschool programs! These hour-long programs feature 2–3 live animal ambassadors alongside engaging hands-on activities\, games\, and crafts designed for younger learners. Each program fosters a love for nature while teaching age-appropriate lessons about the amazing animals that share our planet.
URL:https://njmom.com/event/beyond-the-bug-preschool-series/2026-02-09/
LOCATION:Monroe Twp Community Center\, 120 monmouth rd\, monroe twp\, NJ\, 08831\, United States
ATTACH;FMTTYPE=image/jpeg:https://njmom.com/wp-content/uploads/2025/12/Screenshot-2025-12-06-161549.jpg
ORGANIZER;CN="Beyond the Bug":MAILTO:beyondthebugllc@gmail.com
END:VEVENT
BEGIN:VEVENT
DTSTART;TZID=UTC:20260223T100000
DTEND;TZID=UTC:20260223T110000
DTSTAMP:20260424T221800
CREATED:20251208T133712Z
LAST-MODIFIED:20251208T133712Z
UID:10011418-1771840800-1771844400@njmom.com
SUMMARY:Beyond the Bug Preschool Series
DESCRIPTION:Spark curiosity and wonder in your little explorers with Beyond the Bug’s interactive preschool programs! These hour-long programs feature 2–3 live animal ambassadors alongside engaging hands-on activities\, games\, and crafts designed for younger learners. Each program fosters a love for nature while teaching age-appropriate lessons about the amazing animals that share our planet.
URL:https://njmom.com/event/beyond-the-bug-preschool-series/2026-02-23/
LOCATION:Monroe Twp Community Center\, 120 monmouth rd\, monroe twp\, NJ\, 08831\, United States
ATTACH;FMTTYPE=image/jpeg:https://njmom.com/wp-content/uploads/2025/12/Screenshot-2025-12-06-161549.jpg
ORGANIZER;CN="Beyond the Bug":MAILTO:beyondthebugllc@gmail.com
END:VEVENT
END:VCALENDAR