BEGIN:VCALENDAR
VERSION:2.0
PRODID:-//NJ Mom - ECPv6.15.20//NONSGML v1.0//EN
CALSCALE:GREGORIAN
METHOD:PUBLISH
X-WR-CALNAME:NJ Mom
X-ORIGINAL-URL:https://njmom.com
X-WR-CALDESC:Events for NJ Mom
REFRESH-INTERVAL;VALUE=DURATION:PT1H
X-Robots-Tag:noindex
X-PUBLISHED-TTL:PT1H
BEGIN:VTIMEZONE
TZID:UTC
BEGIN:STANDARD
TZOFFSETFROM:+0000
TZOFFSETTO:+0000
TZNAME:UTC
DTSTART:20240101T000000
END:STANDARD
END:VTIMEZONE
BEGIN:VEVENT
DTSTART;TZID=UTC:20250531T100000
DTEND;TZID=UTC:20250531T140000
DTSTAMP:20260420T085751
CREATED:20250509T133104Z
LAST-MODIFIED:20250509T133104Z
UID:10001920-1748685600-1748700000@njmom.com
SUMMARY:SPRING FLING Vendor and Fun Fair
DESCRIPTION:You do not want to miss this family friendly outdoor event! Come out to Clifton’s School 15 to enjoy our “Spring Fling” Vendor and Fun Fair! Enjoy lots of outdoor shopping from over 40 amazing vendors\, face painting\, inflatables\, balloon twisting\, food\, raffles\, and also lots of free fun for the kids. (Cash only for kids’ attractions.) Come out and have a great day with family and friends! (RAIN DATE IS 6/1)
URL:https://njmom.com/event/spring-fling-vendor-and-fun-fair/
LOCATION:School 15\, Clifton\, NJ\, 700 Gregory Ave\, Clifton\, NJ\, 07011\, United States
CATEGORIES:Free Events,Spring Festivals
ATTACH;FMTTYPE=image/png:https://njmom.com/wp-content/uploads/2025/05/IMG_8081.png
END:VEVENT
BEGIN:VEVENT
DTSTART;TZID=UTC:20250704T120000
DTEND;TZID=UTC:20250704T150000
DTSTAMP:20260420T085751
CREATED:20250616T140543Z
LAST-MODIFIED:20250616T140543Z
UID:10002838-1751630400-1751641200@njmom.com
SUMMARY:Fourth of July Festival
DESCRIPTION:Join us for our annual Fourth of July Festival! This is a free public event featuring activities at Morven Museum & Garden and the Princeton Battlefield State Park. Stop by Morven any time between 12:00 p.m. and 3:00 p.m. for activities and artmaking with community partners; garden tours; face painting; music from the Vintage Vibe Tribe; food trucks; a chance to sign the Declaration of Independence; and more. A short distance away\, check out the Princeton Battlefield State Park where you can visit the historic Clarke House and hear a reading of the Declaration of Independence at 1:00 p.m. and 3:30 p.m.
URL:https://njmom.com/event/fourth-of-july-festival/
LOCATION:Morven Museum & Garden\, 55 Stockton Street\, Princeton\, NJ\, 08540\, United States
CATEGORIES:Free Events,Summer Festivals
ATTACH;FMTTYPE=image/png:https://njmom.com/wp-content/uploads/2025/06/1.png
ORGANIZER;CN="Morven Museum &amp%3B Garden":MAILTO:info@morven.org
END:VEVENT
END:VCALENDAR