BEGIN:VCALENDAR
VERSION:2.0
PRODID:-//NJ Mom - ECPv6.15.20//NONSGML v1.0//EN
CALSCALE:GREGORIAN
METHOD:PUBLISH
X-WR-CALNAME:NJ Mom
X-ORIGINAL-URL:https://njmom.com
X-WR-CALDESC:Events for NJ Mom
REFRESH-INTERVAL;VALUE=DURATION:PT1H
X-Robots-Tag:noindex
X-PUBLISHED-TTL:PT1H
BEGIN:VTIMEZONE
TZID:UTC
BEGIN:STANDARD
TZOFFSETFROM:+0000
TZOFFSETTO:+0000
TZNAME:UTC
DTSTART:20250101T000000
END:STANDARD
END:VTIMEZONE
BEGIN:VEVENT
DTSTART;TZID=UTC:20260410T100000
DTEND;TZID=UTC:20260410T150000
DTSTAMP:20260424T054441
CREATED:20260220T135921Z
LAST-MODIFIED:20260220T135921Z
UID:10013489-1775815200-1775833200@njmom.com
SUMMARY:Opening Day at Cooper Gristmill
DESCRIPTION:Cooper Gristmill opens for the season on Friday\, April 10th at 10 AM. Here\, visitors can experience a restored historical water-powered mill. Guests can learn about the history of the region at the visitor’s center and then receive a tour of the working mill. Cooper Gristmill is open on Fridays and Sundays\, with admissions open from 10 AM to 3 PM. Admission is $5 per person\, excluding special events.
URL:https://njmom.com/event/opening-day-at-cooper-gristmill/
LOCATION:Cooper Gristmill\, 66 Route 24\, Chester\, NJ\, 07930\, United States
ATTACH;FMTTYPE=image/png:https://njmom.com/wp-content/uploads/2026/02/Cooper-Gristmill.png
END:VEVENT
BEGIN:VEVENT
DTSTART;TZID=UTC:20260411T100000
DTEND;TZID=UTC:20260411T160000
DTSTAMP:20260424T054441
CREATED:20260324T123626Z
LAST-MODIFIED:20260324T123626Z
UID:10013782-1775901600-1775923200@njmom.com
SUMMARY:Opening Weekend
DESCRIPTION:Opening Weekend features an occupation of the Village by British\, Hessian\, and Loyalist military and civilian Historical Interpreters. Enjoy historical weapons demonstrations\, 18th-century music\, children’s crafts\, and more.
URL:https://njmom.com/event/opening-weekend/2026-04-11/
LOCATION:East Jersey Old Town Village\, 1050 River Road\, Piscataway\, NJ\, 08854\, United States
CATEGORIES:Free Events
ATTACH;FMTTYPE=image/jpeg:https://njmom.com/wp-content/uploads/2026/03/2026_Arts_EJOTV_SeasonalEvents_5.5x8.5_FINAL_Page_1.jpg
ORGANIZER;CN="Middlesex County Division of History &amp%3B Historic Preservation":MAILTO:history@co.middlesex.nj.us
END:VEVENT
BEGIN:VEVENT
DTSTART;TZID=UTC:20260412T100000
DTEND;TZID=UTC:20260412T160000
DTSTAMP:20260424T054441
CREATED:20260324T123626Z
LAST-MODIFIED:20260324T123626Z
UID:10013783-1775988000-1776009600@njmom.com
SUMMARY:Opening Weekend
DESCRIPTION:Opening Weekend features an occupation of the Village by British\, Hessian\, and Loyalist military and civilian Historical Interpreters. Enjoy historical weapons demonstrations\, 18th-century music\, children’s crafts\, and more.
URL:https://njmom.com/event/opening-weekend/2026-04-12/
LOCATION:East Jersey Old Town Village\, 1050 River Road\, Piscataway\, NJ\, 08854\, United States
CATEGORIES:Free Events
ATTACH;FMTTYPE=image/jpeg:https://njmom.com/wp-content/uploads/2026/03/2026_Arts_EJOTV_SeasonalEvents_5.5x8.5_FINAL_Page_1.jpg
ORGANIZER;CN="Middlesex County Division of History &amp%3B Historic Preservation":MAILTO:history@co.middlesex.nj.us
END:VEVENT
END:VCALENDAR