BEGIN:VCALENDAR
VERSION:2.0
PRODID:-//NJ Mom - ECPv6.15.20//NONSGML v1.0//EN
CALSCALE:GREGORIAN
METHOD:PUBLISH
X-WR-CALNAME:NJ Mom
X-ORIGINAL-URL:https://njmom.com
X-WR-CALDESC:Events for NJ Mom
REFRESH-INTERVAL;VALUE=DURATION:PT1H
X-Robots-Tag:noindex
X-PUBLISHED-TTL:PT1H
BEGIN:VTIMEZONE
TZID:UTC
BEGIN:STANDARD
TZOFFSETFROM:+0000
TZOFFSETTO:+0000
TZNAME:UTC
DTSTART:20240101T000000
END:STANDARD
END:VTIMEZONE
BEGIN:VEVENT
DTSTART;TZID=UTC:20260418T090000
DTEND;TZID=UTC:20260418T160000
DTSTAMP:20260420T030121
CREATED:20260130T132020Z
LAST-MODIFIED:20260130T132020Z
UID:10013058-1776502800-1776528000@njmom.com
SUMMARY:BLOOM - Women’s Health & Wellness Expo - North NJ
DESCRIPTION:BLOOM – Women’s Wellness & Health Expo \nPublic & Vendor Event | Saturday\, April 18\, 2026 | Wayne PAL\, Wayne NJ\nAdmission: $10.00 Early Access 9am-10am\nGA: 10am-4pm $5.00\nKids 16 & younger free with paid adult \nAbout the Event \nBLOOM is an indoor women’s wellness & health expo connecting vendors with an engaged audience of 1\,000+ attendees from North Jersey. \nVendors: Showcase your products and services to a motivated wellness community.\nPublic: Discover\, learn\, and experience wellness through interactive demos\, shopping\, and more. \nWhat to Expect \n• Women’s Health\n• Holistic\n• Beauty & Body\n• Fitness & Nutrition\n• Artisan & More! \nEvent Highlights \n• 80+ wellness vendors\n• Mini spa sessions & wellness demos\n• Live wellness talks & interactive workshops\n• VIP swag bags & giveaways\n• Healthy food & beverages\n• Bring friends\, mom\, or family for a full wellness day \nVendor & Sponsorship Opportunities \nReserve your table today!\nContact: Topnotchbrandsllc10@gmail.com #womenshealth #health #womensupportingwomen #womenshealth #holistichealth #waynepal #waynenj #waynenjmoms #women #nj #newjersey #njmom @njmom @njmonthly @njhipsturbia @njradar @njdotcom
URL:https://njmom.com/event/bloom-womens-health-wellness-expo-north-nj/
LOCATION:1 pal drive wayne nj 07470\, 1 PAL Drive\, Wayne\, NJ\, 07457\, United States
CATEGORIES:Free Events,New Moms,Spring Festivals
ATTACH;FMTTYPE=image/jpeg:https://njmom.com/wp-content/uploads/2026/01/F5B176BC-1FCF-43E0-B70E-4ED41E2F42F4.jpg
ORGANIZER;CN="North Jersey Events":MAILTO:Topnotchbrandsllc10@gmail.com
END:VEVENT
BEGIN:VEVENT
DTSTART;TZID=UTC:20260301T110000
DTEND;TZID=UTC:20260301T160000
DTSTAMP:20260420T030121
CREATED:20260213T135449Z
LAST-MODIFIED:20260213T135449Z
UID:10013474-1772362800-1772380800@njmom.com
SUMMARY:Botox & Bubbles
DESCRIPTION:Sunday\, March 1 | 11:00am–4:00pm\nSalt Spa at The Reeds at Shelter Haven \nIndulge in a day of beauty\, relaxation\, and a little sparkle at Salt Spa! This exclusive event combines expert cosmetic treatments\, luxurious spa experiences\, and bubbly refreshments for the ultimate self-care Sunday. Enhance your natural beauty with Botox ($13/unit) or Daxxify ($7/unit) appointments with Dr. Laura Kasper from Aesthetic Reflections. Whether you’re looking to refresh your look\, learn about the latest skincare innovations\, or simply unwind\, this is your chance to sip\, smooth\, and glow. \nAppointments are required and can be booked directly through Salt Spa at 609.961.3009\nPlease arrive 15 minutes early\, and note that a 48-hour cancellation notice is required \nPERKS\nThroughout the day\, attendees can enjoy the following: \nChampagne + light bites\nComplimentary 10-minute chair massages\nPersonalized skincare advice from our iS Clinical representative\, Danielle\n20% off voucher for a future service\n10% off all retail products\nExclusive HydraFacial packages \nAll attendees will be entered for the chance to win our signature giveaway\, an exclusive self-car package featuring an Aesthetic Reflections gift card plus your choice of a 50-minute Classic Massage or a 50-minute Champagne Facial at Salt Spa. \nAll guests who purchase $100 or more in SkinCeuticals or iS Clinical retail during the event will be entered for the chance to win a curated Skincare Basket filled with premium favorites.
URL:https://njmom.com/event/botox-bubbles/
LOCATION:Salt Spa at The Reeds at Shelter Haven\, 9628 Third Ave\, Stone Harbor\, NJ\, 08247\, United States
CATEGORIES:Free Events
ATTACH;FMTTYPE=image/jpeg:https://njmom.com/wp-content/uploads/2026/02/TRSH_me_botox_bubbles26.jpg
END:VEVENT
BEGIN:VEVENT
DTSTART;TZID=UTC:20250914T100000
DTEND;TZID=UTC:20250914T140000
DTSTAMP:20260420T030121
CREATED:20250808T134621Z
LAST-MODIFIED:20250808T134621Z
UID:10004870-1757844000-1757858400@njmom.com
SUMMARY:Fit Fest
DESCRIPTION:Celebrate health\, movement\, and community at Fit Fest 2025\, a family-friendly outdoor festival hosted by Envision Health and Fitness. This energizing event features live group workouts including a high-energy HIIT class and a calming outdoor yoga flow. Guests can enjoy local food trucks\, shop the vendor village\, and explore health and wellness offerings. \nHighlights include:\n-Guided group fitness and yoga sessions\n-Obstacle course and kids’ fitness zone\n-Local health\, fitness & wellness vendors\n-Food trucks and prize raffles \nDon’t miss the Child’s Play Challenge Course—a ninja-style mobile obstacle course for adults and kids alike! \nBring your family\, grab your sneakers\, and join the fun.
URL:https://njmom.com/event/fit-fest/
LOCATION:Lebanon Township Memorial Park\, 67 Bunnvale Road\, Califon\, NJ\, 07830\, United States
CATEGORIES:Fall Festivals,Free Events,Summer Festivals
ATTACH;FMTTYPE=image/jpeg:https://njmom.com/wp-content/uploads/2025/08/EV_Fit-Web.jpg
ORGANIZER;CN="Envision Health and Fitness":MAILTO:info@envisiongym.com
END:VEVENT
BEGIN:VEVENT
DTSTART;TZID=UTC:20250516T090000
DTEND;TZID=UTC:20250516T120000
DTSTAMP:20260420T030121
CREATED:20250424T144344Z
LAST-MODIFIED:20250424T144344Z
UID:10001195-1747386000-1747396800@njmom.com
SUMMARY:Spring Reset Women's Mini Retreat
DESCRIPTION:Come unwind\, unplug and dive deep into healing.\nJoin us for a peaceful half-day where everything is taken care of – so you can simply relax and recharge! \nCome reconnect with your authentic self and find a place within you that has been forgotten. \nWe will nourish our body\, mind and spirit through the practices of gentle yoga\, mindfulness meditation\, reiki\, chakra clearing\, cooking demo and health coaching workshops. \nGather with other amazing women for good food\, fun experiences\, rest and relaxation. \nYou deserve this time to relax\, recharge\, and focus on what truly matters.\nTake the time to nurture your soul and return home with a heart full of joy and a renewed sense of balance.
URL:https://njmom.com/event/spring-reset-womens-mini-retreat/
LOCATION:Essex County\, livingston\, 07039\, United States
ATTACH;FMTTYPE=image/jpeg:https://njmom.com/wp-content/uploads/2025/04/spring-retreat-am-cover.jpg
ORGANIZER;CN="Abby Phon":MAILTO:info@abbyphon.com
END:VEVENT
BEGIN:VEVENT
DTSTART;TZID=UTC:20250430T180000
DTEND;TZID=UTC:20250430T210000
DTSTAMP:20260420T030121
CREATED:20250411T144706Z
LAST-MODIFIED:20250411T144706Z
UID:10001015-1746036000-1746046800@njmom.com
SUMMARY:Women's Wellness Journey
DESCRIPTION:Join us for “Women’s Wellness Journey”\, an empowering event in collaboration with Loopwell\, where women can explore expert medical insights and holistic health solutions in a serene\, welcoming space. \nImmerse yourself in a meditative sound bath by Loopwell\, refresh your mind\, and connect with leading women providers as they share guidance on self-care\, preventative health\, and wellness strategies. \nPrioritize yourself\, celebrate your health\, and embrace your wellness journey. \nSpeakers Include:\n• Valerie Allusson\, M.D.\, Administration \n• Elizabeth S. John\, M.D.\, Gastroenterology \n• Ann Chuang\, M.D.\, Breast Surgery \n• Sarah Wroclawski\, CNM\, Midwifery \n• Eva Bane\, CNM\, Midwifery \n• Laura Yapor\, M.D.\, Pulmonology
URL:https://njmom.com/event/womens-wellness-journey/
LOCATION:Loopwell\, 80 Maple Avenue\, Montclair\, NJ\, 07042\, United States
CATEGORIES:Free Events
ATTACH;FMTTYPE=image/png:https://njmom.com/wp-content/uploads/2025/04/Womens-Event-Flyer-Graphic-2025.png
ORGANIZER;CN="Hackensack Meridian Mountainside Medical Center":MAILTO:cynthia.andujar@mountainsidehosp.com
END:VEVENT
BEGIN:VEVENT
DTSTART;TZID=UTC:20250412T120000
DTEND;TZID=UTC:20250412T160000
DTSTAMP:20260420T030121
CREATED:20250220T154410Z
LAST-MODIFIED:20250220T154410Z
UID:10000652-1744459200-1744473600@njmom.com
SUMMARY:Spring into Sustainability Community Day
DESCRIPTION:Experience the beauty of Kean Skylands at our Spring into Sustainability event on Saturday\, April 12\, 2025\, from 12:00 – 4:00 p.m. at 243 Mount Paul Road\, Oak Ridge\, NJ 07438. This serene 40-acre protected campus in Jefferson Township offers a peaceful escape into nature\, perfect for families\, students\, and community members. \nEnjoy FREE activities for all ages\, including:\n✅ Face painting\n✅ Games\n✅ Crafts\n✅ Live demonstrations\n✅ Educational workshops\n✅ And much more! \nFeel free to bring a small picnic as you explore the scenic landscape. To RSVP and learn more\, visit: kean.edu/kean-skylands. Don’t miss this exciting day of learning\, fun\, and sustainability! 🌿♻️
URL:https://njmom.com/event/spring-into-sustainability-community-day/
LOCATION:Kean Skylands\, 243 Mount Paul Road\, Oak Ridge\, 07438\, United States
CATEGORIES:Free Events
ATTACH;FMTTYPE=image/jpeg:https://njmom.com/wp-content/uploads/2025/02/Flyer-Spring-Community-Day-Final.jpg
END:VEVENT
END:VCALENDAR