BEGIN:VCALENDAR
VERSION:2.0
PRODID:-//NJ Mom - ECPv6.15.20//NONSGML v1.0//EN
CALSCALE:GREGORIAN
METHOD:PUBLISH
X-ORIGINAL-URL:https://njmom.com
X-WR-CALDESC:Events for NJ Mom
REFRESH-INTERVAL;VALUE=DURATION:PT1H
X-Robots-Tag:noindex
X-PUBLISHED-TTL:PT1H
BEGIN:VTIMEZONE
TZID:UTC
BEGIN:STANDARD
TZOFFSETFROM:+0000
TZOFFSETTO:+0000
TZNAME:UTC
DTSTART:20250101T000000
END:STANDARD
END:VTIMEZONE
BEGIN:VEVENT
DTSTART;TZID=UTC:20260202T100000
DTEND;TZID=UTC:20260202T110000
DTSTAMP:20260424T015843
CREATED:20251208T133712Z
LAST-MODIFIED:20251208T133712Z
UID:10011416-1770026400-1770030000@njmom.com
SUMMARY:Beyond the Bug Preschool Series
DESCRIPTION:Spark curiosity and wonder in your little explorers with Beyond the Bug’s interactive preschool programs! These hour-long programs feature 2–3 live animal ambassadors alongside engaging hands-on activities\, games\, and crafts designed for younger learners. Each program fosters a love for nature while teaching age-appropriate lessons about the amazing animals that share our planet.
URL:https://njmom.com/event/beyond-the-bug-preschool-series/2026-02-02/
LOCATION:Monroe Twp Community Center\, 120 monmouth rd\, monroe twp\, NJ\, 08831\, United States
ATTACH;FMTTYPE=image/jpeg:https://njmom.com/wp-content/uploads/2025/12/Screenshot-2025-12-06-161549.jpg
ORGANIZER;CN="Beyond the Bug":MAILTO:beyondthebugllc@gmail.com
END:VEVENT
BEGIN:VEVENT
DTSTART;TZID=UTC:20260209T100000
DTEND;TZID=UTC:20260209T110000
DTSTAMP:20260424T015843
CREATED:20251208T133712Z
LAST-MODIFIED:20251208T133712Z
UID:10011417-1770631200-1770634800@njmom.com
SUMMARY:Beyond the Bug Preschool Series
DESCRIPTION:Spark curiosity and wonder in your little explorers with Beyond the Bug’s interactive preschool programs! These hour-long programs feature 2–3 live animal ambassadors alongside engaging hands-on activities\, games\, and crafts designed for younger learners. Each program fosters a love for nature while teaching age-appropriate lessons about the amazing animals that share our planet.
URL:https://njmom.com/event/beyond-the-bug-preschool-series/2026-02-09/
LOCATION:Monroe Twp Community Center\, 120 monmouth rd\, monroe twp\, NJ\, 08831\, United States
ATTACH;FMTTYPE=image/jpeg:https://njmom.com/wp-content/uploads/2025/12/Screenshot-2025-12-06-161549.jpg
ORGANIZER;CN="Beyond the Bug":MAILTO:beyondthebugllc@gmail.com
END:VEVENT
BEGIN:VEVENT
DTSTART;TZID=UTC:20260217T150000
DTEND;TZID=UTC:20260217T170000
DTSTAMP:20260424T015843
CREATED:20260218T133205Z
LAST-MODIFIED:20260218T133205Z
UID:10013482-1771340400-1771347600@njmom.com
SUMMARY:Chris Funk The Wonderist - Redefining Wonder
DESCRIPTION:Chris Funk’s “Redefining Wonder” is an engaging multimedia experience that will have your family talking and scratching their heads for years to come. Finally\, a MAGIC SHOW WITH LIVE MUSIC! Chris has pioneered the use of instruments like the violin\, guitar\, sax and more into his illusions. \nChris’ parents wanted him to be a musician\, but he wanted to be a magician. In “Redefining Wonder\,” he combines his love for music and magic in a show unlike any other. Whether it’s a violin concerto to a magical dancing sheet of music to impossibly suspending various instruments on stage\, you’ve never seen anything quite like it. With a live-feed camera and interactive videos to bring audiences up onstage and into the action\, Chris Funk’s “Redefining Wonder” is a show your whole family will love! \nFrom NBC’s “America’s Got Talent\,” the CW’s “Penn & Teller: Fool Us” and “Masters of Illusion\,” Fox’s “Hell’s Kitchen\,” and Syfy’s “Wizard Wars\,” Chris’ unique approach to magic has delighted audiences at Las Vegas’ Planet Hollywood\, Venetian\, Mandalay Bay\, Rio\, and Tropicana casinos as well as residencies at Disney. In addition to his own touring\, Chris has starred in the major touring magic production “Masters of Illusion LIVE.” His performances have earned him standing ovations and a reputation for excellence.
URL:https://njmom.com/event/chris-funk-the-wonderist-redefining-wonder-2/
LOCATION:Union County Performing Arts Center\, 1601 Irving Street\, Rahway\, NJ\, 07065\, United States
ATTACH;FMTTYPE=image/jpeg:https://njmom.com/wp-content/uploads/2026/02/UCPAC_2026_ChrisFunk_DIGITAL_1080x1080-1.jpg
ORGANIZER;CN="Union County Performing Arts Center":MAILTO:boxoffice@ucpac.org
END:VEVENT
BEGIN:VEVENT
DTSTART;TZID=UTC:20260223T100000
DTEND;TZID=UTC:20260223T110000
DTSTAMP:20260424T015843
CREATED:20251208T133712Z
LAST-MODIFIED:20251208T133712Z
UID:10011418-1771840800-1771844400@njmom.com
SUMMARY:Beyond the Bug Preschool Series
DESCRIPTION:Spark curiosity and wonder in your little explorers with Beyond the Bug’s interactive preschool programs! These hour-long programs feature 2–3 live animal ambassadors alongside engaging hands-on activities\, games\, and crafts designed for younger learners. Each program fosters a love for nature while teaching age-appropriate lessons about the amazing animals that share our planet.
URL:https://njmom.com/event/beyond-the-bug-preschool-series/2026-02-23/
LOCATION:Monroe Twp Community Center\, 120 monmouth rd\, monroe twp\, NJ\, 08831\, United States
ATTACH;FMTTYPE=image/jpeg:https://njmom.com/wp-content/uploads/2025/12/Screenshot-2025-12-06-161549.jpg
ORGANIZER;CN="Beyond the Bug":MAILTO:beyondthebugllc@gmail.com
END:VEVENT
END:VCALENDAR