BEGIN:VCALENDAR
VERSION:2.0
PRODID:-//NJ Mom - ECPv6.15.20//NONSGML v1.0//EN
CALSCALE:GREGORIAN
METHOD:PUBLISH
X-ORIGINAL-URL:https://njmom.com
X-WR-CALDESC:Events for NJ Mom
REFRESH-INTERVAL;VALUE=DURATION:PT1H
X-Robots-Tag:noindex
X-PUBLISHED-TTL:PT1H
BEGIN:VTIMEZONE
TZID:UTC
BEGIN:STANDARD
TZOFFSETFROM:+0000
TZOFFSETTO:+0000
TZNAME:UTC
DTSTART:20250101T000000
END:STANDARD
END:VTIMEZONE
BEGIN:VEVENT
DTSTART;TZID=UTC:20260308T140000
DTEND;TZID=UTC:20260308T160000
DTSTAMP:20260422T155749
CREATED:20260115T141330Z
LAST-MODIFIED:20260115T141330Z
UID:10011709-1772978400-1772985600@njmom.com
SUMMARY:The Magic School Bus: Lost in the Solar System
DESCRIPTION:“The Magic School Bus: Lost in the Solar System” is written by Marshall Pailet (book) and Matthew Lee Robinson (music & lyrics)\, based on the book series by Joanna Cole and Bruce Degen. Families will love watching their favorite characters from the classic book & TV series explore the atmosphere on Mercury\, Venus\, and Mars on an epic interplanetary field trip. Guided by Ms. Frizzle\, the class must pull together to find their way across the galaxy while learning as much about teamwork as they do about the solar system. \nRecommended for ages 4-10.
URL:https://njmom.com/event/the-magic-school-bus-lost-in-the-solar-system-2/
LOCATION:Union County Performing Arts Center\, 1601 Irving Street\, Rahway\, NJ\, 07065\, United States
ATTACH;FMTTYPE=image/jpeg:https://njmom.com/wp-content/uploads/2026/01/MSB-1080x1080-smaller-file-1.jpg
ORGANIZER;CN="Union County Performing Arts Center":MAILTO:boxoffice@ucpac.org
END:VEVENT
END:VCALENDAR