BEGIN:VCALENDAR
VERSION:2.0
PRODID:-//NJ Mom - ECPv6.15.20//NONSGML v1.0//EN
CALSCALE:GREGORIAN
METHOD:PUBLISH
X-ORIGINAL-URL:https://njmom.com
X-WR-CALDESC:Events for NJ Mom
REFRESH-INTERVAL;VALUE=DURATION:PT1H
X-Robots-Tag:noindex
X-PUBLISHED-TTL:PT1H
BEGIN:VTIMEZONE
TZID:UTC
BEGIN:STANDARD
TZOFFSETFROM:+0000
TZOFFSETTO:+0000
TZNAME:UTC
DTSTART:20240101T000000
END:STANDARD
END:VTIMEZONE
BEGIN:VEVENT
DTSTART;TZID=UTC:20260212T100000
DTEND;TZID=UTC:20260212T120000
DTSTAMP:20260422T181349
CREATED:20260130T131825Z
LAST-MODIFIED:20260130T131839Z
UID:10013057-1770890400-1770897600@njmom.com
SUMMARY:Valentine’s Day Play & Swim at Five Star Swim School - Eatontown NJ
DESCRIPTION:Enjoy a relaxed\, family-friendly morning filled with swimming\, play\, and bonding. Our heated indoor pool and padded play area make it the perfect spot for parents\, caregivers\, and children to spend quality time together while having fun and socializing with other families! \nJoin us on Thursday\, February 12th\, from 10:00 AM to 12:00 PM\, for our special Valentine’s Day Play&Swim. Enjoy free Valentine’s crafts and snacks\, homeschool groups welcome! \nPrice: $15 for a parent and child pair. Additional parents are $5\, and extra children are $10. \nWe can’t wait to see you in the pool!
URL:https://njmom.com/event/valentines-day-playswim-at-five-star-swim-school-eatontown-nj/
LOCATION:Five Star Swim School –  Eatontown NJ\, 1 Corbett Way 07724\, Eatontown\, NJ\, 07724\, United States
CATEGORIES:Valentine's Day
ATTACH;FMTTYPE=image/jpeg:https://njmom.com/wp-content/uploads/2026/01/NJMOM-Valentines-Day-PlaySwim-Eatontown-Feb-12.jpg
ORGANIZER;CN="Five Star Swim School - Eatontown NJ":MAILTO:Eatontown@FSSwimSchool.com
END:VEVENT
BEGIN:VEVENT
DTSTART;TZID=UTC:20251017T170000
DTEND;TZID=UTC:20251017T190000
DTSTAMP:20260422T181349
CREATED:20251007T122404Z
LAST-MODIFIED:20251007T122404Z
UID:10008464-1760720400-1760727600@njmom.com
SUMMARY:Pumpkin Plunge at Five Star Swim School - Edison NJ
DESCRIPTION:Our Beloved Annual Halloween Pool Party is BACK!! \nYou’re invited on October 17th from 5:00pm-7:00pm! \nJoin us for a splashing good time at our annual Halloween celebration. Swim alongside floating 10-pound pumpkins and discover the wonders of physics in the pool! After swimming\, decorate your very own pumpkin to take home\, enjoy delicious snacks\, and spend time with friends and family. \nThe price per child is $20. Spots fill up quickly – reserve yours today and make this Halloween unforgettable! \nCostumes are encouraged after swimming to keep the festive spirit alive.
URL:https://njmom.com/event/pumpkin-plunge-at-five-star-swim-school-edison-nj/
LOCATION:Five Star Swim School – Edison NJ\, 1655 Oak Tree Rd\, Edison\, NJ\, 08820\, United States
ATTACH;FMTTYPE=image/jpeg:https://njmom.com/wp-content/uploads/2025/10/NJMOM-Pumpkin-Plunge-October-2025-1-4.jpg
ORGANIZER;CN="Five Star Swim School - Edison NJ":MAILTO:edison@fsswimschool.com
END:VEVENT
BEGIN:VEVENT
DTSTART;TZID=UTC:20250830T163000
DTEND;TZID=UTC:20250830T173000
DTSTAMP:20260422T181349
CREATED:20250529T135836Z
LAST-MODIFIED:20250529T135836Z
UID:10002648-1756571400-1756575000@njmom.com
SUMMARY:Grow it Green Morristown's Tyke Time - Fun on the Farm with Farmer Kim!
DESCRIPTION:One-hour\, teacher-led classes encourage curiosity and exploration at our beautiful Urban Farm on Thursdays and Saturdays from June through August. Children 2-5 years old meet our farmers\, chat with our chickens and taste farm-fresh produce. Registration is $12 per child and each child will receive a $2 coupon to shop our Urban Farm Stand. Pre-registration is required (https://www.growitgreenmorristown.org/tyke-time) and includes a waiver that must be completed for each child (once per year). Classes are in English and limited to 12 children.
URL:https://njmom.com/event/grow-it-green-morristowns-tyke-time-fun-on-the-farm-with-farmer-kim/2025-08-30/
LOCATION:Grow it Green Morristown Urban Farm\, 31 Hazel Street\, Morristown\, NJ\, 07960\, United States
ATTACH;FMTTYPE=image/jpeg:https://njmom.com/wp-content/uploads/2025/05/Tyke-Time-25-Flyer-1.jpg
END:VEVENT
BEGIN:VEVENT
DTSTART;TZID=UTC:20250828T163000
DTEND;TZID=UTC:20250828T173000
DTSTAMP:20260422T181349
CREATED:20250529T135836Z
LAST-MODIFIED:20250529T135836Z
UID:10002124-1756398600-1756402200@njmom.com
SUMMARY:Grow it Green Morristown's Tyke Time - Fun on the Farm with Farmer Kim!
DESCRIPTION:One-hour\, teacher-led classes encourage curiosity and exploration at our beautiful Urban Farm on Thursdays and Saturdays from June through August. Children 2-5 years old meet our farmers\, chat with our chickens and taste farm-fresh produce. Registration is $12 per child and each child will receive a $2 coupon to shop our Urban Farm Stand. Pre-registration is required (https://www.growitgreenmorristown.org/tyke-time) and includes a waiver that must be completed for each child (once per year). Classes are in English and limited to 12 children.
URL:https://njmom.com/event/grow-it-green-morristowns-tyke-time-fun-on-the-farm-with-farmer-kim/2025-08-28/
LOCATION:Grow it Green Morristown Urban Farm\, 31 Hazel Street\, Morristown\, NJ\, 07960\, United States
ATTACH;FMTTYPE=image/jpeg:https://njmom.com/wp-content/uploads/2025/05/Tyke-Time-25-Flyer-1.jpg
END:VEVENT
BEGIN:VEVENT
DTSTART;TZID=UTC:20250823T163000
DTEND;TZID=UTC:20250823T173000
DTSTAMP:20260422T181349
CREATED:20250529T135836Z
LAST-MODIFIED:20250529T135836Z
UID:10002647-1755966600-1755970200@njmom.com
SUMMARY:Grow it Green Morristown's Tyke Time - Fun on the Farm with Farmer Kim!
DESCRIPTION:One-hour\, teacher-led classes encourage curiosity and exploration at our beautiful Urban Farm on Thursdays and Saturdays from June through August. Children 2-5 years old meet our farmers\, chat with our chickens and taste farm-fresh produce. Registration is $12 per child and each child will receive a $2 coupon to shop our Urban Farm Stand. Pre-registration is required (https://www.growitgreenmorristown.org/tyke-time) and includes a waiver that must be completed for each child (once per year). Classes are in English and limited to 12 children.
URL:https://njmom.com/event/grow-it-green-morristowns-tyke-time-fun-on-the-farm-with-farmer-kim/2025-08-23/
LOCATION:Grow it Green Morristown Urban Farm\, 31 Hazel Street\, Morristown\, NJ\, 07960\, United States
ATTACH;FMTTYPE=image/jpeg:https://njmom.com/wp-content/uploads/2025/05/Tyke-Time-25-Flyer-1.jpg
END:VEVENT
BEGIN:VEVENT
DTSTART;TZID=UTC:20250821T163000
DTEND;TZID=UTC:20250821T173000
DTSTAMP:20260422T181349
CREATED:20250529T135836Z
LAST-MODIFIED:20250529T135836Z
UID:10002123-1755793800-1755797400@njmom.com
SUMMARY:Grow it Green Morristown's Tyke Time - Fun on the Farm with Farmer Kim!
DESCRIPTION:One-hour\, teacher-led classes encourage curiosity and exploration at our beautiful Urban Farm on Thursdays and Saturdays from June through August. Children 2-5 years old meet our farmers\, chat with our chickens and taste farm-fresh produce. Registration is $12 per child and each child will receive a $2 coupon to shop our Urban Farm Stand. Pre-registration is required (https://www.growitgreenmorristown.org/tyke-time) and includes a waiver that must be completed for each child (once per year). Classes are in English and limited to 12 children.
URL:https://njmom.com/event/grow-it-green-morristowns-tyke-time-fun-on-the-farm-with-farmer-kim/2025-08-21/
LOCATION:Grow it Green Morristown Urban Farm\, 31 Hazel Street\, Morristown\, NJ\, 07960\, United States
ATTACH;FMTTYPE=image/jpeg:https://njmom.com/wp-content/uploads/2025/05/Tyke-Time-25-Flyer-1.jpg
END:VEVENT
BEGIN:VEVENT
DTSTART;TZID=UTC:20250816T163000
DTEND;TZID=UTC:20250816T173000
DTSTAMP:20260422T181349
CREATED:20250529T135836Z
LAST-MODIFIED:20250529T135836Z
UID:10002646-1755361800-1755365400@njmom.com
SUMMARY:Grow it Green Morristown's Tyke Time - Fun on the Farm with Farmer Kim!
DESCRIPTION:One-hour\, teacher-led classes encourage curiosity and exploration at our beautiful Urban Farm on Thursdays and Saturdays from June through August. Children 2-5 years old meet our farmers\, chat with our chickens and taste farm-fresh produce. Registration is $12 per child and each child will receive a $2 coupon to shop our Urban Farm Stand. Pre-registration is required (https://www.growitgreenmorristown.org/tyke-time) and includes a waiver that must be completed for each child (once per year). Classes are in English and limited to 12 children.
URL:https://njmom.com/event/grow-it-green-morristowns-tyke-time-fun-on-the-farm-with-farmer-kim/2025-08-16/
LOCATION:Grow it Green Morristown Urban Farm\, 31 Hazel Street\, Morristown\, NJ\, 07960\, United States
ATTACH;FMTTYPE=image/jpeg:https://njmom.com/wp-content/uploads/2025/05/Tyke-Time-25-Flyer-1.jpg
END:VEVENT
BEGIN:VEVENT
DTSTART;TZID=UTC:20250814T163000
DTEND;TZID=UTC:20250814T173000
DTSTAMP:20260422T181349
CREATED:20250529T135836Z
LAST-MODIFIED:20250529T135836Z
UID:10002122-1755189000-1755192600@njmom.com
SUMMARY:Grow it Green Morristown's Tyke Time - Fun on the Farm with Farmer Kim!
DESCRIPTION:One-hour\, teacher-led classes encourage curiosity and exploration at our beautiful Urban Farm on Thursdays and Saturdays from June through August. Children 2-5 years old meet our farmers\, chat with our chickens and taste farm-fresh produce. Registration is $12 per child and each child will receive a $2 coupon to shop our Urban Farm Stand. Pre-registration is required (https://www.growitgreenmorristown.org/tyke-time) and includes a waiver that must be completed for each child (once per year). Classes are in English and limited to 12 children.
URL:https://njmom.com/event/grow-it-green-morristowns-tyke-time-fun-on-the-farm-with-farmer-kim/2025-08-14/
LOCATION:Grow it Green Morristown Urban Farm\, 31 Hazel Street\, Morristown\, NJ\, 07960\, United States
ATTACH;FMTTYPE=image/jpeg:https://njmom.com/wp-content/uploads/2025/05/Tyke-Time-25-Flyer-1.jpg
END:VEVENT
BEGIN:VEVENT
DTSTART;TZID=UTC:20250809T163000
DTEND;TZID=UTC:20250809T173000
DTSTAMP:20260422T181349
CREATED:20250529T135836Z
LAST-MODIFIED:20250529T135836Z
UID:10002645-1754757000-1754760600@njmom.com
SUMMARY:Grow it Green Morristown's Tyke Time - Fun on the Farm with Farmer Kim!
DESCRIPTION:One-hour\, teacher-led classes encourage curiosity and exploration at our beautiful Urban Farm on Thursdays and Saturdays from June through August. Children 2-5 years old meet our farmers\, chat with our chickens and taste farm-fresh produce. Registration is $12 per child and each child will receive a $2 coupon to shop our Urban Farm Stand. Pre-registration is required (https://www.growitgreenmorristown.org/tyke-time) and includes a waiver that must be completed for each child (once per year). Classes are in English and limited to 12 children.
URL:https://njmom.com/event/grow-it-green-morristowns-tyke-time-fun-on-the-farm-with-farmer-kim/2025-08-09/
LOCATION:Grow it Green Morristown Urban Farm\, 31 Hazel Street\, Morristown\, NJ\, 07960\, United States
ATTACH;FMTTYPE=image/jpeg:https://njmom.com/wp-content/uploads/2025/05/Tyke-Time-25-Flyer-1.jpg
END:VEVENT
BEGIN:VEVENT
DTSTART;TZID=UTC:20250807T163000
DTEND;TZID=UTC:20250807T173000
DTSTAMP:20260422T181349
CREATED:20250529T135836Z
LAST-MODIFIED:20250529T135836Z
UID:10002121-1754584200-1754587800@njmom.com
SUMMARY:Grow it Green Morristown's Tyke Time - Fun on the Farm with Farmer Kim!
DESCRIPTION:One-hour\, teacher-led classes encourage curiosity and exploration at our beautiful Urban Farm on Thursdays and Saturdays from June through August. Children 2-5 years old meet our farmers\, chat with our chickens and taste farm-fresh produce. Registration is $12 per child and each child will receive a $2 coupon to shop our Urban Farm Stand. Pre-registration is required (https://www.growitgreenmorristown.org/tyke-time) and includes a waiver that must be completed for each child (once per year). Classes are in English and limited to 12 children.
URL:https://njmom.com/event/grow-it-green-morristowns-tyke-time-fun-on-the-farm-with-farmer-kim/2025-08-07/
LOCATION:Grow it Green Morristown Urban Farm\, 31 Hazel Street\, Morristown\, NJ\, 07960\, United States
ATTACH;FMTTYPE=image/jpeg:https://njmom.com/wp-content/uploads/2025/05/Tyke-Time-25-Flyer-1.jpg
END:VEVENT
BEGIN:VEVENT
DTSTART;TZID=UTC:20250802T163000
DTEND;TZID=UTC:20250802T173000
DTSTAMP:20260422T181349
CREATED:20250529T135836Z
LAST-MODIFIED:20250529T135836Z
UID:10002644-1754152200-1754155800@njmom.com
SUMMARY:Grow it Green Morristown's Tyke Time - Fun on the Farm with Farmer Kim!
DESCRIPTION:One-hour\, teacher-led classes encourage curiosity and exploration at our beautiful Urban Farm on Thursdays and Saturdays from June through August. Children 2-5 years old meet our farmers\, chat with our chickens and taste farm-fresh produce. Registration is $12 per child and each child will receive a $2 coupon to shop our Urban Farm Stand. Pre-registration is required (https://www.growitgreenmorristown.org/tyke-time) and includes a waiver that must be completed for each child (once per year). Classes are in English and limited to 12 children.
URL:https://njmom.com/event/grow-it-green-morristowns-tyke-time-fun-on-the-farm-with-farmer-kim/2025-08-02/
LOCATION:Grow it Green Morristown Urban Farm\, 31 Hazel Street\, Morristown\, NJ\, 07960\, United States
ATTACH;FMTTYPE=image/jpeg:https://njmom.com/wp-content/uploads/2025/05/Tyke-Time-25-Flyer-1.jpg
END:VEVENT
BEGIN:VEVENT
DTSTART;TZID=UTC:20250731T163000
DTEND;TZID=UTC:20250731T173000
DTSTAMP:20260422T181349
CREATED:20250529T135836Z
LAST-MODIFIED:20250529T135836Z
UID:10002120-1753979400-1753983000@njmom.com
SUMMARY:Grow it Green Morristown's Tyke Time - Fun on the Farm with Farmer Kim!
DESCRIPTION:One-hour\, teacher-led classes encourage curiosity and exploration at our beautiful Urban Farm on Thursdays and Saturdays from June through August. Children 2-5 years old meet our farmers\, chat with our chickens and taste farm-fresh produce. Registration is $12 per child and each child will receive a $2 coupon to shop our Urban Farm Stand. Pre-registration is required (https://www.growitgreenmorristown.org/tyke-time) and includes a waiver that must be completed for each child (once per year). Classes are in English and limited to 12 children.
URL:https://njmom.com/event/grow-it-green-morristowns-tyke-time-fun-on-the-farm-with-farmer-kim/2025-07-31/
LOCATION:Grow it Green Morristown Urban Farm\, 31 Hazel Street\, Morristown\, NJ\, 07960\, United States
ATTACH;FMTTYPE=image/jpeg:https://njmom.com/wp-content/uploads/2025/05/Tyke-Time-25-Flyer-1.jpg
END:VEVENT
BEGIN:VEVENT
DTSTART;TZID=UTC:20250726T163000
DTEND;TZID=UTC:20250726T173000
DTSTAMP:20260422T181349
CREATED:20250529T135836Z
LAST-MODIFIED:20250529T135836Z
UID:10002643-1753547400-1753551000@njmom.com
SUMMARY:Grow it Green Morristown's Tyke Time - Fun on the Farm with Farmer Kim!
DESCRIPTION:One-hour\, teacher-led classes encourage curiosity and exploration at our beautiful Urban Farm on Thursdays and Saturdays from June through August. Children 2-5 years old meet our farmers\, chat with our chickens and taste farm-fresh produce. Registration is $12 per child and each child will receive a $2 coupon to shop our Urban Farm Stand. Pre-registration is required (https://www.growitgreenmorristown.org/tyke-time) and includes a waiver that must be completed for each child (once per year). Classes are in English and limited to 12 children.
URL:https://njmom.com/event/grow-it-green-morristowns-tyke-time-fun-on-the-farm-with-farmer-kim/2025-07-26/
LOCATION:Grow it Green Morristown Urban Farm\, 31 Hazel Street\, Morristown\, NJ\, 07960\, United States
ATTACH;FMTTYPE=image/jpeg:https://njmom.com/wp-content/uploads/2025/05/Tyke-Time-25-Flyer-1.jpg
END:VEVENT
BEGIN:VEVENT
DTSTART;TZID=UTC:20250724T163000
DTEND;TZID=UTC:20250724T173000
DTSTAMP:20260422T181349
CREATED:20250529T135836Z
LAST-MODIFIED:20250529T135836Z
UID:10002119-1753374600-1753378200@njmom.com
SUMMARY:Grow it Green Morristown's Tyke Time - Fun on the Farm with Farmer Kim!
DESCRIPTION:One-hour\, teacher-led classes encourage curiosity and exploration at our beautiful Urban Farm on Thursdays and Saturdays from June through August. Children 2-5 years old meet our farmers\, chat with our chickens and taste farm-fresh produce. Registration is $12 per child and each child will receive a $2 coupon to shop our Urban Farm Stand. Pre-registration is required (https://www.growitgreenmorristown.org/tyke-time) and includes a waiver that must be completed for each child (once per year). Classes are in English and limited to 12 children.
URL:https://njmom.com/event/grow-it-green-morristowns-tyke-time-fun-on-the-farm-with-farmer-kim/2025-07-24/
LOCATION:Grow it Green Morristown Urban Farm\, 31 Hazel Street\, Morristown\, NJ\, 07960\, United States
ATTACH;FMTTYPE=image/jpeg:https://njmom.com/wp-content/uploads/2025/05/Tyke-Time-25-Flyer-1.jpg
END:VEVENT
BEGIN:VEVENT
DTSTART;TZID=UTC:20250719T163000
DTEND;TZID=UTC:20250719T173000
DTSTAMP:20260422T181349
CREATED:20250529T135836Z
LAST-MODIFIED:20250529T135836Z
UID:10002642-1752942600-1752946200@njmom.com
SUMMARY:Grow it Green Morristown's Tyke Time - Fun on the Farm with Farmer Kim!
DESCRIPTION:One-hour\, teacher-led classes encourage curiosity and exploration at our beautiful Urban Farm on Thursdays and Saturdays from June through August. Children 2-5 years old meet our farmers\, chat with our chickens and taste farm-fresh produce. Registration is $12 per child and each child will receive a $2 coupon to shop our Urban Farm Stand. Pre-registration is required (https://www.growitgreenmorristown.org/tyke-time) and includes a waiver that must be completed for each child (once per year). Classes are in English and limited to 12 children.
URL:https://njmom.com/event/grow-it-green-morristowns-tyke-time-fun-on-the-farm-with-farmer-kim/2025-07-19/
LOCATION:Grow it Green Morristown Urban Farm\, 31 Hazel Street\, Morristown\, NJ\, 07960\, United States
ATTACH;FMTTYPE=image/jpeg:https://njmom.com/wp-content/uploads/2025/05/Tyke-Time-25-Flyer-1.jpg
END:VEVENT
BEGIN:VEVENT
DTSTART;TZID=UTC:20250717T163000
DTEND;TZID=UTC:20250717T173000
DTSTAMP:20260422T181349
CREATED:20250529T135836Z
LAST-MODIFIED:20250529T135836Z
UID:10002118-1752769800-1752773400@njmom.com
SUMMARY:Grow it Green Morristown's Tyke Time - Fun on the Farm with Farmer Kim!
DESCRIPTION:One-hour\, teacher-led classes encourage curiosity and exploration at our beautiful Urban Farm on Thursdays and Saturdays from June through August. Children 2-5 years old meet our farmers\, chat with our chickens and taste farm-fresh produce. Registration is $12 per child and each child will receive a $2 coupon to shop our Urban Farm Stand. Pre-registration is required (https://www.growitgreenmorristown.org/tyke-time) and includes a waiver that must be completed for each child (once per year). Classes are in English and limited to 12 children.
URL:https://njmom.com/event/grow-it-green-morristowns-tyke-time-fun-on-the-farm-with-farmer-kim/2025-07-17/
LOCATION:Grow it Green Morristown Urban Farm\, 31 Hazel Street\, Morristown\, NJ\, 07960\, United States
ATTACH;FMTTYPE=image/jpeg:https://njmom.com/wp-content/uploads/2025/05/Tyke-Time-25-Flyer-1.jpg
END:VEVENT
BEGIN:VEVENT
DTSTART;TZID=UTC:20250712T163000
DTEND;TZID=UTC:20250712T173000
DTSTAMP:20260422T181349
CREATED:20250529T135836Z
LAST-MODIFIED:20250529T135836Z
UID:10002641-1752337800-1752341400@njmom.com
SUMMARY:Grow it Green Morristown's Tyke Time - Fun on the Farm with Farmer Kim!
DESCRIPTION:One-hour\, teacher-led classes encourage curiosity and exploration at our beautiful Urban Farm on Thursdays and Saturdays from June through August. Children 2-5 years old meet our farmers\, chat with our chickens and taste farm-fresh produce. Registration is $12 per child and each child will receive a $2 coupon to shop our Urban Farm Stand. Pre-registration is required (https://www.growitgreenmorristown.org/tyke-time) and includes a waiver that must be completed for each child (once per year). Classes are in English and limited to 12 children.
URL:https://njmom.com/event/grow-it-green-morristowns-tyke-time-fun-on-the-farm-with-farmer-kim/2025-07-12/
LOCATION:Grow it Green Morristown Urban Farm\, 31 Hazel Street\, Morristown\, NJ\, 07960\, United States
ATTACH;FMTTYPE=image/jpeg:https://njmom.com/wp-content/uploads/2025/05/Tyke-Time-25-Flyer-1.jpg
END:VEVENT
BEGIN:VEVENT
DTSTART;TZID=UTC:20250710T163000
DTEND;TZID=UTC:20250710T173000
DTSTAMP:20260422T181349
CREATED:20250529T135836Z
LAST-MODIFIED:20250529T135836Z
UID:10002117-1752165000-1752168600@njmom.com
SUMMARY:Grow it Green Morristown's Tyke Time - Fun on the Farm with Farmer Kim!
DESCRIPTION:One-hour\, teacher-led classes encourage curiosity and exploration at our beautiful Urban Farm on Thursdays and Saturdays from June through August. Children 2-5 years old meet our farmers\, chat with our chickens and taste farm-fresh produce. Registration is $12 per child and each child will receive a $2 coupon to shop our Urban Farm Stand. Pre-registration is required (https://www.growitgreenmorristown.org/tyke-time) and includes a waiver that must be completed for each child (once per year). Classes are in English and limited to 12 children.
URL:https://njmom.com/event/grow-it-green-morristowns-tyke-time-fun-on-the-farm-with-farmer-kim/2025-07-10/
LOCATION:Grow it Green Morristown Urban Farm\, 31 Hazel Street\, Morristown\, NJ\, 07960\, United States
ATTACH;FMTTYPE=image/jpeg:https://njmom.com/wp-content/uploads/2025/05/Tyke-Time-25-Flyer-1.jpg
END:VEVENT
BEGIN:VEVENT
DTSTART;TZID=UTC:20250705T163000
DTEND;TZID=UTC:20250705T173000
DTSTAMP:20260422T181349
CREATED:20250529T135836Z
LAST-MODIFIED:20250529T135836Z
UID:10002640-1751733000-1751736600@njmom.com
SUMMARY:Grow it Green Morristown's Tyke Time - Fun on the Farm with Farmer Kim!
DESCRIPTION:One-hour\, teacher-led classes encourage curiosity and exploration at our beautiful Urban Farm on Thursdays and Saturdays from June through August. Children 2-5 years old meet our farmers\, chat with our chickens and taste farm-fresh produce. Registration is $12 per child and each child will receive a $2 coupon to shop our Urban Farm Stand. Pre-registration is required (https://www.growitgreenmorristown.org/tyke-time) and includes a waiver that must be completed for each child (once per year). Classes are in English and limited to 12 children.
URL:https://njmom.com/event/grow-it-green-morristowns-tyke-time-fun-on-the-farm-with-farmer-kim/2025-07-05/
LOCATION:Grow it Green Morristown Urban Farm\, 31 Hazel Street\, Morristown\, NJ\, 07960\, United States
ATTACH;FMTTYPE=image/jpeg:https://njmom.com/wp-content/uploads/2025/05/Tyke-Time-25-Flyer-1.jpg
END:VEVENT
BEGIN:VEVENT
DTSTART;TZID=UTC:20250628T163000
DTEND;TZID=UTC:20250628T173000
DTSTAMP:20260422T181349
CREATED:20250529T135836Z
LAST-MODIFIED:20250529T135836Z
UID:10002639-1751128200-1751131800@njmom.com
SUMMARY:Grow it Green Morristown's Tyke Time - Fun on the Farm with Farmer Kim!
DESCRIPTION:One-hour\, teacher-led classes encourage curiosity and exploration at our beautiful Urban Farm on Thursdays and Saturdays from June through August. Children 2-5 years old meet our farmers\, chat with our chickens and taste farm-fresh produce. Registration is $12 per child and each child will receive a $2 coupon to shop our Urban Farm Stand. Pre-registration is required (https://www.growitgreenmorristown.org/tyke-time) and includes a waiver that must be completed for each child (once per year). Classes are in English and limited to 12 children.
URL:https://njmom.com/event/grow-it-green-morristowns-tyke-time-fun-on-the-farm-with-farmer-kim/2025-06-28/
LOCATION:Grow it Green Morristown Urban Farm\, 31 Hazel Street\, Morristown\, NJ\, 07960\, United States
ATTACH;FMTTYPE=image/jpeg:https://njmom.com/wp-content/uploads/2025/05/Tyke-Time-25-Flyer-1.jpg
END:VEVENT
BEGIN:VEVENT
DTSTART;TZID=UTC:20250626T163000
DTEND;TZID=UTC:20250626T173000
DTSTAMP:20260422T181349
CREATED:20250529T135836Z
LAST-MODIFIED:20250529T135836Z
UID:10002116-1750955400-1750959000@njmom.com
SUMMARY:Grow it Green Morristown's Tyke Time - Fun on the Farm with Farmer Kim!
DESCRIPTION:One-hour\, teacher-led classes encourage curiosity and exploration at our beautiful Urban Farm on Thursdays and Saturdays from June through August. Children 2-5 years old meet our farmers\, chat with our chickens and taste farm-fresh produce. Registration is $12 per child and each child will receive a $2 coupon to shop our Urban Farm Stand. Pre-registration is required (https://www.growitgreenmorristown.org/tyke-time) and includes a waiver that must be completed for each child (once per year). Classes are in English and limited to 12 children.
URL:https://njmom.com/event/grow-it-green-morristowns-tyke-time-fun-on-the-farm-with-farmer-kim/2025-06-26/
LOCATION:Grow it Green Morristown Urban Farm\, 31 Hazel Street\, Morristown\, NJ\, 07960\, United States
ATTACH;FMTTYPE=image/jpeg:https://njmom.com/wp-content/uploads/2025/05/Tyke-Time-25-Flyer-1.jpg
END:VEVENT
BEGIN:VEVENT
DTSTART;TZID=UTC:20250510T120000
DTEND;TZID=UTC:20250510T190000
DTSTAMP:20260422T181349
CREATED:20250314T145742Z
LAST-MODIFIED:20250314T145742Z
UID:10000749-1746878400-1746903600@njmom.com
SUMMARY:Maywood's Chow Down Food Truck Fest & Vendor Pop-Up
DESCRIPTION:Maywood’s Food Truck Festival will be held Saturday May 10th\, hosting a variety of the best food trucks from the New Jersey area. Outdoor seating will be available. There will also be a vendor pop-up with lots of fun shopping. We will also have live music\, a kids zone\, and a beer garden! Held in the Myron Parking Lot\, this event will rock from 12-7 pm…come hungry because there will be plenty of gourmet\, international and boardwalk style food trucks. Admission is free to all that attend! If you want to spend time with us and relax\, watch the entertainment\, let the kids have fun…remember to bring a comfortable folding chair – for maximum enjoyment of the festival. We will also have seating available at the tables for eating. This event is brought to you by the Borough of Maywood
URL:https://njmom.com/event/maywoods-chow-down-food-truck-fest-vendor-pop-up/
LOCATION:Myron Parking Lot\, 205 Maywood Ave\, Maywood\, NJ\, NJ\, 07607\, United States
CATEGORIES:Spring Festivals
ATTACH;FMTTYPE=image/jpeg:https://njmom.com/wp-content/uploads/2025/03/ChowDown-5.10.25-1028x1028-1.jpg
ORGANIZER;CN="JC Promotions%2C Inc.":MAILTO:events@jcpromotions.info
END:VEVENT
END:VCALENDAR