BEGIN:VCALENDAR
VERSION:2.0
PRODID:-//NJ Mom - ECPv6.15.20//NONSGML v1.0//EN
CALSCALE:GREGORIAN
METHOD:PUBLISH
X-WR-CALNAME:NJ Mom
X-ORIGINAL-URL:https://njmom.com
X-WR-CALDESC:Events for NJ Mom
REFRESH-INTERVAL;VALUE=DURATION:PT1H
X-Robots-Tag:noindex
X-PUBLISHED-TTL:PT1H
BEGIN:VTIMEZONE
TZID:UTC
BEGIN:STANDARD
TZOFFSETFROM:+0000
TZOFFSETTO:+0000
TZNAME:UTC
DTSTART:20240101T000000
END:STANDARD
END:VTIMEZONE
BEGIN:VEVENT
DTSTART;TZID=UTC:20260404T100000
DTEND;TZID=UTC:20260404T120000
DTSTAMP:20260421T074104
CREATED:20260309T124314Z
LAST-MODIFIED:20260309T124314Z
UID:10013661-1775296800-1775304000@njmom.com
SUMMARY:Easter Egg Hunt
DESCRIPTION:Join us for the Easter Egg Hunt\, a fun-filled outdoor adventure hunting colorful eggs with friends! \nGet ready for some fun in the sun at our Annual Easter Egg Hunt! Bring your friends and family to search for colorful eggs hidden all around. We’ll also have fun crafts\, delicious snacks\, and maybe even a visit from the Easter Bunny! Don’t miss out on the laughter and excitement—come hop on over and join the fun! \nWhile this event is free to the public\, we do ask that you still reserve your spot through the link below so we can have a proper count of how many will be joining us! \nhttps://www.eventbrite.com/e/easter-egg-hunt-tickets-1984317146000
URL:https://njmom.com/event/easter-egg-hunt/
LOCATION:CareOne at Livingston Assisted Living\, 76 Passaic Ave\, Livingston\, NJ 07039\, Livingston\, NJ\, 07039\, United States
CATEGORIES:Free Events
ATTACH;FMTTYPE=image/jpeg:https://njmom.com/wp-content/uploads/2026/03/Easter-Egg-Hunt-Event.jpg
END:VEVENT
BEGIN:VEVENT
DTSTART;TZID=UTC:20260329T150000
DTEND;TZID=UTC:20260329T163000
DTSTAMP:20260421T074104
CREATED:20260324T123127Z
LAST-MODIFIED:20260324T123127Z
UID:10013765-1774796400-1774801800@njmom.com
SUMMARY:Easter Jam & Egg Hunt
DESCRIPTION:Easter Jam is a high-energy\, family-friendly celebration that brings the joy of Easter to life through music\, games\, an Easter egg hunt\, and inspiring messages. Designed for ages Preschool – 6th grades\, it’s a fun and meaningful experience that combines community\, and the powerful story of hope that Easter represents. This is a FREE event\, but RSVP is appreciated at www.sicklervillechurch.com/jam
URL:https://njmom.com/event/easter-jam-egg-hunt/
LOCATION:Sicklerville Church\, 406 Church Rd\, Sicklerville\, NJ\, 08081\, United States
CATEGORIES:Free Events,Spring Festivals
ORGANIZER;CN="Sicklerville Church":MAILTO:info@sicklervillechurch.com
END:VEVENT
BEGIN:VEVENT
DTSTART;TZID=UTC:20260328T100000
DTEND;TZID=UTC:20260328T120000
DTSTAMP:20260421T074104
CREATED:20260304T142002Z
LAST-MODIFIED:20260304T142002Z
UID:10013644-1774692000-1774699200@njmom.com
SUMMARY:Sonny the Bunny returns for the Colossal Carrot Adventure!
DESCRIPTION:Saturday\, March 28\n10 AM-Noon\nSonny the Bunny returns for the Colossal Carrot Adventure! Join us for this FREE event featuring a festive bunny trail you can hop along and collect treat-filled eggs\, holiday-themed photos with Selfie Snapshots and amazing raffle prizes\, including an iPlay America Mega Birthday Party. Plus\, dine at The Bistro for photos with Sonny the Bunny! \nREGISTER NOW \nPre-registration is required and must be completed online.
URL:https://njmom.com/event/sonny-the-bunny-returns-for-the-colossal-carrot-adventure/
LOCATION:iPlayAmerica\, 110 Schanck Rd\, Freehold\, NJ\, NJ\, 07728\, United States
CATEGORIES:Free Events
ATTACH;FMTTYPE=image/jpeg:https://njmom.com/wp-content/uploads/2026/03/2026_02_ColossalCarrot_250.jpg
ORGANIZER;CN="iPlay America":MAILTO:info@iplayamerica.com
END:VEVENT
BEGIN:VEVENT
DTSTART;TZID=UTC:20250412T080000
DTEND;TZID=UTC:20250412T170000
DTSTAMP:20260421T074104
CREATED:20250401T141802Z
LAST-MODIFIED:20250401T141802Z
UID:10000897-1744444800-1744477200@njmom.com
SUMMARY:Meet the Easter Bunny @ Kurly
DESCRIPTION:Meet the Easter Bunny @ Kurly!\n(For ages 6-12) \nHop on over for an egg-citing afternoon packed with photo opportunities\, Kurly treats\, ice cream\, and a visit from the Easter Bunny!\nBring your cameras to snap magical moments with the Easter Bunny! \nTicket includes:\n*Photo opportunity with the Easter Bunny.\n*A party-size Egg Hunt Kone.\n*A cup of Sparkláde\, our popular European lemonade. \nInvite a friend and let’s make some memories with our favorite bunny! \nKurly Kürtősh is your go-to destination for chimney cakes\, a popular European pastry. Selected as #3 TOP PLACE TO EAT IN NORTH JERSEY 2024 by Yelp with over 600 5-star reviews on Google.
URL:https://njmom.com/event/meet-the-easter-bunny-kurly/
LOCATION:Kurly Kurtosh\, 74 E Passaic Ave\, Nutley\, NY\, 07110\, United States
ATTACH;FMTTYPE=image/jpeg:https://njmom.com/wp-content/uploads/2025/03/891DDB11-FC16-4DE4-8038-270426A657E3.jpg
ORGANIZER;CN="Kurly Kurtosh":MAILTO:nicole@kurlykurtosh.com
END:VEVENT
END:VCALENDAR