BEGIN:VCALENDAR
VERSION:2.0
PRODID:-//NJ Mom - ECPv6.15.20//NONSGML v1.0//EN
CALSCALE:GREGORIAN
METHOD:PUBLISH
X-ORIGINAL-URL:https://njmom.com
X-WR-CALDESC:Events for NJ Mom
REFRESH-INTERVAL;VALUE=DURATION:PT1H
X-Robots-Tag:noindex
X-PUBLISHED-TTL:PT1H
BEGIN:VTIMEZONE
TZID:UTC
BEGIN:STANDARD
TZOFFSETFROM:+0000
TZOFFSETTO:+0000
TZNAME:UTC
DTSTART:20250101T000000
END:STANDARD
END:VTIMEZONE
BEGIN:VEVENT
DTSTART;TZID=UTC:20260502T110000
DTEND;TZID=UTC:20260502T123000
DTSTAMP:20260424T010829
CREATED:20260421T121239Z
LAST-MODIFIED:20260421T121239Z
UID:10013893-1777719600-1777725000@njmom.com
SUMMARY:Master Class With Gillian Murphy
DESCRIPTION:Back by popular demand! The one and only Gillian Murphy will be teaching a Ballet Master Class at Princeton Ballet School’s Bayard Street Studios at 60 Bayard Street in New Brunswick\, NJ before the curtain rises on American Repertory Ballet’s Americana at the New Brunswick Performing Arts Center. \nFor Intermediate/Advanced students ages 16+\, get into the ballet spirit before the magic comes alive on stage! All participants receive a special discounted offer on tickets for Americana. Space is limited to 25 students.
URL:https://njmom.com/event/master-class-with-gillian-murphy/
LOCATION:Princeton Ballet School\, 60 Bayard St\, New Brunswick\, NJ\, 08901\, United States
ATTACH;FMTTYPE=image/jpeg:https://njmom.com/wp-content/uploads/2026/04/Gillian-Murphy-Headshot-Harald-Schrader-Photography-1.jpg
END:VEVENT
END:VCALENDAR