BEGIN:VCALENDAR
VERSION:2.0
PRODID:-//NJ Mom - ECPv6.15.20//NONSGML v1.0//EN
CALSCALE:GREGORIAN
METHOD:PUBLISH
X-WR-CALNAME:NJ Mom
X-ORIGINAL-URL:https://njmom.com
X-WR-CALDESC:Events for NJ Mom
REFRESH-INTERVAL;VALUE=DURATION:PT1H
X-Robots-Tag:noindex
X-PUBLISHED-TTL:PT1H
BEGIN:VTIMEZONE
TZID:UTC
BEGIN:STANDARD
TZOFFSETFROM:+0000
TZOFFSETTO:+0000
TZNAME:UTC
DTSTART:20250101T000000
END:STANDARD
END:VTIMEZONE
BEGIN:VEVENT
DTSTART;TZID=UTC:20260722T080000
DTEND;TZID=UTC:20260726T153000
DTSTAMP:20260423T143422
CREATED:20260212T132900Z
LAST-MODIFIED:20260212T132900Z
UID:10013182-1784707200-1785079800@njmom.com
SUMMARY:Cranford Performance Institute Summer Camp
DESCRIPTION:Come join us at CPI for Baseball & Sports camps all summer long!
URL:https://njmom.com/event/cranford-performance-institute-summer-camp/2026-07-22/
LOCATION:Cranford Performance Institute\, 140 Bryant Avenue\, CRANFORD\, NJ\, 07016-3238\, United States
ORGANIZER;CN="Cranford Performance Institute":MAILTO:info@cpiofnj.com
END:VEVENT
BEGIN:VEVENT
DTSTART;TZID=UTC:20260723T080000
DTEND;TZID=UTC:20260727T153000
DTSTAMP:20260423T143422
CREATED:20260212T132900Z
LAST-MODIFIED:20260212T132900Z
UID:10013183-1784793600-1785166200@njmom.com
SUMMARY:Cranford Performance Institute Summer Camp
DESCRIPTION:Come join us at CPI for Baseball & Sports camps all summer long!
URL:https://njmom.com/event/cranford-performance-institute-summer-camp/2026-07-23/
LOCATION:Cranford Performance Institute\, 140 Bryant Avenue\, CRANFORD\, NJ\, 07016-3238\, United States
ORGANIZER;CN="Cranford Performance Institute":MAILTO:info@cpiofnj.com
END:VEVENT
BEGIN:VEVENT
DTSTART;TZID=UTC:20260724T080000
DTEND;TZID=UTC:20260728T153000
DTSTAMP:20260423T143422
CREATED:20260212T132900Z
LAST-MODIFIED:20260212T132900Z
UID:10013184-1784880000-1785252600@njmom.com
SUMMARY:Cranford Performance Institute Summer Camp
DESCRIPTION:Come join us at CPI for Baseball & Sports camps all summer long!
URL:https://njmom.com/event/cranford-performance-institute-summer-camp/2026-07-24/
LOCATION:Cranford Performance Institute\, 140 Bryant Avenue\, CRANFORD\, NJ\, 07016-3238\, United States
ORGANIZER;CN="Cranford Performance Institute":MAILTO:info@cpiofnj.com
END:VEVENT
BEGIN:VEVENT
DTSTART;TZID=UTC:20260727T080000
DTEND;TZID=UTC:20260731T153000
DTSTAMP:20260423T143422
CREATED:20260212T132900Z
LAST-MODIFIED:20260212T132900Z
UID:10013185-1785139200-1785511800@njmom.com
SUMMARY:Cranford Performance Institute Summer Camp
DESCRIPTION:Come join us at CPI for Baseball & Sports camps all summer long!
URL:https://njmom.com/event/cranford-performance-institute-summer-camp/2026-07-27/
LOCATION:Cranford Performance Institute\, 140 Bryant Avenue\, CRANFORD\, NJ\, 07016-3238\, United States
ORGANIZER;CN="Cranford Performance Institute":MAILTO:info@cpiofnj.com
END:VEVENT
BEGIN:VEVENT
DTSTART;TZID=UTC:20260728T080000
DTEND;TZID=UTC:20260801T153000
DTSTAMP:20260423T143422
CREATED:20260212T132900Z
LAST-MODIFIED:20260212T132900Z
UID:10013186-1785225600-1785598200@njmom.com
SUMMARY:Cranford Performance Institute Summer Camp
DESCRIPTION:Come join us at CPI for Baseball & Sports camps all summer long!
URL:https://njmom.com/event/cranford-performance-institute-summer-camp/2026-07-28/
LOCATION:Cranford Performance Institute\, 140 Bryant Avenue\, CRANFORD\, NJ\, 07016-3238\, United States
ORGANIZER;CN="Cranford Performance Institute":MAILTO:info@cpiofnj.com
END:VEVENT
BEGIN:VEVENT
DTSTART;TZID=UTC:20260729T080000
DTEND;TZID=UTC:20260802T153000
DTSTAMP:20260423T143422
CREATED:20260212T132900Z
LAST-MODIFIED:20260212T132900Z
UID:10013187-1785312000-1785684600@njmom.com
SUMMARY:Cranford Performance Institute Summer Camp
DESCRIPTION:Come join us at CPI for Baseball & Sports camps all summer long!
URL:https://njmom.com/event/cranford-performance-institute-summer-camp/2026-07-29/
LOCATION:Cranford Performance Institute\, 140 Bryant Avenue\, CRANFORD\, NJ\, 07016-3238\, United States
ORGANIZER;CN="Cranford Performance Institute":MAILTO:info@cpiofnj.com
END:VEVENT
BEGIN:VEVENT
DTSTART;TZID=UTC:20260730T080000
DTEND;TZID=UTC:20260803T153000
DTSTAMP:20260423T143422
CREATED:20260212T132900Z
LAST-MODIFIED:20260212T132900Z
UID:10013188-1785398400-1785771000@njmom.com
SUMMARY:Cranford Performance Institute Summer Camp
DESCRIPTION:Come join us at CPI for Baseball & Sports camps all summer long!
URL:https://njmom.com/event/cranford-performance-institute-summer-camp/2026-07-30/
LOCATION:Cranford Performance Institute\, 140 Bryant Avenue\, CRANFORD\, NJ\, 07016-3238\, United States
ORGANIZER;CN="Cranford Performance Institute":MAILTO:info@cpiofnj.com
END:VEVENT
BEGIN:VEVENT
DTSTART;TZID=UTC:20260731T080000
DTEND;TZID=UTC:20260804T153000
DTSTAMP:20260423T143422
CREATED:20260212T132900Z
LAST-MODIFIED:20260212T132900Z
UID:10013189-1785484800-1785857400@njmom.com
SUMMARY:Cranford Performance Institute Summer Camp
DESCRIPTION:Come join us at CPI for Baseball & Sports camps all summer long!
URL:https://njmom.com/event/cranford-performance-institute-summer-camp/2026-07-31/
LOCATION:Cranford Performance Institute\, 140 Bryant Avenue\, CRANFORD\, NJ\, 07016-3238\, United States
ORGANIZER;CN="Cranford Performance Institute":MAILTO:info@cpiofnj.com
END:VEVENT
BEGIN:VEVENT
DTSTART;TZID=UTC:20260803T080000
DTEND;TZID=UTC:20260807T153000
DTSTAMP:20260423T143422
CREATED:20260212T132900Z
LAST-MODIFIED:20260212T132900Z
UID:10013190-1785744000-1786116600@njmom.com
SUMMARY:Cranford Performance Institute Summer Camp
DESCRIPTION:Come join us at CPI for Baseball & Sports camps all summer long!
URL:https://njmom.com/event/cranford-performance-institute-summer-camp/2026-08-03/
LOCATION:Cranford Performance Institute\, 140 Bryant Avenue\, CRANFORD\, NJ\, 07016-3238\, United States
ORGANIZER;CN="Cranford Performance Institute":MAILTO:info@cpiofnj.com
END:VEVENT
BEGIN:VEVENT
DTSTART;TZID=UTC:20260804T080000
DTEND;TZID=UTC:20260808T153000
DTSTAMP:20260423T143422
CREATED:20260212T132900Z
LAST-MODIFIED:20260212T132900Z
UID:10013191-1785830400-1786203000@njmom.com
SUMMARY:Cranford Performance Institute Summer Camp
DESCRIPTION:Come join us at CPI for Baseball & Sports camps all summer long!
URL:https://njmom.com/event/cranford-performance-institute-summer-camp/2026-08-04/
LOCATION:Cranford Performance Institute\, 140 Bryant Avenue\, CRANFORD\, NJ\, 07016-3238\, United States
ORGANIZER;CN="Cranford Performance Institute":MAILTO:info@cpiofnj.com
END:VEVENT
BEGIN:VEVENT
DTSTART;TZID=UTC:20260805T080000
DTEND;TZID=UTC:20260809T153000
DTSTAMP:20260423T143422
CREATED:20260212T132900Z
LAST-MODIFIED:20260212T132900Z
UID:10013192-1785916800-1786289400@njmom.com
SUMMARY:Cranford Performance Institute Summer Camp
DESCRIPTION:Come join us at CPI for Baseball & Sports camps all summer long!
URL:https://njmom.com/event/cranford-performance-institute-summer-camp/2026-08-05/
LOCATION:Cranford Performance Institute\, 140 Bryant Avenue\, CRANFORD\, NJ\, 07016-3238\, United States
ORGANIZER;CN="Cranford Performance Institute":MAILTO:info@cpiofnj.com
END:VEVENT
BEGIN:VEVENT
DTSTART;TZID=UTC:20260806T080000
DTEND;TZID=UTC:20260810T153000
DTSTAMP:20260423T143422
CREATED:20260212T132900Z
LAST-MODIFIED:20260212T132900Z
UID:10013193-1786003200-1786375800@njmom.com
SUMMARY:Cranford Performance Institute Summer Camp
DESCRIPTION:Come join us at CPI for Baseball & Sports camps all summer long!
URL:https://njmom.com/event/cranford-performance-institute-summer-camp/2026-08-06/
LOCATION:Cranford Performance Institute\, 140 Bryant Avenue\, CRANFORD\, NJ\, 07016-3238\, United States
ORGANIZER;CN="Cranford Performance Institute":MAILTO:info@cpiofnj.com
END:VEVENT
BEGIN:VEVENT
DTSTART;TZID=UTC:20260807T080000
DTEND;TZID=UTC:20260811T153000
DTSTAMP:20260423T143422
CREATED:20260212T132900Z
LAST-MODIFIED:20260212T132900Z
UID:10013194-1786089600-1786462200@njmom.com
SUMMARY:Cranford Performance Institute Summer Camp
DESCRIPTION:Come join us at CPI for Baseball & Sports camps all summer long!
URL:https://njmom.com/event/cranford-performance-institute-summer-camp/2026-08-07/
LOCATION:Cranford Performance Institute\, 140 Bryant Avenue\, CRANFORD\, NJ\, 07016-3238\, United States
ORGANIZER;CN="Cranford Performance Institute":MAILTO:info@cpiofnj.com
END:VEVENT
BEGIN:VEVENT
DTSTART;TZID=UTC:20260810T080000
DTEND;TZID=UTC:20260814T153000
DTSTAMP:20260423T143422
CREATED:20260212T132900Z
LAST-MODIFIED:20260212T132900Z
UID:10013195-1786348800-1786721400@njmom.com
SUMMARY:Cranford Performance Institute Summer Camp
DESCRIPTION:Come join us at CPI for Baseball & Sports camps all summer long!
URL:https://njmom.com/event/cranford-performance-institute-summer-camp/2026-08-10/
LOCATION:Cranford Performance Institute\, 140 Bryant Avenue\, CRANFORD\, NJ\, 07016-3238\, United States
ORGANIZER;CN="Cranford Performance Institute":MAILTO:info@cpiofnj.com
END:VEVENT
BEGIN:VEVENT
DTSTART;TZID=UTC:20260811T080000
DTEND;TZID=UTC:20260815T153000
DTSTAMP:20260423T143422
CREATED:20260212T132900Z
LAST-MODIFIED:20260212T132900Z
UID:10013196-1786435200-1786807800@njmom.com
SUMMARY:Cranford Performance Institute Summer Camp
DESCRIPTION:Come join us at CPI for Baseball & Sports camps all summer long!
URL:https://njmom.com/event/cranford-performance-institute-summer-camp/2026-08-11/
LOCATION:Cranford Performance Institute\, 140 Bryant Avenue\, CRANFORD\, NJ\, 07016-3238\, United States
ORGANIZER;CN="Cranford Performance Institute":MAILTO:info@cpiofnj.com
END:VEVENT
BEGIN:VEVENT
DTSTART;TZID=UTC:20260812T080000
DTEND;TZID=UTC:20260816T153000
DTSTAMP:20260423T143422
CREATED:20260212T132900Z
LAST-MODIFIED:20260212T132900Z
UID:10013197-1786521600-1786894200@njmom.com
SUMMARY:Cranford Performance Institute Summer Camp
DESCRIPTION:Come join us at CPI for Baseball & Sports camps all summer long!
URL:https://njmom.com/event/cranford-performance-institute-summer-camp/2026-08-12/
LOCATION:Cranford Performance Institute\, 140 Bryant Avenue\, CRANFORD\, NJ\, 07016-3238\, United States
ORGANIZER;CN="Cranford Performance Institute":MAILTO:info@cpiofnj.com
END:VEVENT
BEGIN:VEVENT
DTSTART;TZID=UTC:20260813T080000
DTEND;TZID=UTC:20260817T153000
DTSTAMP:20260423T143422
CREATED:20260212T132900Z
LAST-MODIFIED:20260212T132900Z
UID:10013198-1786608000-1786980600@njmom.com
SUMMARY:Cranford Performance Institute Summer Camp
DESCRIPTION:Come join us at CPI for Baseball & Sports camps all summer long!
URL:https://njmom.com/event/cranford-performance-institute-summer-camp/2026-08-13/
LOCATION:Cranford Performance Institute\, 140 Bryant Avenue\, CRANFORD\, NJ\, 07016-3238\, United States
ORGANIZER;CN="Cranford Performance Institute":MAILTO:info@cpiofnj.com
END:VEVENT
BEGIN:VEVENT
DTSTART;TZID=UTC:20260814T080000
DTEND;TZID=UTC:20260818T153000
DTSTAMP:20260423T143422
CREATED:20260212T132900Z
LAST-MODIFIED:20260212T132900Z
UID:10013199-1786694400-1787067000@njmom.com
SUMMARY:Cranford Performance Institute Summer Camp
DESCRIPTION:Come join us at CPI for Baseball & Sports camps all summer long!
URL:https://njmom.com/event/cranford-performance-institute-summer-camp/2026-08-14/
LOCATION:Cranford Performance Institute\, 140 Bryant Avenue\, CRANFORD\, NJ\, 07016-3238\, United States
ORGANIZER;CN="Cranford Performance Institute":MAILTO:info@cpiofnj.com
END:VEVENT
BEGIN:VEVENT
DTSTART;TZID=UTC:20260817T080000
DTEND;TZID=UTC:20260821T153000
DTSTAMP:20260423T143422
CREATED:20260212T132900Z
LAST-MODIFIED:20260212T132900Z
UID:10013200-1786953600-1787326200@njmom.com
SUMMARY:Cranford Performance Institute Summer Camp
DESCRIPTION:Come join us at CPI for Baseball & Sports camps all summer long!
URL:https://njmom.com/event/cranford-performance-institute-summer-camp/2026-08-17/
LOCATION:Cranford Performance Institute\, 140 Bryant Avenue\, CRANFORD\, NJ\, 07016-3238\, United States
ORGANIZER;CN="Cranford Performance Institute":MAILTO:info@cpiofnj.com
END:VEVENT
BEGIN:VEVENT
DTSTART;TZID=UTC:20260818T080000
DTEND;TZID=UTC:20260822T153000
DTSTAMP:20260423T143422
CREATED:20260212T132900Z
LAST-MODIFIED:20260212T132900Z
UID:10013201-1787040000-1787412600@njmom.com
SUMMARY:Cranford Performance Institute Summer Camp
DESCRIPTION:Come join us at CPI for Baseball & Sports camps all summer long!
URL:https://njmom.com/event/cranford-performance-institute-summer-camp/2026-08-18/
LOCATION:Cranford Performance Institute\, 140 Bryant Avenue\, CRANFORD\, NJ\, 07016-3238\, United States
ORGANIZER;CN="Cranford Performance Institute":MAILTO:info@cpiofnj.com
END:VEVENT
BEGIN:VEVENT
DTSTART;TZID=UTC:20260819T080000
DTEND;TZID=UTC:20260823T153000
DTSTAMP:20260423T143422
CREATED:20260212T132900Z
LAST-MODIFIED:20260212T132900Z
UID:10013202-1787126400-1787499000@njmom.com
SUMMARY:Cranford Performance Institute Summer Camp
DESCRIPTION:Come join us at CPI for Baseball & Sports camps all summer long!
URL:https://njmom.com/event/cranford-performance-institute-summer-camp/2026-08-19/
LOCATION:Cranford Performance Institute\, 140 Bryant Avenue\, CRANFORD\, NJ\, 07016-3238\, United States
ORGANIZER;CN="Cranford Performance Institute":MAILTO:info@cpiofnj.com
END:VEVENT
BEGIN:VEVENT
DTSTART;TZID=UTC:20260820T080000
DTEND;TZID=UTC:20260824T153000
DTSTAMP:20260423T143422
CREATED:20260212T132900Z
LAST-MODIFIED:20260212T132900Z
UID:10013203-1787212800-1787585400@njmom.com
SUMMARY:Cranford Performance Institute Summer Camp
DESCRIPTION:Come join us at CPI for Baseball & Sports camps all summer long!
URL:https://njmom.com/event/cranford-performance-institute-summer-camp/2026-08-20/
LOCATION:Cranford Performance Institute\, 140 Bryant Avenue\, CRANFORD\, NJ\, 07016-3238\, United States
ORGANIZER;CN="Cranford Performance Institute":MAILTO:info@cpiofnj.com
END:VEVENT
BEGIN:VEVENT
DTSTART;TZID=UTC:20260821T080000
DTEND;TZID=UTC:20260825T153000
DTSTAMP:20260423T143422
CREATED:20260212T132900Z
LAST-MODIFIED:20260212T132900Z
UID:10013204-1787299200-1787671800@njmom.com
SUMMARY:Cranford Performance Institute Summer Camp
DESCRIPTION:Come join us at CPI for Baseball & Sports camps all summer long!
URL:https://njmom.com/event/cranford-performance-institute-summer-camp/2026-08-21/
LOCATION:Cranford Performance Institute\, 140 Bryant Avenue\, CRANFORD\, NJ\, 07016-3238\, United States
ORGANIZER;CN="Cranford Performance Institute":MAILTO:info@cpiofnj.com
END:VEVENT
BEGIN:VEVENT
DTSTART;TZID=UTC:20260824T080000
DTEND;TZID=UTC:20260828T153000
DTSTAMP:20260423T143422
CREATED:20260212T132900Z
LAST-MODIFIED:20260212T132900Z
UID:10013205-1787558400-1787931000@njmom.com
SUMMARY:Cranford Performance Institute Summer Camp
DESCRIPTION:Come join us at CPI for Baseball & Sports camps all summer long!
URL:https://njmom.com/event/cranford-performance-institute-summer-camp/2026-08-24/
LOCATION:Cranford Performance Institute\, 140 Bryant Avenue\, CRANFORD\, NJ\, 07016-3238\, United States
ORGANIZER;CN="Cranford Performance Institute":MAILTO:info@cpiofnj.com
END:VEVENT
BEGIN:VEVENT
DTSTART;TZID=UTC:20260825T080000
DTEND;TZID=UTC:20260829T153000
DTSTAMP:20260423T143422
CREATED:20260212T132900Z
LAST-MODIFIED:20260212T132900Z
UID:10013206-1787644800-1788017400@njmom.com
SUMMARY:Cranford Performance Institute Summer Camp
DESCRIPTION:Come join us at CPI for Baseball & Sports camps all summer long!
URL:https://njmom.com/event/cranford-performance-institute-summer-camp/2026-08-25/
LOCATION:Cranford Performance Institute\, 140 Bryant Avenue\, CRANFORD\, NJ\, 07016-3238\, United States
ORGANIZER;CN="Cranford Performance Institute":MAILTO:info@cpiofnj.com
END:VEVENT
BEGIN:VEVENT
DTSTART;TZID=UTC:20260826T080000
DTEND;TZID=UTC:20260830T153000
DTSTAMP:20260423T143422
CREATED:20260212T132900Z
LAST-MODIFIED:20260212T132900Z
UID:10013207-1787731200-1788103800@njmom.com
SUMMARY:Cranford Performance Institute Summer Camp
DESCRIPTION:Come join us at CPI for Baseball & Sports camps all summer long!
URL:https://njmom.com/event/cranford-performance-institute-summer-camp/2026-08-26/
LOCATION:Cranford Performance Institute\, 140 Bryant Avenue\, CRANFORD\, NJ\, 07016-3238\, United States
ORGANIZER;CN="Cranford Performance Institute":MAILTO:info@cpiofnj.com
END:VEVENT
BEGIN:VEVENT
DTSTART;TZID=UTC:20260827T080000
DTEND;TZID=UTC:20260831T153000
DTSTAMP:20260423T143422
CREATED:20260212T132900Z
LAST-MODIFIED:20260212T132900Z
UID:10013208-1787817600-1788190200@njmom.com
SUMMARY:Cranford Performance Institute Summer Camp
DESCRIPTION:Come join us at CPI for Baseball & Sports camps all summer long!
URL:https://njmom.com/event/cranford-performance-institute-summer-camp/2026-08-27/
LOCATION:Cranford Performance Institute\, 140 Bryant Avenue\, CRANFORD\, NJ\, 07016-3238\, United States
ORGANIZER;CN="Cranford Performance Institute":MAILTO:info@cpiofnj.com
END:VEVENT
BEGIN:VEVENT
DTSTART;TZID=UTC:20260828T080000
DTEND;TZID=UTC:20260901T153000
DTSTAMP:20260423T143423
CREATED:20260212T132900Z
LAST-MODIFIED:20260212T132900Z
UID:10013209-1787904000-1788276600@njmom.com
SUMMARY:Cranford Performance Institute Summer Camp
DESCRIPTION:Come join us at CPI for Baseball & Sports camps all summer long!
URL:https://njmom.com/event/cranford-performance-institute-summer-camp/2026-08-28/
LOCATION:Cranford Performance Institute\, 140 Bryant Avenue\, CRANFORD\, NJ\, 07016-3238\, United States
ORGANIZER;CN="Cranford Performance Institute":MAILTO:info@cpiofnj.com
END:VEVENT
BEGIN:VEVENT
DTSTART;TZID=UTC:20260831T080000
DTEND;TZID=UTC:20260904T153000
DTSTAMP:20260423T143423
CREATED:20260212T132900Z
LAST-MODIFIED:20260212T132900Z
UID:10013210-1788163200-1788535800@njmom.com
SUMMARY:Cranford Performance Institute Summer Camp
DESCRIPTION:Come join us at CPI for Baseball & Sports camps all summer long!
URL:https://njmom.com/event/cranford-performance-institute-summer-camp/2026-08-31/
LOCATION:Cranford Performance Institute\, 140 Bryant Avenue\, CRANFORD\, NJ\, 07016-3238\, United States
ORGANIZER;CN="Cranford Performance Institute":MAILTO:info@cpiofnj.com
END:VEVENT
BEGIN:VEVENT
DTSTART;TZID=UTC:20260901T080000
DTEND;TZID=UTC:20260905T153000
DTSTAMP:20260423T143423
CREATED:20260212T132900Z
LAST-MODIFIED:20260212T132900Z
UID:10013211-1788249600-1788622200@njmom.com
SUMMARY:Cranford Performance Institute Summer Camp
DESCRIPTION:Come join us at CPI for Baseball & Sports camps all summer long!
URL:https://njmom.com/event/cranford-performance-institute-summer-camp/2026-09-01/
LOCATION:Cranford Performance Institute\, 140 Bryant Avenue\, CRANFORD\, NJ\, 07016-3238\, United States
ORGANIZER;CN="Cranford Performance Institute":MAILTO:info@cpiofnj.com
END:VEVENT
END:VCALENDAR