BEGIN:VCALENDAR
VERSION:2.0
PRODID:-//NJ Mom - ECPv6.15.20//NONSGML v1.0//EN
CALSCALE:GREGORIAN
METHOD:PUBLISH
X-ORIGINAL-URL:https://njmom.com
X-WR-CALDESC:Events for NJ Mom
REFRESH-INTERVAL;VALUE=DURATION:PT1H
X-Robots-Tag:noindex
X-PUBLISHED-TTL:PT1H
BEGIN:VTIMEZONE
TZID:UTC
BEGIN:STANDARD
TZOFFSETFROM:+0000
TZOFFSETTO:+0000
TZNAME:UTC
DTSTART:20240101T000000
END:STANDARD
END:VTIMEZONE
BEGIN:VEVENT
DTSTART;TZID=UTC:20251111T110000
DTEND;TZID=UTC:20251111T120000
DTSTAMP:20260421T181231
CREATED:20251010T124648Z
LAST-MODIFIED:20251010T124648Z
UID:10008504-1762858800-1762862400@njmom.com
SUMMARY:Wags & Wiggles
DESCRIPTION:Wags & Wiggles is a grown-up-and-me style class for children ages 2-4. This program will teach our littlest animal lovers about animal safety\, kindness and compassion. \nEach class will last 45 minutes and includes instructor-led storytime\, a craft\, and developmentally age-appropriate activities focused around creating our next generation of compassionate animal allies. \nIt’s never too early to encourage young animal lovers to learn about safety and how to treat all living things with kindness!
URL:https://njmom.com/event/wags-wiggles/2025-11-11/
LOCATION:Animal Welfare Association\, 509 Centennial Blvd\, Voorhees\, NJ\, 08043
CATEGORIES:Charity
ATTACH;FMTTYPE=image/jpeg:https://njmom.com/wp-content/uploads/2025/10/Wags-Wiggles-1.jpg
ORGANIZER;CN="Animal Welfare Association":MAILTO:jaimem@awanj.org
END:VEVENT
BEGIN:VEVENT
DTSTART;TZID=UTC:20251114T110000
DTEND;TZID=UTC:20251114T120000
DTSTAMP:20260421T181231
CREATED:20251010T124648Z
LAST-MODIFIED:20251010T124648Z
UID:10008505-1763118000-1763121600@njmom.com
SUMMARY:Wags & Wiggles
DESCRIPTION:Wags & Wiggles is a grown-up-and-me style class for children ages 2-4. This program will teach our littlest animal lovers about animal safety\, kindness and compassion. \nEach class will last 45 minutes and includes instructor-led storytime\, a craft\, and developmentally age-appropriate activities focused around creating our next generation of compassionate animal allies. \nIt’s never too early to encourage young animal lovers to learn about safety and how to treat all living things with kindness!
URL:https://njmom.com/event/wags-wiggles/2025-11-14/
LOCATION:Animal Welfare Association\, 509 Centennial Blvd\, Voorhees\, NJ\, 08043
CATEGORIES:Charity
ATTACH;FMTTYPE=image/jpeg:https://njmom.com/wp-content/uploads/2025/10/Wags-Wiggles-1.jpg
ORGANIZER;CN="Animal Welfare Association":MAILTO:jaimem@awanj.org
END:VEVENT
BEGIN:VEVENT
DTSTART;TZID=UTC:20251115T150000
DTEND;TZID=UTC:20251115T170000
DTSTAMP:20260421T181231
CREATED:20251113T131233Z
LAST-MODIFIED:20251113T131233Z
UID:10010396-1763218800-1763226000@njmom.com
SUMMARY:K-Pop Demon Hunters Family Art Event
DESCRIPTION:Charge up the HonMoon with your ART! In this playful paint afternoon\, we will take inspiration from the colorful world of K-Pop Demon Hunters. We will paint our favorite heroes on stretched canvas that will become a unique keepsake for any fan!! No art experience needed\, but do bring your imagination! \nJoin us for this kid-friendly event and enjoy an afternoon of creativity\, music and laughs!\n• Kid-friendly (adult supervision or release waiver required for ages under 18)\n• All supplies included\n• Price: $40 per canvas (about 2–2.5 hours)
URL:https://njmom.com/event/k-pop-demon-hunters-family-art-event-3/
LOCATION:Rising Heart Studio\, 323 Main St\, Metuchen\, NJ\, 08840\, United States
ORGANIZER;CN="Rising Heart Coaching and Art Studio":MAILTO:okollider@gmail.com
END:VEVENT
END:VCALENDAR