BEGIN:VCALENDAR
VERSION:2.0
PRODID:-//NJ Mom - ECPv6.15.20//NONSGML v1.0//EN
CALSCALE:GREGORIAN
METHOD:PUBLISH
X-ORIGINAL-URL:https://njmom.com
X-WR-CALDESC:Events for NJ Mom
REFRESH-INTERVAL;VALUE=DURATION:PT1H
X-Robots-Tag:noindex
X-PUBLISHED-TTL:PT1H
BEGIN:VTIMEZONE
TZID:UTC
BEGIN:STANDARD
TZOFFSETFROM:+0000
TZOFFSETTO:+0000
TZNAME:UTC
DTSTART:20240101T000000
END:STANDARD
END:VTIMEZONE
BEGIN:VEVENT
DTSTART;TZID=UTC:20251014T110000
DTEND;TZID=UTC:20251014T120000
DTSTAMP:20260421T181241
CREATED:20251010T124648Z
LAST-MODIFIED:20251010T124648Z
UID:10008501-1760439600-1760443200@njmom.com
SUMMARY:Wags & Wiggles
DESCRIPTION:Wags & Wiggles is a grown-up-and-me style class for children ages 2-4. This program will teach our littlest animal lovers about animal safety\, kindness and compassion. \nEach class will last 45 minutes and includes instructor-led storytime\, a craft\, and developmentally age-appropriate activities focused around creating our next generation of compassionate animal allies. \nIt’s never too early to encourage young animal lovers to learn about safety and how to treat all living things with kindness!
URL:https://njmom.com/event/wags-wiggles/2025-10-14/
LOCATION:Animal Welfare Association\, 509 Centennial Blvd\, Voorhees\, NJ\, 08043
CATEGORIES:Charity
ATTACH;FMTTYPE=image/jpeg:https://njmom.com/wp-content/uploads/2025/10/Wags-Wiggles-1.jpg
ORGANIZER;CN="Animal Welfare Association":MAILTO:jaimem@awanj.org
END:VEVENT
BEGIN:VEVENT
DTSTART;TZID=UTC:20251017T110000
DTEND;TZID=UTC:20251017T120000
DTSTAMP:20260421T181242
CREATED:20251010T124648Z
LAST-MODIFIED:20251010T124648Z
UID:10008502-1760698800-1760702400@njmom.com
SUMMARY:Wags & Wiggles
DESCRIPTION:Wags & Wiggles is a grown-up-and-me style class for children ages 2-4. This program will teach our littlest animal lovers about animal safety\, kindness and compassion. \nEach class will last 45 minutes and includes instructor-led storytime\, a craft\, and developmentally age-appropriate activities focused around creating our next generation of compassionate animal allies. \nIt’s never too early to encourage young animal lovers to learn about safety and how to treat all living things with kindness!
URL:https://njmom.com/event/wags-wiggles/2025-10-17/
LOCATION:Animal Welfare Association\, 509 Centennial Blvd\, Voorhees\, NJ\, 08043
CATEGORIES:Charity
ATTACH;FMTTYPE=image/jpeg:https://njmom.com/wp-content/uploads/2025/10/Wags-Wiggles-1.jpg
ORGANIZER;CN="Animal Welfare Association":MAILTO:jaimem@awanj.org
END:VEVENT
BEGIN:VEVENT
DTSTART;TZID=UTC:20251018T100000
DTEND;TZID=UTC:20251018T160000
DTSTAMP:20260421T181242
CREATED:20250905T124254Z
LAST-MODIFIED:20250905T124254Z
UID:10005483-1760781600-1760803200@njmom.com
SUMMARY:Geeks and Nerd Festival
DESCRIPTION:Calling all Geeks and Nerds!! This is the show for you! Join us for the first ever Geeks and Nerd Festival to be held in Vineland! . \nGet prepared to bring out the geek or nerd within attending this festival. We’ll have some awesome Vendors who will have Comic Books\, Anime\, Crafts\, Toys\, Trading Cards\, Funko \nPops\, Lego\, Action Figures\, Collectibles\, and MORE!\nMeet artists and writers. \nWe’ll also have some great family interactive activities….Cosplay Contest\, Hot Wheels Car Races\, Trivia Game\, Cosplay groups for great photo opportunities for ALL ages!
URL:https://njmom.com/event/geeks-and-nerd-festival/
LOCATION:Ramoth Church Event Center\, 2727 N. Delsea Dr.\, Vineland\, 08360\, United States
CATEGORIES:Fall Festivals
ATTACH;FMTTYPE=image/jpeg:https://njmom.com/wp-content/uploads/2025/09/67e06795f1ef6.image_.jpg
ORGANIZER;CN="Jersey Shore Comic Book Show":MAILTO:Danielc439@aol.com
END:VEVENT
END:VCALENDAR