BEGIN:VCALENDAR
VERSION:2.0
PRODID:-//NJ Mom - ECPv6.15.20//NONSGML v1.0//EN
CALSCALE:GREGORIAN
METHOD:PUBLISH
X-WR-CALNAME:NJ Mom
X-ORIGINAL-URL:https://njmom.com
X-WR-CALDESC:Events for NJ Mom
REFRESH-INTERVAL;VALUE=DURATION:PT1H
X-Robots-Tag:noindex
X-PUBLISHED-TTL:PT1H
BEGIN:VTIMEZONE
TZID:UTC
BEGIN:STANDARD
TZOFFSETFROM:+0000
TZOFFSETTO:+0000
TZNAME:UTC
DTSTART:20240101T000000
END:STANDARD
END:VTIMEZONE
BEGIN:VEVENT
DTSTART;TZID=UTC:20250601T130000
DTEND;TZID=UTC:20250601T150000
DTSTAMP:20260420T131522
CREATED:20250217T184441Z
LAST-MODIFIED:20250218T151533Z
UID:10000136-1748782800-1748790000@njmom.com
SUMMARY:IN HER FOOTSTEPS: a celebration of women in history
DESCRIPTION:Step into history with\, IN HER FOOTSTEPS\, a fun\, family-friendly\, immersive theatrical experience that brings great women from the past to life through dynamic performances\, multimedia displays\, and hands-on activities. \nIN HER FOOTSTEPS will be on Saturdays and Sundays in March 2025 at 1 PM and 4 PM at the Museum of Jersey City History\, located at the historic Apple Tree House\, 298 Academy Street\, Jersey City\, NJ. For more information\, www.speranzatheatre.org.
URL:https://njmom.com/event/in-her-footsteps-a-celebration-of-women-in-history/2025-06-01/
LOCATION:Museum of Jersey City History\, located at the historic Apple Tree House\, 298 Academy Street\, Jersey City\, NJ\, 07306\, United States
ATTACH;FMTTYPE=image/jpeg:https://njmom.com/wp-content/uploads/2025/02/Footsteps-2025-Email-Signature.jpg
ORGANIZER;CN="Diana Basmajian":MAILTO:info@speranzatheatre.org
END:VEVENT
BEGIN:VEVENT
DTSTART;TZID=UTC:20250607T130000
DTEND;TZID=UTC:20250607T150000
DTSTAMP:20260420T131522
CREATED:20250217T184441Z
LAST-MODIFIED:20250218T151533Z
UID:10000137-1749301200-1749308400@njmom.com
SUMMARY:IN HER FOOTSTEPS: a celebration of women in history
DESCRIPTION:Step into history with\, IN HER FOOTSTEPS\, a fun\, family-friendly\, immersive theatrical experience that brings great women from the past to life through dynamic performances\, multimedia displays\, and hands-on activities. \nIN HER FOOTSTEPS will be on Saturdays and Sundays in March 2025 at 1 PM and 4 PM at the Museum of Jersey City History\, located at the historic Apple Tree House\, 298 Academy Street\, Jersey City\, NJ. For more information\, www.speranzatheatre.org.
URL:https://njmom.com/event/in-her-footsteps-a-celebration-of-women-in-history/2025-06-07/
LOCATION:Museum of Jersey City History\, located at the historic Apple Tree House\, 298 Academy Street\, Jersey City\, NJ\, 07306\, United States
ATTACH;FMTTYPE=image/jpeg:https://njmom.com/wp-content/uploads/2025/02/Footsteps-2025-Email-Signature.jpg
ORGANIZER;CN="Diana Basmajian":MAILTO:info@speranzatheatre.org
END:VEVENT
BEGIN:VEVENT
DTSTART;TZID=UTC:20250608T130000
DTEND;TZID=UTC:20250608T150000
DTSTAMP:20260420T131522
CREATED:20250217T184441Z
LAST-MODIFIED:20250218T151533Z
UID:10000138-1749387600-1749394800@njmom.com
SUMMARY:IN HER FOOTSTEPS: a celebration of women in history
DESCRIPTION:Step into history with\, IN HER FOOTSTEPS\, a fun\, family-friendly\, immersive theatrical experience that brings great women from the past to life through dynamic performances\, multimedia displays\, and hands-on activities. \nIN HER FOOTSTEPS will be on Saturdays and Sundays in March 2025 at 1 PM and 4 PM at the Museum of Jersey City History\, located at the historic Apple Tree House\, 298 Academy Street\, Jersey City\, NJ. For more information\, www.speranzatheatre.org.
URL:https://njmom.com/event/in-her-footsteps-a-celebration-of-women-in-history/2025-06-08/
LOCATION:Museum of Jersey City History\, located at the historic Apple Tree House\, 298 Academy Street\, Jersey City\, NJ\, 07306\, United States
ATTACH;FMTTYPE=image/jpeg:https://njmom.com/wp-content/uploads/2025/02/Footsteps-2025-Email-Signature.jpg
ORGANIZER;CN="Diana Basmajian":MAILTO:info@speranzatheatre.org
END:VEVENT
BEGIN:VEVENT
DTSTART;TZID=UTC:20250614T130000
DTEND;TZID=UTC:20250614T150000
DTSTAMP:20260420T131522
CREATED:20250217T184441Z
LAST-MODIFIED:20250218T151533Z
UID:10000139-1749906000-1749913200@njmom.com
SUMMARY:IN HER FOOTSTEPS: a celebration of women in history
DESCRIPTION:Step into history with\, IN HER FOOTSTEPS\, a fun\, family-friendly\, immersive theatrical experience that brings great women from the past to life through dynamic performances\, multimedia displays\, and hands-on activities. \nIN HER FOOTSTEPS will be on Saturdays and Sundays in March 2025 at 1 PM and 4 PM at the Museum of Jersey City History\, located at the historic Apple Tree House\, 298 Academy Street\, Jersey City\, NJ. For more information\, www.speranzatheatre.org.
URL:https://njmom.com/event/in-her-footsteps-a-celebration-of-women-in-history/2025-06-14/
LOCATION:Museum of Jersey City History\, located at the historic Apple Tree House\, 298 Academy Street\, Jersey City\, NJ\, 07306\, United States
ATTACH;FMTTYPE=image/jpeg:https://njmom.com/wp-content/uploads/2025/02/Footsteps-2025-Email-Signature.jpg
ORGANIZER;CN="Diana Basmajian":MAILTO:info@speranzatheatre.org
END:VEVENT
BEGIN:VEVENT
DTSTART;TZID=UTC:20250615T130000
DTEND;TZID=UTC:20250615T150000
DTSTAMP:20260420T131522
CREATED:20250217T184441Z
LAST-MODIFIED:20250218T151533Z
UID:10000140-1749992400-1749999600@njmom.com
SUMMARY:IN HER FOOTSTEPS: a celebration of women in history
DESCRIPTION:Step into history with\, IN HER FOOTSTEPS\, a fun\, family-friendly\, immersive theatrical experience that brings great women from the past to life through dynamic performances\, multimedia displays\, and hands-on activities. \nIN HER FOOTSTEPS will be on Saturdays and Sundays in March 2025 at 1 PM and 4 PM at the Museum of Jersey City History\, located at the historic Apple Tree House\, 298 Academy Street\, Jersey City\, NJ. For more information\, www.speranzatheatre.org.
URL:https://njmom.com/event/in-her-footsteps-a-celebration-of-women-in-history/2025-06-15/
LOCATION:Museum of Jersey City History\, located at the historic Apple Tree House\, 298 Academy Street\, Jersey City\, NJ\, 07306\, United States
ATTACH;FMTTYPE=image/jpeg:https://njmom.com/wp-content/uploads/2025/02/Footsteps-2025-Email-Signature.jpg
ORGANIZER;CN="Diana Basmajian":MAILTO:info@speranzatheatre.org
END:VEVENT
BEGIN:VEVENT
DTSTART;TZID=UTC:20250621T100000
DTEND;TZID=UTC:20250621T160000
DTSTAMP:20260420T131522
CREATED:20250609T132545Z
LAST-MODIFIED:20250609T132545Z
UID:10002710-1750500000-1750521600@njmom.com
SUMMARY:Fantasy Faire
DESCRIPTION:Wheaton Arts and Cultural Center proudly declares that Fantasy Faire returns on Saturday\, June 21\, and Sunday\, June 22\, from 10 a.m. to 4 p.m. each day! In partnership with Mystic Realms\, Ltd®\, this annual event features talented performers as they bring to life the “Kingdom of Wheaton” by enacting a series of interconnected shows. Visitors of all ages can interact with strolling costumed characters portraying historical and mythical figures throughout WheatonArts’ campus. Everyone is invited to come dressed in their favorite fantasy garbs to enjoy a variety of live performances and sword demonstrations\, engage in free family art activities\, play pirate games\, shop the merchants’ alley\, and so much more! Fantasy Faire is included with general admission to WheatonArts. \nFantasy Faire is included in the price of admission to WheatonArts. Admission is $12.00 for Adults\, $11.00 for Senior Adults\, and $7.00 for Students. Children five and under are free. Tickets are available at the front gate and online. WheatonArts information and group rates can be found online at wheatonarts.org or by calling 856-825-6800. For details about Mystic Realms®\, call 856.430.0716 or visit online at mysticrealms.com.   \nWheatonArts is located at GPS: 1000 Village Drive\, Millville\, NJ 08332
URL:https://njmom.com/event/fantasy-faire/2025-06-21/
LOCATION:WheatonArts\, 1000 Village Drive\, Millville\, NJ\, 08332\, United States
CATEGORIES:Summer Festivals
ATTACH;FMTTYPE=image/jpeg:https://njmom.com/wp-content/uploads/2025/06/FanFaire2024_Taral-2825.jpg
ORGANIZER;CN="WheatonArts":MAILTO:news@wheatonarts.org
END:VEVENT
BEGIN:VEVENT
DTSTART;TZID=UTC:20250621T130000
DTEND;TZID=UTC:20250621T150000
DTSTAMP:20260420T131522
CREATED:20250217T184441Z
LAST-MODIFIED:20250218T151533Z
UID:10000141-1750510800-1750518000@njmom.com
SUMMARY:IN HER FOOTSTEPS: a celebration of women in history
DESCRIPTION:Step into history with\, IN HER FOOTSTEPS\, a fun\, family-friendly\, immersive theatrical experience that brings great women from the past to life through dynamic performances\, multimedia displays\, and hands-on activities. \nIN HER FOOTSTEPS will be on Saturdays and Sundays in March 2025 at 1 PM and 4 PM at the Museum of Jersey City History\, located at the historic Apple Tree House\, 298 Academy Street\, Jersey City\, NJ. For more information\, www.speranzatheatre.org.
URL:https://njmom.com/event/in-her-footsteps-a-celebration-of-women-in-history/2025-06-21/
LOCATION:Museum of Jersey City History\, located at the historic Apple Tree House\, 298 Academy Street\, Jersey City\, NJ\, 07306\, United States
ATTACH;FMTTYPE=image/jpeg:https://njmom.com/wp-content/uploads/2025/02/Footsteps-2025-Email-Signature.jpg
ORGANIZER;CN="Diana Basmajian":MAILTO:info@speranzatheatre.org
END:VEVENT
BEGIN:VEVENT
DTSTART;TZID=UTC:20250622T100000
DTEND;TZID=UTC:20250622T160000
DTSTAMP:20260420T131522
CREATED:20250609T132545Z
LAST-MODIFIED:20250609T132545Z
UID:10002711-1750586400-1750608000@njmom.com
SUMMARY:Fantasy Faire
DESCRIPTION:Wheaton Arts and Cultural Center proudly declares that Fantasy Faire returns on Saturday\, June 21\, and Sunday\, June 22\, from 10 a.m. to 4 p.m. each day! In partnership with Mystic Realms\, Ltd®\, this annual event features talented performers as they bring to life the “Kingdom of Wheaton” by enacting a series of interconnected shows. Visitors of all ages can interact with strolling costumed characters portraying historical and mythical figures throughout WheatonArts’ campus. Everyone is invited to come dressed in their favorite fantasy garbs to enjoy a variety of live performances and sword demonstrations\, engage in free family art activities\, play pirate games\, shop the merchants’ alley\, and so much more! Fantasy Faire is included with general admission to WheatonArts. \nFantasy Faire is included in the price of admission to WheatonArts. Admission is $12.00 for Adults\, $11.00 for Senior Adults\, and $7.00 for Students. Children five and under are free. Tickets are available at the front gate and online. WheatonArts information and group rates can be found online at wheatonarts.org or by calling 856-825-6800. For details about Mystic Realms®\, call 856.430.0716 or visit online at mysticrealms.com.   \nWheatonArts is located at GPS: 1000 Village Drive\, Millville\, NJ 08332
URL:https://njmom.com/event/fantasy-faire/2025-06-22/
LOCATION:WheatonArts\, 1000 Village Drive\, Millville\, NJ\, 08332\, United States
CATEGORIES:Summer Festivals
ATTACH;FMTTYPE=image/jpeg:https://njmom.com/wp-content/uploads/2025/06/FanFaire2024_Taral-2825.jpg
ORGANIZER;CN="WheatonArts":MAILTO:news@wheatonarts.org
END:VEVENT
BEGIN:VEVENT
DTSTART;TZID=UTC:20250622T130000
DTEND;TZID=UTC:20250622T150000
DTSTAMP:20260420T131522
CREATED:20250217T184441Z
LAST-MODIFIED:20250218T151533Z
UID:10000142-1750597200-1750604400@njmom.com
SUMMARY:IN HER FOOTSTEPS: a celebration of women in history
DESCRIPTION:Step into history with\, IN HER FOOTSTEPS\, a fun\, family-friendly\, immersive theatrical experience that brings great women from the past to life through dynamic performances\, multimedia displays\, and hands-on activities. \nIN HER FOOTSTEPS will be on Saturdays and Sundays in March 2025 at 1 PM and 4 PM at the Museum of Jersey City History\, located at the historic Apple Tree House\, 298 Academy Street\, Jersey City\, NJ. For more information\, www.speranzatheatre.org.
URL:https://njmom.com/event/in-her-footsteps-a-celebration-of-women-in-history/2025-06-22/
LOCATION:Museum of Jersey City History\, located at the historic Apple Tree House\, 298 Academy Street\, Jersey City\, NJ\, 07306\, United States
ATTACH;FMTTYPE=image/jpeg:https://njmom.com/wp-content/uploads/2025/02/Footsteps-2025-Email-Signature.jpg
ORGANIZER;CN="Diana Basmajian":MAILTO:info@speranzatheatre.org
END:VEVENT
BEGIN:VEVENT
DTSTART;TZID=UTC:20250628T130000
DTEND;TZID=UTC:20250628T150000
DTSTAMP:20260420T131522
CREATED:20250217T184441Z
LAST-MODIFIED:20250218T151533Z
UID:10000143-1751115600-1751122800@njmom.com
SUMMARY:IN HER FOOTSTEPS: a celebration of women in history
DESCRIPTION:Step into history with\, IN HER FOOTSTEPS\, a fun\, family-friendly\, immersive theatrical experience that brings great women from the past to life through dynamic performances\, multimedia displays\, and hands-on activities. \nIN HER FOOTSTEPS will be on Saturdays and Sundays in March 2025 at 1 PM and 4 PM at the Museum of Jersey City History\, located at the historic Apple Tree House\, 298 Academy Street\, Jersey City\, NJ. For more information\, www.speranzatheatre.org.
URL:https://njmom.com/event/in-her-footsteps-a-celebration-of-women-in-history/2025-06-28/
LOCATION:Museum of Jersey City History\, located at the historic Apple Tree House\, 298 Academy Street\, Jersey City\, NJ\, 07306\, United States
ATTACH;FMTTYPE=image/jpeg:https://njmom.com/wp-content/uploads/2025/02/Footsteps-2025-Email-Signature.jpg
ORGANIZER;CN="Diana Basmajian":MAILTO:info@speranzatheatre.org
END:VEVENT
BEGIN:VEVENT
DTSTART;TZID=UTC:20250629T130000
DTEND;TZID=UTC:20250629T150000
DTSTAMP:20260420T131522
CREATED:20250217T184441Z
LAST-MODIFIED:20250218T151533Z
UID:10000144-1751202000-1751209200@njmom.com
SUMMARY:IN HER FOOTSTEPS: a celebration of women in history
DESCRIPTION:Step into history with\, IN HER FOOTSTEPS\, a fun\, family-friendly\, immersive theatrical experience that brings great women from the past to life through dynamic performances\, multimedia displays\, and hands-on activities. \nIN HER FOOTSTEPS will be on Saturdays and Sundays in March 2025 at 1 PM and 4 PM at the Museum of Jersey City History\, located at the historic Apple Tree House\, 298 Academy Street\, Jersey City\, NJ. For more information\, www.speranzatheatre.org.
URL:https://njmom.com/event/in-her-footsteps-a-celebration-of-women-in-history/2025-06-29/
LOCATION:Museum of Jersey City History\, located at the historic Apple Tree House\, 298 Academy Street\, Jersey City\, NJ\, 07306\, United States
ATTACH;FMTTYPE=image/jpeg:https://njmom.com/wp-content/uploads/2025/02/Footsteps-2025-Email-Signature.jpg
ORGANIZER;CN="Diana Basmajian":MAILTO:info@speranzatheatre.org
END:VEVENT
END:VCALENDAR