BEGIN:VCALENDAR
VERSION:2.0
PRODID:-//NJ Mom - ECPv6.15.20//NONSGML v1.0//EN
CALSCALE:GREGORIAN
METHOD:PUBLISH
X-WR-CALNAME:NJ Mom
X-ORIGINAL-URL:https://njmom.com
X-WR-CALDESC:Events for NJ Mom
REFRESH-INTERVAL;VALUE=DURATION:PT1H
X-Robots-Tag:noindex
X-PUBLISHED-TTL:PT1H
BEGIN:VTIMEZONE
TZID:UTC
BEGIN:STANDARD
TZOFFSETFROM:+0000
TZOFFSETTO:+0000
TZNAME:UTC
DTSTART:20250101T000000
END:STANDARD
END:VTIMEZONE
BEGIN:VTIMEZONE
TZID:America/New_York
BEGIN:DAYLIGHT
TZOFFSETFROM:-0500
TZOFFSETTO:-0400
TZNAME:EDT
DTSTART:20250309T070000
END:DAYLIGHT
BEGIN:STANDARD
TZOFFSETFROM:-0400
TZOFFSETTO:-0500
TZNAME:EST
DTSTART:20251102T060000
END:STANDARD
BEGIN:DAYLIGHT
TZOFFSETFROM:-0500
TZOFFSETTO:-0400
TZNAME:EDT
DTSTART:20260308T070000
END:DAYLIGHT
BEGIN:STANDARD
TZOFFSETFROM:-0400
TZOFFSETTO:-0500
TZNAME:EST
DTSTART:20261101T060000
END:STANDARD
BEGIN:DAYLIGHT
TZOFFSETFROM:-0500
TZOFFSETTO:-0400
TZNAME:EDT
DTSTART:20270314T070000
END:DAYLIGHT
BEGIN:STANDARD
TZOFFSETFROM:-0400
TZOFFSETTO:-0500
TZNAME:EST
DTSTART:20271107T060000
END:STANDARD
END:VTIMEZONE
BEGIN:VEVENT
DTSTART;TZID=UTC:20260501T190000
DTEND;TZID=UTC:20260503T160000
DTSTAMP:20260423T160621
CREATED:20260319T123158Z
LAST-MODIFIED:20260319T123158Z
UID:10013760-1777662000-1777824000@njmom.com
SUMMARY:American Repertory Ballet presents AMERICANA
DESCRIPTION:Cue the fireworks! American Repertory Ballet’s 2025/26 season finale at NBPAC will shine bright with AMERICANA — a vibrant mixed-repertoire performance that celebrates the spirit of our country in honor of its 250th anniversary. This dynamic program features two iconic works by George Balanchine – Tschaikovsky Pas de Deux and an excerpt from Stars and Stripes\, with music by John Philip Sousa. Plus two World Premieres by ARB Company Dancer Michelle Quiner and ARB’s acclaimed Artist in Residence Ethan Stiefel which will have audiences jumping to their feet with patriotic pride.
URL:https://njmom.com/event/american-repertory-ballet-presents-americana/
LOCATION:New Brunswick Performing Arts Center\, 11 Livingston Ave\, New Brunswick\, NJ\, 08901
ATTACH;FMTTYPE=image/png:https://njmom.com/wp-content/uploads/2026/03/AMERICANA.-ARB-Dancer-Emily-Cordies-Maso.-Photo-by-Harald-Schrader-Photography.png
ORGANIZER;CN="American Repertory Ballet":MAILTO:info@arballet.org
END:VEVENT
BEGIN:VEVENT
DTSTART;TZID=America/New_York:20260503T110000
DTEND;TZID=America/New_York:20260503T153000
DTSTAMP:20260423T160621
CREATED:20260421T121201Z
LAST-MODIFIED:20260421T121201Z
UID:10013891-1777806000-1777822200@njmom.com
SUMMARY:Passaic County Celebration of the Earth 2026
DESCRIPTION:Join the Passaic County Office of Solid Waste & Recycling Programs on Sunday\, May 3\, 2026 for our annual Celebration of the Earth (2026)\, happening from 11:00 AM to 3:30 PM at the Gymnasium at Passaic County Technical High School (PCTI)\, 45 Reinhardt Road\, Wayne\, NJ!\nThis family-friendly environmentally themed event is completely free: parking\, music\, games\, activities\, environmental face painting/temporary tattoos\, inflatables\, refreshments\, and with the Earth Day Rocks Bubble\, Comedy & Music show at 1:00 PM. Environmental organizations will be on hand as well\, including PSE&G with valuable energy and money saving tips. Come learn about Passaic County’s free trash\, recycling\, and Clean Communities app RecycleCoach\, the new “Skip the Stuff” waste reduction legislation\, and how to become better stewards of our planet!\nFor further information\, please call the Passaic County Office of Solid Waste & Recycling Programs at 973-305-5738.
URL:https://njmom.com/event/passaic-county-celebration-of-the-earth-2026/
CATEGORIES:Free Events,Spring Festivals
ATTACH;FMTTYPE=image/jpeg:https://njmom.com/wp-content/uploads/2026/04/The-Earth-2026.jpg
ORGANIZER;CN="Passaic County Office Of Solid Waste &amp%3B Recycling Programs":MAILTO:ninas@passaiccountynj.org
END:VEVENT
END:VCALENDAR