BEGIN:VCALENDAR
VERSION:2.0
PRODID:-//NJ Mom - ECPv6.15.20//NONSGML v1.0//EN
CALSCALE:GREGORIAN
METHOD:PUBLISH
X-ORIGINAL-URL:https://njmom.com
X-WR-CALDESC:Events for NJ Mom
REFRESH-INTERVAL;VALUE=DURATION:PT1H
X-Robots-Tag:noindex
X-PUBLISHED-TTL:PT1H
BEGIN:VTIMEZONE
TZID:UTC
BEGIN:STANDARD
TZOFFSETFROM:+0000
TZOFFSETTO:+0000
TZNAME:UTC
DTSTART:20250101T000000
END:STANDARD
END:VTIMEZONE
BEGIN:VEVENT
DTSTART;TZID=UTC:20261215T100000
DTEND;TZID=UTC:20261215T200000
DTSTAMP:20260424T003514
CREATED:20260422T130708Z
LAST-MODIFIED:20260422T130708Z
UID:10014134-1797328800-1797364800@njmom.com
SUMMARY:E-Cycling Event at MarketFair
DESCRIPTION:Celebrate Earth Week with MarketFair by recycling your electronics! From April 21 through April 30\, community members can responsibly recycle unwanted e-waste during shopping center hours. Blue collection bins will be located near MarketFair’s Center Court. \nAccepted items can be found here. Please note that CRT monitors\, televisions\, paint\, household batteries\, and glass bulbs will not be accepted.
URL:https://njmom.com/event/e-cycling-event-at-marketfair/2026-12-15/
LOCATION:MarketFair\, 3535 US Highway 1\, Princeton\, NJ\, 08540\, United States
ATTACH;FMTTYPE=image/jpeg:https://njmom.com/wp-content/uploads/2026/04/EarthWeek2025_Photo_05.jpeg
END:VEVENT
BEGIN:VEVENT
DTSTART;TZID=UTC:20261216T080000
DTEND;TZID=UTC:20261220T153000
DTSTAMP:20260424T003514
CREATED:20260212T132900Z
LAST-MODIFIED:20260212T132900Z
UID:10013287-1797408000-1797780600@njmom.com
SUMMARY:Cranford Performance Institute Summer Camp
DESCRIPTION:Come join us at CPI for Baseball & Sports camps all summer long!
URL:https://njmom.com/event/cranford-performance-institute-summer-camp/2026-12-16/
LOCATION:Cranford Performance Institute\, 140 Bryant Avenue\, CRANFORD\, NJ\, 07016-3238\, United States
ORGANIZER;CN="Cranford Performance Institute":MAILTO:info@cpiofnj.com
END:VEVENT
BEGIN:VEVENT
DTSTART;TZID=UTC:20261216T100000
DTEND;TZID=UTC:20261216T200000
DTSTAMP:20260424T003514
CREATED:20260422T130708Z
LAST-MODIFIED:20260422T130708Z
UID:10014135-1797415200-1797451200@njmom.com
SUMMARY:E-Cycling Event at MarketFair
DESCRIPTION:Celebrate Earth Week with MarketFair by recycling your electronics! From April 21 through April 30\, community members can responsibly recycle unwanted e-waste during shopping center hours. Blue collection bins will be located near MarketFair’s Center Court. \nAccepted items can be found here. Please note that CRT monitors\, televisions\, paint\, household batteries\, and glass bulbs will not be accepted.
URL:https://njmom.com/event/e-cycling-event-at-marketfair/2026-12-16/
LOCATION:MarketFair\, 3535 US Highway 1\, Princeton\, NJ\, 08540\, United States
ATTACH;FMTTYPE=image/jpeg:https://njmom.com/wp-content/uploads/2026/04/EarthWeek2025_Photo_05.jpeg
END:VEVENT
BEGIN:VEVENT
DTSTART;TZID=UTC:20261217T080000
DTEND;TZID=UTC:20261221T153000
DTSTAMP:20260424T003514
CREATED:20260212T132900Z
LAST-MODIFIED:20260212T132900Z
UID:10013288-1797494400-1797867000@njmom.com
SUMMARY:Cranford Performance Institute Summer Camp
DESCRIPTION:Come join us at CPI for Baseball & Sports camps all summer long!
URL:https://njmom.com/event/cranford-performance-institute-summer-camp/2026-12-17/
LOCATION:Cranford Performance Institute\, 140 Bryant Avenue\, CRANFORD\, NJ\, 07016-3238\, United States
ORGANIZER;CN="Cranford Performance Institute":MAILTO:info@cpiofnj.com
END:VEVENT
BEGIN:VEVENT
DTSTART;TZID=UTC:20261217T100000
DTEND;TZID=UTC:20261217T200000
DTSTAMP:20260424T003514
CREATED:20260422T130708Z
LAST-MODIFIED:20260422T130708Z
UID:10014136-1797501600-1797537600@njmom.com
SUMMARY:E-Cycling Event at MarketFair
DESCRIPTION:Celebrate Earth Week with MarketFair by recycling your electronics! From April 21 through April 30\, community members can responsibly recycle unwanted e-waste during shopping center hours. Blue collection bins will be located near MarketFair’s Center Court. \nAccepted items can be found here. Please note that CRT monitors\, televisions\, paint\, household batteries\, and glass bulbs will not be accepted.
URL:https://njmom.com/event/e-cycling-event-at-marketfair/2026-12-17/
LOCATION:MarketFair\, 3535 US Highway 1\, Princeton\, NJ\, 08540\, United States
ATTACH;FMTTYPE=image/jpeg:https://njmom.com/wp-content/uploads/2026/04/EarthWeek2025_Photo_05.jpeg
END:VEVENT
BEGIN:VEVENT
DTSTART;TZID=UTC:20261218T080000
DTEND;TZID=UTC:20261222T153000
DTSTAMP:20260424T003514
CREATED:20260212T132900Z
LAST-MODIFIED:20260212T132900Z
UID:10013289-1797580800-1797953400@njmom.com
SUMMARY:Cranford Performance Institute Summer Camp
DESCRIPTION:Come join us at CPI for Baseball & Sports camps all summer long!
URL:https://njmom.com/event/cranford-performance-institute-summer-camp/2026-12-18/
LOCATION:Cranford Performance Institute\, 140 Bryant Avenue\, CRANFORD\, NJ\, 07016-3238\, United States
ORGANIZER;CN="Cranford Performance Institute":MAILTO:info@cpiofnj.com
END:VEVENT
BEGIN:VEVENT
DTSTART;TZID=UTC:20261218T100000
DTEND;TZID=UTC:20261218T200000
DTSTAMP:20260424T003514
CREATED:20260422T130708Z
LAST-MODIFIED:20260422T130708Z
UID:10014137-1797588000-1797624000@njmom.com
SUMMARY:E-Cycling Event at MarketFair
DESCRIPTION:Celebrate Earth Week with MarketFair by recycling your electronics! From April 21 through April 30\, community members can responsibly recycle unwanted e-waste during shopping center hours. Blue collection bins will be located near MarketFair’s Center Court. \nAccepted items can be found here. Please note that CRT monitors\, televisions\, paint\, household batteries\, and glass bulbs will not be accepted.
URL:https://njmom.com/event/e-cycling-event-at-marketfair/2026-12-18/
LOCATION:MarketFair\, 3535 US Highway 1\, Princeton\, NJ\, 08540\, United States
ATTACH;FMTTYPE=image/jpeg:https://njmom.com/wp-content/uploads/2026/04/EarthWeek2025_Photo_05.jpeg
END:VEVENT
BEGIN:VEVENT
DTSTART;TZID=UTC:20261218T120000
DTEND;TZID=UTC:20261218T130000
DTSTAMP:20260424T003514
CREATED:20260123T133255Z
LAST-MODIFIED:20260123T133255Z
UID:10012540-1797595200-1797598800@njmom.com
SUMMARY:Cup and Canvas: Mindful Art Hour
DESCRIPTION:End your week with a simple\, mindful art project paired with a cup of tea. 🌿🎨☕. \nCup & Canvas weekly sessions are designed for anyone who needs an emotional and energetic tune-up. \nUnwind\, sip tea\, and explore your creativity to gather calm & new energy to decompress at the end of your week. \nNew beginner-friendly activity every week with instruction (e.g. simple watercolor\, collage\, clay handbuilding). No art experience needed. All materials are provided. Bring your lunch and a friend! \nBenefits for YOU:\n– Replenish Your Energy: Step away from daily demands with mindful art that soothes the mind.\n– Reconnect with Yourself: Enjoy time just for you—no expectations\, no pressure.\n– Build Connection: Share space with others who value creativity and self-care.\n– Flexible & Welcoming: Bring your lunch\, sip tea\, and create at your own pace.
URL:https://njmom.com/event/cup-and-canvas-mindful-art-hour/2026-12-18/
LOCATION:Rising Heart Studio\, 323 Main St\, Metuchen\, NJ\, 08840\, United States
ATTACH;FMTTYPE=image/jpeg:https://njmom.com/wp-content/uploads/2026/01/Screenshot-2026-01-22-at-2.00.22-PM.jpg
ORGANIZER;CN="Rising Heart Coaching and Art Studio":MAILTO:okollider@gmail.com
END:VEVENT
BEGIN:VEVENT
DTSTART;TZID=UTC:20261219T100000
DTEND;TZID=UTC:20261219T200000
DTSTAMP:20260424T003514
CREATED:20260422T130708Z
LAST-MODIFIED:20260422T130708Z
UID:10014138-1797674400-1797710400@njmom.com
SUMMARY:E-Cycling Event at MarketFair
DESCRIPTION:Celebrate Earth Week with MarketFair by recycling your electronics! From April 21 through April 30\, community members can responsibly recycle unwanted e-waste during shopping center hours. Blue collection bins will be located near MarketFair’s Center Court. \nAccepted items can be found here. Please note that CRT monitors\, televisions\, paint\, household batteries\, and glass bulbs will not be accepted.
URL:https://njmom.com/event/e-cycling-event-at-marketfair/2026-12-19/
LOCATION:MarketFair\, 3535 US Highway 1\, Princeton\, NJ\, 08540\, United States
ATTACH;FMTTYPE=image/jpeg:https://njmom.com/wp-content/uploads/2026/04/EarthWeek2025_Photo_05.jpeg
END:VEVENT
BEGIN:VEVENT
DTSTART;TZID=UTC:20261219T110000
DTEND;TZID=UTC:20261219T123000
DTSTAMP:20260424T003514
CREATED:20260227T134021Z
LAST-MODIFIED:20260227T134021Z
UID:10013632-1797678000-1797683400@njmom.com
SUMMARY:Classics for Kids! Merry\, Merry Mischief
DESCRIPTION:The fourth and final installment in our Classics for Kids! series\, bringing fantastic live theatre to families and young theatregoers! \nGather the whole family for a cozy\, kid-friendly holiday treat! Merry\, Merry Mischief: Holiday Classics is a joyful production that brings the magic of winter to life through beloved short stories and poems. Perfect for young audiences and the young at heart! \nAppropriate for all ages.
URL:https://njmom.com/event/classics-for-kids-merry-merry-mischief/
LOCATION:The F.M. Kirby Shakespeare Theatre\, 36 Madison Avenue\, Madison\, New Jersey\, 07940
ATTACH;FMTTYPE=image/jpeg:https://njmom.com/wp-content/uploads/2026/02/Merry-Merry-Mischief-1080-x-1080.jpg
END:VEVENT
BEGIN:VEVENT
DTSTART;TZID=UTC:20261219T130000
DTEND;TZID=UTC:20261219T150000
DTSTAMP:20260424T003514
CREATED:20250217T184441Z
LAST-MODIFIED:20250218T151533Z
UID:10000297-1797685200-1797692400@njmom.com
SUMMARY:IN HER FOOTSTEPS: a celebration of women in history
DESCRIPTION:Step into history with\, IN HER FOOTSTEPS\, a fun\, family-friendly\, immersive theatrical experience that brings great women from the past to life through dynamic performances\, multimedia displays\, and hands-on activities. \nIN HER FOOTSTEPS will be on Saturdays and Sundays in March 2025 at 1 PM and 4 PM at the Museum of Jersey City History\, located at the historic Apple Tree House\, 298 Academy Street\, Jersey City\, NJ. For more information\, www.speranzatheatre.org.
URL:https://njmom.com/event/in-her-footsteps-a-celebration-of-women-in-history/2026-12-19/
LOCATION:Museum of Jersey City History\, located at the historic Apple Tree House\, 298 Academy Street\, Jersey City\, NJ\, 07306\, United States
ATTACH;FMTTYPE=image/jpeg:https://njmom.com/wp-content/uploads/2025/02/Footsteps-2025-Email-Signature.jpg
ORGANIZER;CN="Diana Basmajian":MAILTO:info@speranzatheatre.org
END:VEVENT
BEGIN:VEVENT
DTSTART;TZID=UTC:20261220T100000
DTEND;TZID=UTC:20261220T200000
DTSTAMP:20260424T003514
CREATED:20260422T130708Z
LAST-MODIFIED:20260422T130708Z
UID:10014139-1797760800-1797796800@njmom.com
SUMMARY:E-Cycling Event at MarketFair
DESCRIPTION:Celebrate Earth Week with MarketFair by recycling your electronics! From April 21 through April 30\, community members can responsibly recycle unwanted e-waste during shopping center hours. Blue collection bins will be located near MarketFair’s Center Court. \nAccepted items can be found here. Please note that CRT monitors\, televisions\, paint\, household batteries\, and glass bulbs will not be accepted.
URL:https://njmom.com/event/e-cycling-event-at-marketfair/2026-12-20/
LOCATION:MarketFair\, 3535 US Highway 1\, Princeton\, NJ\, 08540\, United States
ATTACH;FMTTYPE=image/jpeg:https://njmom.com/wp-content/uploads/2026/04/EarthWeek2025_Photo_05.jpeg
END:VEVENT
BEGIN:VEVENT
DTSTART;TZID=UTC:20261220T130000
DTEND;TZID=UTC:20261220T150000
DTSTAMP:20260424T003514
CREATED:20250217T184441Z
LAST-MODIFIED:20250218T151533Z
UID:10000298-1797771600-1797778800@njmom.com
SUMMARY:IN HER FOOTSTEPS: a celebration of women in history
DESCRIPTION:Step into history with\, IN HER FOOTSTEPS\, a fun\, family-friendly\, immersive theatrical experience that brings great women from the past to life through dynamic performances\, multimedia displays\, and hands-on activities. \nIN HER FOOTSTEPS will be on Saturdays and Sundays in March 2025 at 1 PM and 4 PM at the Museum of Jersey City History\, located at the historic Apple Tree House\, 298 Academy Street\, Jersey City\, NJ. For more information\, www.speranzatheatre.org.
URL:https://njmom.com/event/in-her-footsteps-a-celebration-of-women-in-history/2026-12-20/
LOCATION:Museum of Jersey City History\, located at the historic Apple Tree House\, 298 Academy Street\, Jersey City\, NJ\, 07306\, United States
ATTACH;FMTTYPE=image/jpeg:https://njmom.com/wp-content/uploads/2025/02/Footsteps-2025-Email-Signature.jpg
ORGANIZER;CN="Diana Basmajian":MAILTO:info@speranzatheatre.org
END:VEVENT
BEGIN:VEVENT
DTSTART;TZID=UTC:20261221T080000
DTEND;TZID=UTC:20261225T153000
DTSTAMP:20260424T003514
CREATED:20260212T132900Z
LAST-MODIFIED:20260212T132900Z
UID:10013290-1797840000-1798212600@njmom.com
SUMMARY:Cranford Performance Institute Summer Camp
DESCRIPTION:Come join us at CPI for Baseball & Sports camps all summer long!
URL:https://njmom.com/event/cranford-performance-institute-summer-camp/2026-12-21/
LOCATION:Cranford Performance Institute\, 140 Bryant Avenue\, CRANFORD\, NJ\, 07016-3238\, United States
ORGANIZER;CN="Cranford Performance Institute":MAILTO:info@cpiofnj.com
END:VEVENT
BEGIN:VEVENT
DTSTART;TZID=UTC:20261221T100000
DTEND;TZID=UTC:20261221T200000
DTSTAMP:20260424T003514
CREATED:20260422T130708Z
LAST-MODIFIED:20260422T130708Z
UID:10014140-1797847200-1797883200@njmom.com
SUMMARY:E-Cycling Event at MarketFair
DESCRIPTION:Celebrate Earth Week with MarketFair by recycling your electronics! From April 21 through April 30\, community members can responsibly recycle unwanted e-waste during shopping center hours. Blue collection bins will be located near MarketFair’s Center Court. \nAccepted items can be found here. Please note that CRT monitors\, televisions\, paint\, household batteries\, and glass bulbs will not be accepted.
URL:https://njmom.com/event/e-cycling-event-at-marketfair/2026-12-21/
LOCATION:MarketFair\, 3535 US Highway 1\, Princeton\, NJ\, 08540\, United States
ATTACH;FMTTYPE=image/jpeg:https://njmom.com/wp-content/uploads/2026/04/EarthWeek2025_Photo_05.jpeg
END:VEVENT
BEGIN:VEVENT
DTSTART;TZID=UTC:20261221T160000
DTEND;TZID=UTC:20261221T190000
DTSTAMP:20260424T003514
CREATED:20260312T130555Z
LAST-MODIFIED:20260312T130555Z
UID:10013709-1797868800-1797879600@njmom.com
SUMMARY:Pet Photos with the Easter Bunny at MarketFair
DESCRIPTION:Bring your furry friends for photos with the Easter Bunny at MarketFair! All pets are welcome to participate\, and each visiting pet will receive a special spring bandana and treat to celebrate the season. Pets must be on a leash or safely secured in a carrier while visiting. \nPhoto packages will be available for purchase on site\, and reservations are recommended but not required.
URL:https://njmom.com/event/pet-photos-with-the-easter-bunny-at-marketfair/2026-12-21/
LOCATION:MarketFair\, 3535 US Highway 1\, Princeton\, NJ\, 08540\, United States
ATTACH;FMTTYPE=image/jpeg:https://njmom.com/wp-content/uploads/2026/03/pet-photos.jpeg
END:VEVENT
BEGIN:VEVENT
DTSTART;TZID=UTC:20261222T080000
DTEND;TZID=UTC:20261226T153000
DTSTAMP:20260424T003514
CREATED:20260212T132900Z
LAST-MODIFIED:20260212T132900Z
UID:10013291-1797926400-1798299000@njmom.com
SUMMARY:Cranford Performance Institute Summer Camp
DESCRIPTION:Come join us at CPI for Baseball & Sports camps all summer long!
URL:https://njmom.com/event/cranford-performance-institute-summer-camp/2026-12-22/
LOCATION:Cranford Performance Institute\, 140 Bryant Avenue\, CRANFORD\, NJ\, 07016-3238\, United States
ORGANIZER;CN="Cranford Performance Institute":MAILTO:info@cpiofnj.com
END:VEVENT
BEGIN:VEVENT
DTSTART;TZID=UTC:20261222T100000
DTEND;TZID=UTC:20261222T200000
DTSTAMP:20260424T003514
CREATED:20260422T130708Z
LAST-MODIFIED:20260422T130708Z
UID:10014141-1797933600-1797969600@njmom.com
SUMMARY:E-Cycling Event at MarketFair
DESCRIPTION:Celebrate Earth Week with MarketFair by recycling your electronics! From April 21 through April 30\, community members can responsibly recycle unwanted e-waste during shopping center hours. Blue collection bins will be located near MarketFair’s Center Court. \nAccepted items can be found here. Please note that CRT monitors\, televisions\, paint\, household batteries\, and glass bulbs will not be accepted.
URL:https://njmom.com/event/e-cycling-event-at-marketfair/2026-12-22/
LOCATION:MarketFair\, 3535 US Highway 1\, Princeton\, NJ\, 08540\, United States
ATTACH;FMTTYPE=image/jpeg:https://njmom.com/wp-content/uploads/2026/04/EarthWeek2025_Photo_05.jpeg
END:VEVENT
BEGIN:VEVENT
DTSTART;TZID=UTC:20261223T080000
DTEND;TZID=UTC:20261227T153000
DTSTAMP:20260424T003514
CREATED:20260212T132900Z
LAST-MODIFIED:20260212T132900Z
UID:10013292-1798012800-1798385400@njmom.com
SUMMARY:Cranford Performance Institute Summer Camp
DESCRIPTION:Come join us at CPI for Baseball & Sports camps all summer long!
URL:https://njmom.com/event/cranford-performance-institute-summer-camp/2026-12-23/
LOCATION:Cranford Performance Institute\, 140 Bryant Avenue\, CRANFORD\, NJ\, 07016-3238\, United States
ORGANIZER;CN="Cranford Performance Institute":MAILTO:info@cpiofnj.com
END:VEVENT
BEGIN:VEVENT
DTSTART;TZID=UTC:20261223T100000
DTEND;TZID=UTC:20261223T200000
DTSTAMP:20260424T003514
CREATED:20260422T130708Z
LAST-MODIFIED:20260422T130708Z
UID:10014142-1798020000-1798056000@njmom.com
SUMMARY:E-Cycling Event at MarketFair
DESCRIPTION:Celebrate Earth Week with MarketFair by recycling your electronics! From April 21 through April 30\, community members can responsibly recycle unwanted e-waste during shopping center hours. Blue collection bins will be located near MarketFair’s Center Court. \nAccepted items can be found here. Please note that CRT monitors\, televisions\, paint\, household batteries\, and glass bulbs will not be accepted.
URL:https://njmom.com/event/e-cycling-event-at-marketfair/2026-12-23/
LOCATION:MarketFair\, 3535 US Highway 1\, Princeton\, NJ\, 08540\, United States
ATTACH;FMTTYPE=image/jpeg:https://njmom.com/wp-content/uploads/2026/04/EarthWeek2025_Photo_05.jpeg
END:VEVENT
BEGIN:VEVENT
DTSTART;TZID=UTC:20261224T080000
DTEND;TZID=UTC:20261228T153000
DTSTAMP:20260424T003514
CREATED:20260212T132900Z
LAST-MODIFIED:20260212T132900Z
UID:10013293-1798099200-1798471800@njmom.com
SUMMARY:Cranford Performance Institute Summer Camp
DESCRIPTION:Come join us at CPI for Baseball & Sports camps all summer long!
URL:https://njmom.com/event/cranford-performance-institute-summer-camp/2026-12-24/
LOCATION:Cranford Performance Institute\, 140 Bryant Avenue\, CRANFORD\, NJ\, 07016-3238\, United States
ORGANIZER;CN="Cranford Performance Institute":MAILTO:info@cpiofnj.com
END:VEVENT
BEGIN:VEVENT
DTSTART;TZID=UTC:20261224T100000
DTEND;TZID=UTC:20261224T200000
DTSTAMP:20260424T003514
CREATED:20260422T130708Z
LAST-MODIFIED:20260422T130708Z
UID:10014143-1798106400-1798142400@njmom.com
SUMMARY:E-Cycling Event at MarketFair
DESCRIPTION:Celebrate Earth Week with MarketFair by recycling your electronics! From April 21 through April 30\, community members can responsibly recycle unwanted e-waste during shopping center hours. Blue collection bins will be located near MarketFair’s Center Court. \nAccepted items can be found here. Please note that CRT monitors\, televisions\, paint\, household batteries\, and glass bulbs will not be accepted.
URL:https://njmom.com/event/e-cycling-event-at-marketfair/2026-12-24/
LOCATION:MarketFair\, 3535 US Highway 1\, Princeton\, NJ\, 08540\, United States
ATTACH;FMTTYPE=image/jpeg:https://njmom.com/wp-content/uploads/2026/04/EarthWeek2025_Photo_05.jpeg
END:VEVENT
BEGIN:VEVENT
DTSTART;TZID=UTC:20261225T080000
DTEND;TZID=UTC:20261229T153000
DTSTAMP:20260424T003514
CREATED:20260212T132900Z
LAST-MODIFIED:20260212T132900Z
UID:10013294-1798185600-1798558200@njmom.com
SUMMARY:Cranford Performance Institute Summer Camp
DESCRIPTION:Come join us at CPI for Baseball & Sports camps all summer long!
URL:https://njmom.com/event/cranford-performance-institute-summer-camp/2026-12-25/
LOCATION:Cranford Performance Institute\, 140 Bryant Avenue\, CRANFORD\, NJ\, 07016-3238\, United States
ORGANIZER;CN="Cranford Performance Institute":MAILTO:info@cpiofnj.com
END:VEVENT
BEGIN:VEVENT
DTSTART;TZID=UTC:20261225T100000
DTEND;TZID=UTC:20261225T200000
DTSTAMP:20260424T003514
CREATED:20260422T130708Z
LAST-MODIFIED:20260422T130708Z
UID:10014144-1798192800-1798228800@njmom.com
SUMMARY:E-Cycling Event at MarketFair
DESCRIPTION:Celebrate Earth Week with MarketFair by recycling your electronics! From April 21 through April 30\, community members can responsibly recycle unwanted e-waste during shopping center hours. Blue collection bins will be located near MarketFair’s Center Court. \nAccepted items can be found here. Please note that CRT monitors\, televisions\, paint\, household batteries\, and glass bulbs will not be accepted.
URL:https://njmom.com/event/e-cycling-event-at-marketfair/2026-12-25/
LOCATION:MarketFair\, 3535 US Highway 1\, Princeton\, NJ\, 08540\, United States
ATTACH;FMTTYPE=image/jpeg:https://njmom.com/wp-content/uploads/2026/04/EarthWeek2025_Photo_05.jpeg
END:VEVENT
BEGIN:VEVENT
DTSTART;TZID=UTC:20261225T120000
DTEND;TZID=UTC:20261225T130000
DTSTAMP:20260424T003514
CREATED:20260123T133255Z
LAST-MODIFIED:20260123T133255Z
UID:10012541-1798200000-1798203600@njmom.com
SUMMARY:Cup and Canvas: Mindful Art Hour
DESCRIPTION:End your week with a simple\, mindful art project paired with a cup of tea. 🌿🎨☕. \nCup & Canvas weekly sessions are designed for anyone who needs an emotional and energetic tune-up. \nUnwind\, sip tea\, and explore your creativity to gather calm & new energy to decompress at the end of your week. \nNew beginner-friendly activity every week with instruction (e.g. simple watercolor\, collage\, clay handbuilding). No art experience needed. All materials are provided. Bring your lunch and a friend! \nBenefits for YOU:\n– Replenish Your Energy: Step away from daily demands with mindful art that soothes the mind.\n– Reconnect with Yourself: Enjoy time just for you—no expectations\, no pressure.\n– Build Connection: Share space with others who value creativity and self-care.\n– Flexible & Welcoming: Bring your lunch\, sip tea\, and create at your own pace.
URL:https://njmom.com/event/cup-and-canvas-mindful-art-hour/2026-12-25/
LOCATION:Rising Heart Studio\, 323 Main St\, Metuchen\, NJ\, 08840\, United States
ATTACH;FMTTYPE=image/jpeg:https://njmom.com/wp-content/uploads/2026/01/Screenshot-2026-01-22-at-2.00.22-PM.jpg
ORGANIZER;CN="Rising Heart Coaching and Art Studio":MAILTO:okollider@gmail.com
END:VEVENT
BEGIN:VEVENT
DTSTART;TZID=UTC:20261226T100000
DTEND;TZID=UTC:20261226T200000
DTSTAMP:20260424T003514
CREATED:20260422T130708Z
LAST-MODIFIED:20260422T130708Z
UID:10014145-1798279200-1798315200@njmom.com
SUMMARY:E-Cycling Event at MarketFair
DESCRIPTION:Celebrate Earth Week with MarketFair by recycling your electronics! From April 21 through April 30\, community members can responsibly recycle unwanted e-waste during shopping center hours. Blue collection bins will be located near MarketFair’s Center Court. \nAccepted items can be found here. Please note that CRT monitors\, televisions\, paint\, household batteries\, and glass bulbs will not be accepted.
URL:https://njmom.com/event/e-cycling-event-at-marketfair/2026-12-26/
LOCATION:MarketFair\, 3535 US Highway 1\, Princeton\, NJ\, 08540\, United States
ATTACH;FMTTYPE=image/jpeg:https://njmom.com/wp-content/uploads/2026/04/EarthWeek2025_Photo_05.jpeg
END:VEVENT
BEGIN:VEVENT
DTSTART;TZID=UTC:20261226T130000
DTEND;TZID=UTC:20261226T150000
DTSTAMP:20260424T003514
CREATED:20250217T184441Z
LAST-MODIFIED:20250218T151533Z
UID:10000299-1798290000-1798297200@njmom.com
SUMMARY:IN HER FOOTSTEPS: a celebration of women in history
DESCRIPTION:Step into history with\, IN HER FOOTSTEPS\, a fun\, family-friendly\, immersive theatrical experience that brings great women from the past to life through dynamic performances\, multimedia displays\, and hands-on activities. \nIN HER FOOTSTEPS will be on Saturdays and Sundays in March 2025 at 1 PM and 4 PM at the Museum of Jersey City History\, located at the historic Apple Tree House\, 298 Academy Street\, Jersey City\, NJ. For more information\, www.speranzatheatre.org.
URL:https://njmom.com/event/in-her-footsteps-a-celebration-of-women-in-history/2026-12-26/
LOCATION:Museum of Jersey City History\, located at the historic Apple Tree House\, 298 Academy Street\, Jersey City\, NJ\, 07306\, United States
ATTACH;FMTTYPE=image/jpeg:https://njmom.com/wp-content/uploads/2025/02/Footsteps-2025-Email-Signature.jpg
ORGANIZER;CN="Diana Basmajian":MAILTO:info@speranzatheatre.org
END:VEVENT
BEGIN:VEVENT
DTSTART;TZID=UTC:20261227T100000
DTEND;TZID=UTC:20261227T200000
DTSTAMP:20260424T003514
CREATED:20260422T130708Z
LAST-MODIFIED:20260422T130708Z
UID:10014146-1798365600-1798401600@njmom.com
SUMMARY:E-Cycling Event at MarketFair
DESCRIPTION:Celebrate Earth Week with MarketFair by recycling your electronics! From April 21 through April 30\, community members can responsibly recycle unwanted e-waste during shopping center hours. Blue collection bins will be located near MarketFair’s Center Court. \nAccepted items can be found here. Please note that CRT monitors\, televisions\, paint\, household batteries\, and glass bulbs will not be accepted.
URL:https://njmom.com/event/e-cycling-event-at-marketfair/2026-12-27/
LOCATION:MarketFair\, 3535 US Highway 1\, Princeton\, NJ\, 08540\, United States
ATTACH;FMTTYPE=image/jpeg:https://njmom.com/wp-content/uploads/2026/04/EarthWeek2025_Photo_05.jpeg
END:VEVENT
BEGIN:VEVENT
DTSTART;TZID=UTC:20261227T130000
DTEND;TZID=UTC:20261227T150000
DTSTAMP:20260424T003514
CREATED:20250217T184441Z
LAST-MODIFIED:20250218T151533Z
UID:10000300-1798376400-1798383600@njmom.com
SUMMARY:IN HER FOOTSTEPS: a celebration of women in history
DESCRIPTION:Step into history with\, IN HER FOOTSTEPS\, a fun\, family-friendly\, immersive theatrical experience that brings great women from the past to life through dynamic performances\, multimedia displays\, and hands-on activities. \nIN HER FOOTSTEPS will be on Saturdays and Sundays in March 2025 at 1 PM and 4 PM at the Museum of Jersey City History\, located at the historic Apple Tree House\, 298 Academy Street\, Jersey City\, NJ. For more information\, www.speranzatheatre.org.
URL:https://njmom.com/event/in-her-footsteps-a-celebration-of-women-in-history/2026-12-27/
LOCATION:Museum of Jersey City History\, located at the historic Apple Tree House\, 298 Academy Street\, Jersey City\, NJ\, 07306\, United States
ATTACH;FMTTYPE=image/jpeg:https://njmom.com/wp-content/uploads/2025/02/Footsteps-2025-Email-Signature.jpg
ORGANIZER;CN="Diana Basmajian":MAILTO:info@speranzatheatre.org
END:VEVENT
BEGIN:VEVENT
DTSTART;TZID=UTC:20261228T080000
DTEND;TZID=UTC:20270101T153000
DTSTAMP:20260424T003514
CREATED:20260212T132900Z
LAST-MODIFIED:20260212T132900Z
UID:10013295-1798444800-1798817400@njmom.com
SUMMARY:Cranford Performance Institute Summer Camp
DESCRIPTION:Come join us at CPI for Baseball & Sports camps all summer long!
URL:https://njmom.com/event/cranford-performance-institute-summer-camp/2026-12-28/
LOCATION:Cranford Performance Institute\, 140 Bryant Avenue\, CRANFORD\, NJ\, 07016-3238\, United States
ORGANIZER;CN="Cranford Performance Institute":MAILTO:info@cpiofnj.com
END:VEVENT
END:VCALENDAR