BEGIN:VCALENDAR
VERSION:2.0
PRODID:-//NJ Mom - ECPv6.15.20//NONSGML v1.0//EN
CALSCALE:GREGORIAN
METHOD:PUBLISH
X-WR-CALNAME:NJ Mom
X-ORIGINAL-URL:https://njmom.com
X-WR-CALDESC:Events for NJ Mom
REFRESH-INTERVAL;VALUE=DURATION:PT1H
X-Robots-Tag:noindex
X-PUBLISHED-TTL:PT1H
BEGIN:VTIMEZONE
TZID:UTC
BEGIN:STANDARD
TZOFFSETFROM:+0000
TZOFFSETTO:+0000
TZNAME:UTC
DTSTART:20250101T000000
END:STANDARD
END:VTIMEZONE
BEGIN:VEVENT
DTSTART;TZID=UTC:20260214T120000
DTEND;TZID=UTC:20260214T170000
DTSTAMP:20260422T040049
CREATED:20260116T134412Z
LAST-MODIFIED:20260116T134412Z
UID:10011710-1771070400-1771088400@njmom.com
SUMMARY:Asbury Park Valentine's Bazaar 2026
DESCRIPTION:Celebrate love in all its forms at the Asbury Park Valentine’s Bazaar on Saturday & Sunday\, Feb 14 & 15\, 12-5 PM\, at Convention Hall! Join us for a joyful\, heart-filled weekend featuring shopping\, music\, food\, and Valentine’s-themed fun for everyone. Whether you’re bringing a date\, celebrating Galentine’s Day\, or making it a family outing\, this is the perfect way to spend Valentine’s Weekend at the Jersey Shore. \nIndoors • Free Admission • All Ages • Pet-Friendly \nWhat to Expect:\n* SHOPPING: Find the perfect Valentine’s Day gifts for your loved ones—or treat yourself! Browse a curated lineup of local makers and small businesses.\n* VALENTINE’S DAY PHOTO WALL: Strike a pose with your sweetheart\, besties\, family\, or furry Valentine at our immersive Valentine’s Day Photo Wall – perfect for memorable snapshots.\n* FRESH FLOWER BOUQUET BAR: Create or grab a beautiful fresh bouquet from our Fleur de Mer pop-up flower bar to give the gift of flowers this Valentine’s Day.\n* FOOD & LIBATIONS: Celebrate Valentine’s with a festive lunch at Mutiny Beach\, Shucked Local 130\, Offshore Coffee Co.\, and Betty’s Ice Box.\n* LIVE MUSIC: Soak in live music throughout the weekend at Convention Hall\, setting the perfect romantic vibe.\n* KIDS ACTIVITIES: Family-friendly fun with face painting and more for our youngest guests. The weekend will feature Krissy Face Paint on Saturday and Ky Ky’s Face Painting\, Balloon Animals\, Sand Art\, Hair Tinsel\, Bubble Braids on Sunday. Stop by A For Asbury Park on Sunday for a kid-friendly vendor booth featuring children’s book reading and books and coloring books for purchase. \nJoin us at the Asbury Park Valentine’s Bazaar 2026 for a weekend full of love\, community\, and local magic.
URL:https://njmom.com/event/asbury-park-valentines-bazaar-2026/2026-02-14/
LOCATION:Asbury Park Convention Hall\, 1300 Ocean Avenue\, Asbury Park\, NJ\, 07712\, United States
CATEGORIES:Valentine's Day,Winter Festivals,Winter Market
ATTACH;FMTTYPE=image/png:https://njmom.com/wp-content/uploads/2026/01/2026-valentines-2-FB-small.png
ORGANIZER;CN="Asbury Park Bazaar":MAILTO:team@asburyparkbazaar.com
END:VEVENT
BEGIN:VEVENT
DTSTART;TZID=UTC:20260215T100000
DTEND;TZID=UTC:20260215T120000
DTSTAMP:20260422T040049
CREATED:20260209T133357Z
LAST-MODIFIED:20260209T133357Z
UID:10013131-1771149600-1771156800@njmom.com
SUMMARY:Family Day at Morven: If You Want a Friend in Princeton
DESCRIPTION:If you want a friend in Princeton…drop in for a family day at Morven. Visit a home that’s over 250 years old\, and become part of the stories of everyone who lived within its walls.\nThe day will feature activities and crafts for all ages\, such as scavenger hunts\, clay sculpting\, zine making\, and storytimes (10:30 and 11:30 am\, highlighting stories exploring Black History Month and Presidents’ Day for different age groups). Snacks and juice provided! You’re welcome to drop-in when you can; pre-registration is appreciated.
URL:https://njmom.com/event/family-day-at-morven-if-you-want-a-friend-in-princeton/
LOCATION:Morven Museum & Garden\, 55 Stockton Street\, Princeton\, NJ\, 08540\, United States
CATEGORIES:Free Events,Winter Festivals
ATTACH;FMTTYPE=image/jpeg:https://njmom.com/wp-content/uploads/2026/02/Family-Day-300x250-1.jpg
ORGANIZER;CN="Morven Museum &amp%3B Garden":MAILTO:info@morven.org
END:VEVENT
BEGIN:VEVENT
DTSTART;TZID=UTC:20260215T120000
DTEND;TZID=UTC:20260215T170000
DTSTAMP:20260422T040049
CREATED:20260116T134412Z
LAST-MODIFIED:20260116T134412Z
UID:10011711-1771156800-1771174800@njmom.com
SUMMARY:Asbury Park Valentine's Bazaar 2026
DESCRIPTION:Celebrate love in all its forms at the Asbury Park Valentine’s Bazaar on Saturday & Sunday\, Feb 14 & 15\, 12-5 PM\, at Convention Hall! Join us for a joyful\, heart-filled weekend featuring shopping\, music\, food\, and Valentine’s-themed fun for everyone. Whether you’re bringing a date\, celebrating Galentine’s Day\, or making it a family outing\, this is the perfect way to spend Valentine’s Weekend at the Jersey Shore. \nIndoors • Free Admission • All Ages • Pet-Friendly \nWhat to Expect:\n* SHOPPING: Find the perfect Valentine’s Day gifts for your loved ones—or treat yourself! Browse a curated lineup of local makers and small businesses.\n* VALENTINE’S DAY PHOTO WALL: Strike a pose with your sweetheart\, besties\, family\, or furry Valentine at our immersive Valentine’s Day Photo Wall – perfect for memorable snapshots.\n* FRESH FLOWER BOUQUET BAR: Create or grab a beautiful fresh bouquet from our Fleur de Mer pop-up flower bar to give the gift of flowers this Valentine’s Day.\n* FOOD & LIBATIONS: Celebrate Valentine’s with a festive lunch at Mutiny Beach\, Shucked Local 130\, Offshore Coffee Co.\, and Betty’s Ice Box.\n* LIVE MUSIC: Soak in live music throughout the weekend at Convention Hall\, setting the perfect romantic vibe.\n* KIDS ACTIVITIES: Family-friendly fun with face painting and more for our youngest guests. The weekend will feature Krissy Face Paint on Saturday and Ky Ky’s Face Painting\, Balloon Animals\, Sand Art\, Hair Tinsel\, Bubble Braids on Sunday. Stop by A For Asbury Park on Sunday for a kid-friendly vendor booth featuring children’s book reading and books and coloring books for purchase. \nJoin us at the Asbury Park Valentine’s Bazaar 2026 for a weekend full of love\, community\, and local magic.
URL:https://njmom.com/event/asbury-park-valentines-bazaar-2026/2026-02-15/
LOCATION:Asbury Park Convention Hall\, 1300 Ocean Avenue\, Asbury Park\, NJ\, 07712\, United States
CATEGORIES:Valentine's Day,Winter Festivals,Winter Market
ATTACH;FMTTYPE=image/png:https://njmom.com/wp-content/uploads/2026/01/2026-valentines-2-FB-small.png
ORGANIZER;CN="Asbury Park Bazaar":MAILTO:team@asburyparkbazaar.com
END:VEVENT
END:VCALENDAR