BEGIN:VCALENDAR
VERSION:2.0
PRODID:-//NJ Mom - ECPv6.15.20//NONSGML v1.0//EN
CALSCALE:GREGORIAN
METHOD:PUBLISH
X-WR-CALNAME:NJ Mom
X-ORIGINAL-URL:https://njmom.com
X-WR-CALDESC:Events for NJ Mom
REFRESH-INTERVAL;VALUE=DURATION:PT1H
X-Robots-Tag:noindex
X-PUBLISHED-TTL:PT1H
BEGIN:VTIMEZONE
TZID:UTC
BEGIN:STANDARD
TZOFFSETFROM:+0000
TZOFFSETTO:+0000
TZNAME:UTC
DTSTART:20250101T000000
END:STANDARD
END:VTIMEZONE
BEGIN:VEVENT
DTSTART;TZID=UTC:20260409T100000
DTEND;TZID=UTC:20260409T120000
DTSTAMP:20260424T133308
CREATED:20251021T130332Z
LAST-MODIFIED:20260312T125722Z
UID:10009425-1775728800-1775736000@njmom.com
SUMMARY:Play&Swim - Mom's Group at Five Star Swim School - Eatontown NJ
DESCRIPTION:Enjoy a relaxed\, family-friendly morning filled with swimming\, play\, and bonding. Our heated indoor pool and padded play area make it the perfect spot for parents\, caregivers\, and children to spend quality time together while having fun and socializing with other families! \nJoin us every Thursday from 10:00 AM to 12:00 PM\, with swimming from 10 to 11 and playtime until noon. Homeschool groups are always welcome! \nPrice: $15 per child\, and one parent or caregiver swims free. Additional parents are $5\, and extra children are $10. \nJoin the fun and make Thursday mornings your family’s favorite time of the week. Starts on October 23rd.
URL:https://njmom.com/event/playswim-moms-group-at-five-star-swim-school-eatontown-nj/2026-04-09/
LOCATION:Five Star Swim School –  Eatontown NJ\, 1 Corbett Way 07724\, Eatontown\, NJ\, 07724\, United States
CATEGORIES:New Moms
ATTACH;FMTTYPE=image/jpeg:https://njmom.com/wp-content/uploads/2025/10/NJMOM-Playswim-Eatontown-Oct25.jpg
ORGANIZER;CN="Five Star Swim School - Eatontown NJ":MAILTO:Eatontown@FSSwimSchool.com
END:VEVENT
BEGIN:VEVENT
DTSTART;TZID=UTC:20260412T130000
DTEND;TZID=UTC:20260412T150000
DTSTAMP:20260424T133308
CREATED:20260319T123213Z
LAST-MODIFIED:20260319T123213Z
UID:10013761-1775998800-1776006000@njmom.com
SUMMARY:Children's Book Release Event: A-Happy- in-Your-Heart-Day Book Launch Celebrates Kindness\, Creativity\, and Emotional Learning
DESCRIPTION:A-Happy-in-Your-Heart-Day Book Launch Celebrates Kindness and Emotional Learning\nApril 12\, 2026 | 1:00–3:00 PM | 310 Bellevue Ave\, Hammonton\, NJ 08037\nHAMMONTON\, NJ — A-Happy-in-Your-Heart-Day\, a new children’s book and social-emotional learning (SEL) program\, will launch on Sunday\, April 12\, 2026\, from 1:00–3:00 PM at the Hammonton Family Success Center.\nMore than a children’s story\, A-Happy-in-Your-Heart-Day is a story-centered SEL experience that helps children recognize emotions\, practice kindness\, and repair difficult moments through creative action. The heartwarming story follows Alex\, a boy who doesn’t get everything right but consistently chooses compassion\, showing how empathy can brighten even the hardest days.\nDesigned for classrooms and families\, the program combines read-aloud storytelling\, guided discussion\, and hands-on art activities that reinforce empathy\, perspective-taking\, and positive decision-making. Children create heart-based art projects that make social-emotional learning tangible and memorable.\nThe launch event will include a book reading\, creative art activities\, a book signing\, and light refreshments. Meet the author\, Hammonton resident Jamie Stephan\, and illustrator\, Vineland resident Michael Cagno. The event is free and open to the public. Thank you to the Hammonton Family Success Center\, a strong pillar of the community!\nEvent Details\nLocation: Hammonton Family Success Center\, 310 Bellevue Ave\, Hammonton\, NJ 08037\nDate: Sunday\, April 12\, 2026\nTime: 1:00–3:00 PM\nActivities: Reading\, art-making\, signing\, and refreshments
URL:https://njmom.com/event/childrens-book-release-event-a-happy-in-your-heart-day-book-launch-celebrates-kindness-creativity-and-emotional-learning/
CATEGORIES:Free Events,New Moms,Spring Festivals
ATTACH;FMTTYPE=image/jpeg:https://njmom.com/wp-content/uploads/2026/03/Invite-HFS-Draft.jpg
END:VEVENT
END:VCALENDAR