BEGIN:VCALENDAR
VERSION:2.0
PRODID:-//NJ Mom - ECPv6.15.20//NONSGML v1.0//EN
CALSCALE:GREGORIAN
METHOD:PUBLISH
X-WR-CALNAME:NJ Mom
X-ORIGINAL-URL:https://njmom.com
X-WR-CALDESC:Events for NJ Mom
REFRESH-INTERVAL;VALUE=DURATION:PT1H
X-Robots-Tag:noindex
X-PUBLISHED-TTL:PT1H
BEGIN:VTIMEZONE
TZID:UTC
BEGIN:STANDARD
TZOFFSETFROM:+0000
TZOFFSETTO:+0000
TZNAME:UTC
DTSTART:20250101T000000
END:STANDARD
END:VTIMEZONE
BEGIN:VTIMEZONE
TZID:America/New_York
BEGIN:DAYLIGHT
TZOFFSETFROM:-0500
TZOFFSETTO:-0400
TZNAME:EDT
DTSTART:20250309T070000
END:DAYLIGHT
BEGIN:STANDARD
TZOFFSETFROM:-0400
TZOFFSETTO:-0500
TZNAME:EST
DTSTART:20251102T060000
END:STANDARD
BEGIN:DAYLIGHT
TZOFFSETFROM:-0500
TZOFFSETTO:-0400
TZNAME:EDT
DTSTART:20260308T070000
END:DAYLIGHT
BEGIN:STANDARD
TZOFFSETFROM:-0400
TZOFFSETTO:-0500
TZNAME:EST
DTSTART:20261101T060000
END:STANDARD
BEGIN:DAYLIGHT
TZOFFSETFROM:-0500
TZOFFSETTO:-0400
TZNAME:EDT
DTSTART:20270314T070000
END:DAYLIGHT
BEGIN:STANDARD
TZOFFSETFROM:-0400
TZOFFSETTO:-0500
TZNAME:EST
DTSTART:20271107T060000
END:STANDARD
END:VTIMEZONE
BEGIN:VEVENT
DTSTART;TZID=UTC:20260503T123000
DTEND;TZID=UTC:20260503T153000
DTSTAMP:20260421T190623
CREATED:20260317T121937Z
LAST-MODIFIED:20260317T121937Z
UID:10013745-1777811400-1777822200@njmom.com
SUMMARY:Atlantic Visitng Nurse Rummage Sale
DESCRIPTION:The Atlantic Visiting Nurse (AVN) Rummage Sale returns this spring with thousands of gently used treasures at unbeatable prices. Shop clothing\, jewelry\, antiques\, home décor\, books\, toys\, furniture\, and more while supporting compassionate home health and hospice care in our community. The sale is May 1 & 2 from 9:30 am -12:30 pm and Sunday\, May 3 from 12:30 -3:30. Don’t miss one of the region’s most beloved spring thrift events in Far Hills!
URL:https://njmom.com/event/atlantic-visitng-nurse-rummage-sale/2026-05-03/
LOCATION:far hills fairgrounds\, 1 Peapack Rd\, Far Hills\, NJ\, 07931\, United States
CATEGORIES:Charity,Free Events
ATTACH;FMTTYPE=image/jpeg:https://njmom.com/wp-content/uploads/2026/03/aerial-marked-up.jpg
END:VEVENT
BEGIN:VEVENT
DTSTART;VALUE=DATE:20260511
DTEND;VALUE=DATE:20260518
DTSTAMP:20260421T190623
CREATED:20260408T133859Z
LAST-MODIFIED:20260408T133859Z
UID:10013845-1778457600-1779062399@njmom.com
SUMMARY:Running for the Most Good Virtual 5k
DESCRIPTION:The Salvation Army New Jersey Division is holding its first-ever “Running for the Most Good” Virtual 5K from May 11–17 in celebration of National Salvation Army Week. \nParticipants can walk or run 3.1 miles at their own pace\, from any location\, while supporting The Salvation Army’s programs that provide food\, shelter\, youth services\, and emergency aid to individuals and families in need right in their own town or area.
URL:https://njmom.com/event/running-for-the-most-good-virtual-5k/
LOCATION:NJ
CATEGORIES:Charity
ATTACH;FMTTYPE=image/jpeg:https://njmom.com/wp-content/uploads/2026/04/5K-Post.jpg
END:VEVENT
BEGIN:VEVENT
DTSTART;TZID=UTC:20260517T120000
DTEND;TZID=UTC:20260517T150000
DTSTAMP:20260421T190623
CREATED:20260420T123028Z
LAST-MODIFIED:20260420T123028Z
UID:10013885-1779019200-1779030000@njmom.com
SUMMARY:Walk4Friends 2026
DESCRIPTION:Please join The Friendship Circle of Central Jersey on Sunday\, May 17th at 12 pm and be a part of something meaningful! \nWalk4Friends is an annual community event that brings people together to raise awareness and funds for individuals with disabilities. The walk promotes inclusion\, friendship\, and support\, uniting families\, volunteers\, and the community in a fun and meaningful way. Proceeds help sustain Friendship Circle’s programs\, ensuring participants continue to thrive in a warm and inclusive environment. \nThe event will be taking place at the Marlboro Recreation Center in Marlboro Township\, NJ.\nYou will enjoy DJ music\, games\, food\, and festival fun for all ages.\nThis is a family friendly event and open to everyone.\nWe can’t wait to see you on Sunday\, May 17th!
URL:https://njmom.com/event/walk4friends-2026/
LOCATION:Marlboro Township Recreation Center\, 1979 Township Drive\, Marlboro\, NJ\, 07746
CATEGORIES:Charity,Spring Festivals
ATTACH;FMTTYPE=image/jpeg:https://njmom.com/wp-content/uploads/2026/04/walk-png.jpg
ORGANIZER;CN="Friendship Circle of Central Jersey":MAILTO:info@friendsnj.com
END:VEVENT
BEGIN:VEVENT
DTSTART;TZID=UTC:20260530T090000
DTEND;TZID=UTC:20260530T140000
DTSTAMP:20260421T190623
CREATED:20260305T145408Z
LAST-MODIFIED:20260305T145408Z
UID:10013649-1780131600-1780149600@njmom.com
SUMMARY:Paws & Feet 5k Run/Walk And Doggie Fun Day!
DESCRIPTION:Join us for the highly anticipated Paws&Feet 2026 – 5k Walk/Run and Community Fun Day\, hosted by the Animal Welfare Association! This annual celebration is all about honoring the special connection between humans and their beloved pets while supporting a great cause. \nThe day promises entertainment and enjoyment for the whole family\, including your furry companions. Experience live performances\, explore local small business vendors\, and indulge in delicious food and drinks from popular local eateries. Plus\, kids can engage in a variety of exciting activities tailored just for them\, including AWA’s signature Pretend Play Vet Clinic! \nChoose your pace by signing up for the 5k run and aim for a personal record or take a leisurely stroll with your dog and soak in the vibrant atmosphere. If a full 5k isn’t your style\, no worries! Participate in the 1-mile Wag N’ Walk\, where fun is the focus for everyone. All proceeds directly benefit AWA’s vital programs\, making a difference in the lives of tens of thousands each year. \nCome be part of a day filled with joy\, community spirit\, and meaningful impact!\nhttps://www.awanj.org/paws-and-feet/ \nRegister for the 5K or Wag n’ Walk https://give.awanj.org/…/pf-run-walk…/e763651
URL:https://njmom.com/event/paws-feet-5k-run-walk-and-doggie-fun-day/
LOCATION:Cooper River Park\, N Park Dr\, Pennsauken\, NJ\, 08109\, United States
CATEGORIES:Charity
ATTACH;FMTTYPE=image/jpeg:https://njmom.com/wp-content/uploads/2026/03/Paws-Feet-Activities-FB-Cover-940-x-400-px.jpg
ORGANIZER;CN="Animal Welfare Association":MAILTO:jaimem@awanj.org
END:VEVENT
BEGIN:VEVENT
DTSTART;TZID=UTC:20261025T083000
DTEND;TZID=UTC:20261025T130000
DTSTAMP:20260421T190624
CREATED:20250815T135739Z
LAST-MODIFIED:20250815T135739Z
UID:10005294-1792917000-1792933200@njmom.com
SUMMARY:Deal Trick or Trot
DESCRIPTION:The Deal Trick or Trot\, co-hosted by Jersey Shore Running Club and Deal Fire Co. No. 2 consists of a 4-mile run (or walk)\, Harry Drazin Memorial Racewalk\, a costumed pet walk and kid’s dashes. This annual event takes place on Sunday\, October 26\, 2025 at Deal Casino in Deal\, NJ. Awards are plentiful for top 3 males/females in 10 year age groups\, best pet costumes\, best human costumes\, best team costume and random raffle prizes. You don’t have to be a fast runner to win a prize at the Trick or Trot. Registration is at www.dealtrickortrtot.com. Join us at this family & pet friendly event if you dare for a wickedly fun 4-mile run! All proceeds of this event will benefit Deal Fire Co. No. 2 and Shore Saves animal rescue (www.shoresaves.com).
URL:https://njmom.com/event/deal-trick-or-trot/2026-10-25/
LOCATION:Deal Casino\, 125 Ocean Ave\, Deal\, NJ\, 07723\, United States
CATEGORIES:Charity,Fall Festivals
ATTACH;FMTTYPE=image/png:https://njmom.com/wp-content/uploads/2025/08/DEAL.png
ORGANIZER;CN="Jersey Shore Running Club":MAILTO:dealtrickortrot@gmail.com
END:VEVENT
BEGIN:VEVENT
DTSTART;TZID=America/New_York:20261029T080000
DTEND;TZID=America/New_York:20261029T170000
DTSTAMP:20260421T190624
CREATED:20260327T125020Z
LAST-MODIFIED:20260327T125020Z
UID:10013794-1793260800-1793293200@njmom.com
SUMMARY:Unmasking Hope Gala – New Jersey Chapter of the Star Legacy Foundation
DESCRIPTION:The New Jersey Chapter of the Star Legacy Foundation invites you to its second annual gala\, Unmasking Hope\, on October 29 at The Royal Manor in Garfield\, NJ. \nThis elegant masquerade-themed evening will bring together community members\, healthcare professionals\, and supporters for a meaningful night of remembrance and impact. Guests will enjoy a cocktail hour\, live jazz band throughout the evening\, premium open bar\, sit-down dinner\, heartfelt program\, and silent auction. \nAll proceeds support the Star Legacy Foundation’s mission to increase awareness\, research\, education\, and family support surrounding pregnancy and infant loss. \nGuests are encouraged to wear cocktail or formal attire with a Venetian mask.
URL:https://njmom.com/event/unmasking-hope-gala-new-jersey-chapter-of-the-star-legacy-foundation/2026-10-29/1/
LOCATION:The Royal Manor\, 454 Midland Avenue\, Garfield\, 07026\, United States
CATEGORIES:Charity
ATTACH;FMTTYPE=image/jpeg:https://njmom.com/wp-content/uploads/2026/03/07F5169F-788F-4C86-AB0A-2178DE84E2D1.jpg
ORGANIZER;CN="Star Legacy Foundation -  New Jersey chapter":MAILTO:Newjersey@starlegacyfoundation.org
END:VEVENT
BEGIN:VEVENT
DTSTART;TZID=America/New_York:20261029T183000
DTEND;TZID=America/New_York:20261029T223000
DTSTAMP:20260421T190624
CREATED:20260327T125020Z
LAST-MODIFIED:20260327T125020Z
UID:10013795-1793298600-1793313000@njmom.com
SUMMARY:Unmasking Hope Gala – New Jersey Chapter of the Star Legacy Foundation
DESCRIPTION:The New Jersey Chapter of the Star Legacy Foundation invites you to its second annual gala\, Unmasking Hope\, on October 29 at The Royal Manor in Garfield\, NJ. \nThis elegant masquerade-themed evening will bring together community members\, healthcare professionals\, and supporters for a meaningful night of remembrance and impact. Guests will enjoy a cocktail hour\, live jazz band throughout the evening\, premium open bar\, sit-down dinner\, heartfelt program\, and silent auction. \nAll proceeds support the Star Legacy Foundation’s mission to increase awareness\, research\, education\, and family support surrounding pregnancy and infant loss. \nGuests are encouraged to wear cocktail or formal attire with a Venetian mask.
URL:https://njmom.com/event/unmasking-hope-gala-new-jersey-chapter-of-the-star-legacy-foundation/2026-10-29/2/
LOCATION:The Royal Manor\, 454 Midland Avenue\, Garfield\, 07026\, United States
CATEGORIES:Charity
ATTACH;FMTTYPE=image/jpeg:https://njmom.com/wp-content/uploads/2026/03/07F5169F-788F-4C86-AB0A-2178DE84E2D1.jpg
ORGANIZER;CN="Star Legacy Foundation -  New Jersey chapter":MAILTO:Newjersey@starlegacyfoundation.org
END:VEVENT
BEGIN:VEVENT
DTSTART;TZID=UTC:20271031T083000
DTEND;TZID=UTC:20271031T130000
DTSTAMP:20260421T190624
CREATED:20250815T135739Z
LAST-MODIFIED:20250815T135739Z
UID:10005295-1824971400-1824987600@njmom.com
SUMMARY:Deal Trick or Trot
DESCRIPTION:The Deal Trick or Trot\, co-hosted by Jersey Shore Running Club and Deal Fire Co. No. 2 consists of a 4-mile run (or walk)\, Harry Drazin Memorial Racewalk\, a costumed pet walk and kid’s dashes. This annual event takes place on Sunday\, October 26\, 2025 at Deal Casino in Deal\, NJ. Awards are plentiful for top 3 males/females in 10 year age groups\, best pet costumes\, best human costumes\, best team costume and random raffle prizes. You don’t have to be a fast runner to win a prize at the Trick or Trot. Registration is at www.dealtrickortrtot.com. Join us at this family & pet friendly event if you dare for a wickedly fun 4-mile run! All proceeds of this event will benefit Deal Fire Co. No. 2 and Shore Saves animal rescue (www.shoresaves.com).
URL:https://njmom.com/event/deal-trick-or-trot/2027-10-31/
LOCATION:Deal Casino\, 125 Ocean Ave\, Deal\, NJ\, 07723\, United States
CATEGORIES:Charity,Fall Festivals
ATTACH;FMTTYPE=image/png:https://njmom.com/wp-content/uploads/2025/08/DEAL.png
ORGANIZER;CN="Jersey Shore Running Club":MAILTO:dealtrickortrot@gmail.com
END:VEVENT
BEGIN:VEVENT
DTSTART;TZID=UTC:20281029T083000
DTEND;TZID=UTC:20281029T130000
DTSTAMP:20260421T190624
CREATED:20250815T135739Z
LAST-MODIFIED:20250815T135739Z
UID:10005296-1856421000-1856437200@njmom.com
SUMMARY:Deal Trick or Trot
DESCRIPTION:The Deal Trick or Trot\, co-hosted by Jersey Shore Running Club and Deal Fire Co. No. 2 consists of a 4-mile run (or walk)\, Harry Drazin Memorial Racewalk\, a costumed pet walk and kid’s dashes. This annual event takes place on Sunday\, October 26\, 2025 at Deal Casino in Deal\, NJ. Awards are plentiful for top 3 males/females in 10 year age groups\, best pet costumes\, best human costumes\, best team costume and random raffle prizes. You don’t have to be a fast runner to win a prize at the Trick or Trot. Registration is at www.dealtrickortrtot.com. Join us at this family & pet friendly event if you dare for a wickedly fun 4-mile run! All proceeds of this event will benefit Deal Fire Co. No. 2 and Shore Saves animal rescue (www.shoresaves.com).
URL:https://njmom.com/event/deal-trick-or-trot/2028-10-29/
LOCATION:Deal Casino\, 125 Ocean Ave\, Deal\, NJ\, 07723\, United States
CATEGORIES:Charity,Fall Festivals
ATTACH;FMTTYPE=image/png:https://njmom.com/wp-content/uploads/2025/08/DEAL.png
ORGANIZER;CN="Jersey Shore Running Club":MAILTO:dealtrickortrot@gmail.com
END:VEVENT
BEGIN:VEVENT
DTSTART;TZID=UTC:20291028T083000
DTEND;TZID=UTC:20291028T130000
DTSTAMP:20260421T190624
CREATED:20250815T135739Z
LAST-MODIFIED:20250815T135739Z
UID:10005297-1887870600-1887886800@njmom.com
SUMMARY:Deal Trick or Trot
DESCRIPTION:The Deal Trick or Trot\, co-hosted by Jersey Shore Running Club and Deal Fire Co. No. 2 consists of a 4-mile run (or walk)\, Harry Drazin Memorial Racewalk\, a costumed pet walk and kid’s dashes. This annual event takes place on Sunday\, October 26\, 2025 at Deal Casino in Deal\, NJ. Awards are plentiful for top 3 males/females in 10 year age groups\, best pet costumes\, best human costumes\, best team costume and random raffle prizes. You don’t have to be a fast runner to win a prize at the Trick or Trot. Registration is at www.dealtrickortrtot.com. Join us at this family & pet friendly event if you dare for a wickedly fun 4-mile run! All proceeds of this event will benefit Deal Fire Co. No. 2 and Shore Saves animal rescue (www.shoresaves.com).
URL:https://njmom.com/event/deal-trick-or-trot/2029-10-28/
LOCATION:Deal Casino\, 125 Ocean Ave\, Deal\, NJ\, 07723\, United States
CATEGORIES:Charity,Fall Festivals
ATTACH;FMTTYPE=image/png:https://njmom.com/wp-content/uploads/2025/08/DEAL.png
ORGANIZER;CN="Jersey Shore Running Club":MAILTO:dealtrickortrot@gmail.com
END:VEVENT
END:VCALENDAR