BEGIN:VCALENDAR
VERSION:2.0
PRODID:-//NJ Mom - ECPv6.15.20//NONSGML v1.0//EN
CALSCALE:GREGORIAN
METHOD:PUBLISH
X-ORIGINAL-URL:https://njmom.com
X-WR-CALDESC:Events for NJ Mom
REFRESH-INTERVAL;VALUE=DURATION:PT1H
X-Robots-Tag:noindex
X-PUBLISHED-TTL:PT1H
BEGIN:VTIMEZONE
TZID:UTC
BEGIN:STANDARD
TZOFFSETFROM:+0000
TZOFFSETTO:+0000
TZNAME:UTC
DTSTART:20250101T000000
END:STANDARD
END:VTIMEZONE
BEGIN:VEVENT
DTSTART;TZID=UTC:20260119T130000
DTEND;TZID=UTC:20260119T160000
DTSTAMP:20260421T173719
CREATED:20260107T154054Z
LAST-MODIFIED:20260107T154054Z
UID:10011675-1768827600-1768838400@njmom.com
SUMMARY:MLK Volunteer Day
DESCRIPTION:Create toys for the shelter pets and learn about ways you can\nhelp animals in your community.\nLocation: AWA Front Lobby & Community Room\nStations are split in 30-minute slots.\nAny volunteer under 15 years old needs to have a parent/guardian with them.\nRegistration link: https://give.awanj.org/mlkdayofservice2026
URL:https://njmom.com/event/mlk-volunteer-day/
LOCATION:Animal Welfare Association\, 509 Centennial Blvd\, Voorhees\, NJ\, 08043
CATEGORIES:Charity
ATTACH;FMTTYPE=image/jpeg:https://njmom.com/wp-content/uploads/2026/01/MLK-Volunteer-Day-Real-Estate-Flyer.jpg
ORGANIZER;CN="Animal Welfare Association":MAILTO:jaimem@awanj.org
END:VEVENT
END:VCALENDAR