BEGIN:VCALENDAR
VERSION:2.0
PRODID:-//NJ Mom - ECPv6.15.20//NONSGML v1.0//EN
CALSCALE:GREGORIAN
METHOD:PUBLISH
X-ORIGINAL-URL:https://njmom.com
X-WR-CALDESC:Events for NJ Mom
REFRESH-INTERVAL;VALUE=DURATION:PT1H
X-Robots-Tag:noindex
X-PUBLISHED-TTL:PT1H
BEGIN:VTIMEZONE
TZID:UTC
BEGIN:STANDARD
TZOFFSETFROM:+0000
TZOFFSETTO:+0000
TZNAME:UTC
DTSTART:20250101T000000
END:STANDARD
END:VTIMEZONE
BEGIN:VEVENT
DTSTART;TZID=UTC:20261010T193000
DTEND;TZID=UTC:20261115T223000
DTSTAMP:20260424T063028
CREATED:20260309T124258Z
LAST-MODIFIED:20260309T124258Z
UID:10013660-1791660600-1794781800@njmom.com
SUMMARY:Hamlet
DESCRIPTION:A towering tragedy of ambition\, betrayal\, and moral reckoning\, Hamlet follows a young prince pulled into a deadly web of secrets embroiled at the seat of power. Urgent\, suspenseful\, and fiercely human\, Shakespeare’s most psychologically-rich play crackles with tension as it probes the cost of action — and inaction — in a world where truth is a slippery thing. Epic and endlessly relevant\, Hamlet asks what it truly means to live with a conscience in a corrupt world. \nOnly Complete Works Subscriptions are available at this time. \nSingle tickets will be released at a later date.
URL:https://njmom.com/event/hamlet/
LOCATION:The F.M. Kirby Shakespeare Theatre\, 36 Madison Avenue\, Madison\, New Jersey\, 07940
ATTACH;FMTTYPE=image/jpeg:https://njmom.com/wp-content/uploads/2026/03/Hamlet-1080-x-1080.jpg
ORGANIZER;CN="The Shakespeare Theatre of New Jersey":MAILTO:Info@ShakespeareNJ.org
END:VEVENT
BEGIN:VEVENT
DTSTART;TZID=UTC:20261023T080000
DTEND;TZID=UTC:20261027T153000
DTSTAMP:20260424T063028
CREATED:20260212T132900Z
LAST-MODIFIED:20260212T132900Z
UID:10013249-1792742400-1793115000@njmom.com
SUMMARY:Cranford Performance Institute Summer Camp
DESCRIPTION:Come join us at CPI for Baseball & Sports camps all summer long!
URL:https://njmom.com/event/cranford-performance-institute-summer-camp/2026-10-23/
LOCATION:Cranford Performance Institute\, 140 Bryant Avenue\, CRANFORD\, NJ\, 07016-3238\, United States
ORGANIZER;CN="Cranford Performance Institute":MAILTO:info@cpiofnj.com
END:VEVENT
BEGIN:VEVENT
DTSTART;TZID=UTC:20261026T080000
DTEND;TZID=UTC:20261030T153000
DTSTAMP:20260424T063028
CREATED:20260212T132900Z
LAST-MODIFIED:20260212T132900Z
UID:10013250-1793001600-1793374200@njmom.com
SUMMARY:Cranford Performance Institute Summer Camp
DESCRIPTION:Come join us at CPI for Baseball & Sports camps all summer long!
URL:https://njmom.com/event/cranford-performance-institute-summer-camp/2026-10-26/
LOCATION:Cranford Performance Institute\, 140 Bryant Avenue\, CRANFORD\, NJ\, 07016-3238\, United States
ORGANIZER;CN="Cranford Performance Institute":MAILTO:info@cpiofnj.com
END:VEVENT
BEGIN:VEVENT
DTSTART;TZID=UTC:20261027T080000
DTEND;TZID=UTC:20261031T153000
DTSTAMP:20260424T063028
CREATED:20260212T132900Z
LAST-MODIFIED:20260212T132900Z
UID:10013251-1793088000-1793460600@njmom.com
SUMMARY:Cranford Performance Institute Summer Camp
DESCRIPTION:Come join us at CPI for Baseball & Sports camps all summer long!
URL:https://njmom.com/event/cranford-performance-institute-summer-camp/2026-10-27/
LOCATION:Cranford Performance Institute\, 140 Bryant Avenue\, CRANFORD\, NJ\, 07016-3238\, United States
ORGANIZER;CN="Cranford Performance Institute":MAILTO:info@cpiofnj.com
END:VEVENT
BEGIN:VEVENT
DTSTART;TZID=UTC:20261027T100000
DTEND;TZID=UTC:20261027T200000
DTSTAMP:20260424T063028
CREATED:20260422T130708Z
LAST-MODIFIED:20260422T130708Z
UID:10014085-1793095200-1793131200@njmom.com
SUMMARY:E-Cycling Event at MarketFair
DESCRIPTION:Celebrate Earth Week with MarketFair by recycling your electronics! From April 21 through April 30\, community members can responsibly recycle unwanted e-waste during shopping center hours. Blue collection bins will be located near MarketFair’s Center Court. \nAccepted items can be found here. Please note that CRT monitors\, televisions\, paint\, household batteries\, and glass bulbs will not be accepted.
URL:https://njmom.com/event/e-cycling-event-at-marketfair/2026-10-27/
LOCATION:MarketFair\, 3535 US Highway 1\, Princeton\, NJ\, 08540\, United States
ATTACH;FMTTYPE=image/jpeg:https://njmom.com/wp-content/uploads/2026/04/EarthWeek2025_Photo_05.jpeg
END:VEVENT
END:VCALENDAR