BEGIN:VCALENDAR
VERSION:2.0
PRODID:-//NJ Mom - ECPv6.15.20//NONSGML v1.0//EN
CALSCALE:GREGORIAN
METHOD:PUBLISH
X-WR-CALNAME:NJ Mom
X-ORIGINAL-URL:https://njmom.com
X-WR-CALDESC:Events for NJ Mom
REFRESH-INTERVAL;VALUE=DURATION:PT1H
X-Robots-Tag:noindex
X-PUBLISHED-TTL:PT1H
BEGIN:VTIMEZONE
TZID:UTC
BEGIN:STANDARD
TZOFFSETFROM:+0000
TZOFFSETTO:+0000
TZNAME:UTC
DTSTART:20250101T000000
END:STANDARD
END:VTIMEZONE
BEGIN:VEVENT
DTSTART;TZID=UTC:20261010T193000
DTEND;TZID=UTC:20261115T223000
DTSTAMP:20260424T052311
CREATED:20260309T124258Z
LAST-MODIFIED:20260309T124258Z
UID:10013660-1791660600-1794781800@njmom.com
SUMMARY:Hamlet
DESCRIPTION:A towering tragedy of ambition\, betrayal\, and moral reckoning\, Hamlet follows a young prince pulled into a deadly web of secrets embroiled at the seat of power. Urgent\, suspenseful\, and fiercely human\, Shakespeare’s most psychologically-rich play crackles with tension as it probes the cost of action — and inaction — in a world where truth is a slippery thing. Epic and endlessly relevant\, Hamlet asks what it truly means to live with a conscience in a corrupt world. \nOnly Complete Works Subscriptions are available at this time. \nSingle tickets will be released at a later date.
URL:https://njmom.com/event/hamlet/
LOCATION:The F.M. Kirby Shakespeare Theatre\, 36 Madison Avenue\, Madison\, New Jersey\, 07940
ATTACH;FMTTYPE=image/jpeg:https://njmom.com/wp-content/uploads/2026/03/Hamlet-1080-x-1080.jpg
ORGANIZER;CN="The Shakespeare Theatre of New Jersey":MAILTO:Info@ShakespeareNJ.org
END:VEVENT
BEGIN:VEVENT
DTSTART;TZID=UTC:20261019T080000
DTEND;TZID=UTC:20261023T153000
DTSTAMP:20260424T052311
CREATED:20260212T132900Z
LAST-MODIFIED:20260212T132900Z
UID:10013245-1792396800-1792769400@njmom.com
SUMMARY:Cranford Performance Institute Summer Camp
DESCRIPTION:Come join us at CPI for Baseball & Sports camps all summer long!
URL:https://njmom.com/event/cranford-performance-institute-summer-camp/2026-10-19/
LOCATION:Cranford Performance Institute\, 140 Bryant Avenue\, CRANFORD\, NJ\, 07016-3238\, United States
ORGANIZER;CN="Cranford Performance Institute":MAILTO:info@cpiofnj.com
END:VEVENT
BEGIN:VEVENT
DTSTART;TZID=UTC:20261020T080000
DTEND;TZID=UTC:20261024T153000
DTSTAMP:20260424T052311
CREATED:20260212T132900Z
LAST-MODIFIED:20260212T132900Z
UID:10013246-1792483200-1792855800@njmom.com
SUMMARY:Cranford Performance Institute Summer Camp
DESCRIPTION:Come join us at CPI for Baseball & Sports camps all summer long!
URL:https://njmom.com/event/cranford-performance-institute-summer-camp/2026-10-20/
LOCATION:Cranford Performance Institute\, 140 Bryant Avenue\, CRANFORD\, NJ\, 07016-3238\, United States
ORGANIZER;CN="Cranford Performance Institute":MAILTO:info@cpiofnj.com
END:VEVENT
BEGIN:VEVENT
DTSTART;TZID=UTC:20261021T080000
DTEND;TZID=UTC:20261025T153000
DTSTAMP:20260424T052311
CREATED:20260212T132900Z
LAST-MODIFIED:20260212T132900Z
UID:10013247-1792569600-1792942200@njmom.com
SUMMARY:Cranford Performance Institute Summer Camp
DESCRIPTION:Come join us at CPI for Baseball & Sports camps all summer long!
URL:https://njmom.com/event/cranford-performance-institute-summer-camp/2026-10-21/
LOCATION:Cranford Performance Institute\, 140 Bryant Avenue\, CRANFORD\, NJ\, 07016-3238\, United States
ORGANIZER;CN="Cranford Performance Institute":MAILTO:info@cpiofnj.com
END:VEVENT
BEGIN:VEVENT
DTSTART;TZID=UTC:20261022T080000
DTEND;TZID=UTC:20261026T153000
DTSTAMP:20260424T052311
CREATED:20260212T132900Z
LAST-MODIFIED:20260212T132900Z
UID:10013248-1792656000-1793028600@njmom.com
SUMMARY:Cranford Performance Institute Summer Camp
DESCRIPTION:Come join us at CPI for Baseball & Sports camps all summer long!
URL:https://njmom.com/event/cranford-performance-institute-summer-camp/2026-10-22/
LOCATION:Cranford Performance Institute\, 140 Bryant Avenue\, CRANFORD\, NJ\, 07016-3238\, United States
ORGANIZER;CN="Cranford Performance Institute":MAILTO:info@cpiofnj.com
END:VEVENT
BEGIN:VEVENT
DTSTART;TZID=UTC:20261023T080000
DTEND;TZID=UTC:20261027T153000
DTSTAMP:20260424T052311
CREATED:20260212T132900Z
LAST-MODIFIED:20260212T132900Z
UID:10013249-1792742400-1793115000@njmom.com
SUMMARY:Cranford Performance Institute Summer Camp
DESCRIPTION:Come join us at CPI for Baseball & Sports camps all summer long!
URL:https://njmom.com/event/cranford-performance-institute-summer-camp/2026-10-23/
LOCATION:Cranford Performance Institute\, 140 Bryant Avenue\, CRANFORD\, NJ\, 07016-3238\, United States
ORGANIZER;CN="Cranford Performance Institute":MAILTO:info@cpiofnj.com
END:VEVENT
BEGIN:VEVENT
DTSTART;TZID=UTC:20261023T100000
DTEND;TZID=UTC:20261023T170000
DTSTAMP:20260424T052311
CREATED:20260330T123908Z
LAST-MODIFIED:20260330T123908Z
UID:10013808-1792749600-1792774800@njmom.com
SUMMARY:Fall Harvest Festival
DESCRIPTION:Make the village your fall destination! Join us for a free\, family-friendly day filled with pumpkins\, spice\, and everything nice in a historic setting!
URL:https://njmom.com/event/fall-harvest-festival/2026-10-23/
LOCATION:East Jersey Old Town Village\, 1050 River Road\, Piscataway\, NJ\, 08854\, United States
CATEGORIES:Fall Festivals
ATTACH;FMTTYPE=image/jpeg:https://njmom.com/wp-content/uploads/2026/03/2026_Arts_EJOTV_SeasonalEvents_5.5x8.5_FINAL_Page_1-6.jpg
ORGANIZER;CN="Middlesex County Division of History &amp%3B Historic Preservation":MAILTO:history@co.middlesex.nj.us
END:VEVENT
BEGIN:VEVENT
DTSTART;TZID=UTC:20261023T100000
DTEND;TZID=UTC:20261023T200000
DTSTAMP:20260424T052311
CREATED:20260422T130708Z
LAST-MODIFIED:20260422T130708Z
UID:10014081-1792749600-1792785600@njmom.com
SUMMARY:E-Cycling Event at MarketFair
DESCRIPTION:Celebrate Earth Week with MarketFair by recycling your electronics! From April 21 through April 30\, community members can responsibly recycle unwanted e-waste during shopping center hours. Blue collection bins will be located near MarketFair’s Center Court. \nAccepted items can be found here. Please note that CRT monitors\, televisions\, paint\, household batteries\, and glass bulbs will not be accepted.
URL:https://njmom.com/event/e-cycling-event-at-marketfair/2026-10-23/
LOCATION:MarketFair\, 3535 US Highway 1\, Princeton\, NJ\, 08540\, United States
ATTACH;FMTTYPE=image/jpeg:https://njmom.com/wp-content/uploads/2026/04/EarthWeek2025_Photo_05.jpeg
END:VEVENT
BEGIN:VEVENT
DTSTART;TZID=UTC:20261023T120000
DTEND;TZID=UTC:20261023T130000
DTSTAMP:20260424T052311
CREATED:20260123T133255Z
LAST-MODIFIED:20260123T133255Z
UID:10012532-1792756800-1792760400@njmom.com
SUMMARY:Cup and Canvas: Mindful Art Hour
DESCRIPTION:End your week with a simple\, mindful art project paired with a cup of tea. 🌿🎨☕. \nCup & Canvas weekly sessions are designed for anyone who needs an emotional and energetic tune-up. \nUnwind\, sip tea\, and explore your creativity to gather calm & new energy to decompress at the end of your week. \nNew beginner-friendly activity every week with instruction (e.g. simple watercolor\, collage\, clay handbuilding). No art experience needed. All materials are provided. Bring your lunch and a friend! \nBenefits for YOU:\n– Replenish Your Energy: Step away from daily demands with mindful art that soothes the mind.\n– Reconnect with Yourself: Enjoy time just for you—no expectations\, no pressure.\n– Build Connection: Share space with others who value creativity and self-care.\n– Flexible & Welcoming: Bring your lunch\, sip tea\, and create at your own pace.
URL:https://njmom.com/event/cup-and-canvas-mindful-art-hour/2026-10-23/
LOCATION:Rising Heart Studio\, 323 Main St\, Metuchen\, NJ\, 08840\, United States
ATTACH;FMTTYPE=image/jpeg:https://njmom.com/wp-content/uploads/2026/01/Screenshot-2026-01-22-at-2.00.22-PM.jpg
ORGANIZER;CN="Rising Heart Coaching and Art Studio":MAILTO:okollider@gmail.com
END:VEVENT
END:VCALENDAR