BEGIN:VCALENDAR
VERSION:2.0
PRODID:-//NJ Mom - ECPv6.15.20//NONSGML v1.0//EN
CALSCALE:GREGORIAN
METHOD:PUBLISH
X-WR-CALNAME:NJ Mom
X-ORIGINAL-URL:https://njmom.com
X-WR-CALDESC:Events for NJ Mom
REFRESH-INTERVAL;VALUE=DURATION:PT1H
X-Robots-Tag:noindex
X-PUBLISHED-TTL:PT1H
BEGIN:VTIMEZONE
TZID:UTC
BEGIN:STANDARD
TZOFFSETFROM:+0000
TZOFFSETTO:+0000
TZNAME:UTC
DTSTART:20250101T000000
END:STANDARD
END:VTIMEZONE
BEGIN:VEVENT
DTSTART;TZID=UTC:20261007T080000
DTEND;TZID=UTC:20261011T153000
DTSTAMP:20260424T062914
CREATED:20260212T132900Z
LAST-MODIFIED:20260212T132900Z
UID:10013237-1791360000-1791732600@njmom.com
SUMMARY:Cranford Performance Institute Summer Camp
DESCRIPTION:Come join us at CPI for Baseball & Sports camps all summer long!
URL:https://njmom.com/event/cranford-performance-institute-summer-camp/2026-10-07/
LOCATION:Cranford Performance Institute\, 140 Bryant Avenue\, CRANFORD\, NJ\, 07016-3238\, United States
ORGANIZER;CN="Cranford Performance Institute":MAILTO:info@cpiofnj.com
END:VEVENT
BEGIN:VEVENT
DTSTART;TZID=UTC:20261008T080000
DTEND;TZID=UTC:20261012T153000
DTSTAMP:20260424T062914
CREATED:20260212T132900Z
LAST-MODIFIED:20260212T132900Z
UID:10013238-1791446400-1791819000@njmom.com
SUMMARY:Cranford Performance Institute Summer Camp
DESCRIPTION:Come join us at CPI for Baseball & Sports camps all summer long!
URL:https://njmom.com/event/cranford-performance-institute-summer-camp/2026-10-08/
LOCATION:Cranford Performance Institute\, 140 Bryant Avenue\, CRANFORD\, NJ\, 07016-3238\, United States
ORGANIZER;CN="Cranford Performance Institute":MAILTO:info@cpiofnj.com
END:VEVENT
BEGIN:VEVENT
DTSTART;TZID=UTC:20261009T080000
DTEND;TZID=UTC:20261013T153000
DTSTAMP:20260424T062914
CREATED:20260212T132900Z
LAST-MODIFIED:20260212T132900Z
UID:10013239-1791532800-1791905400@njmom.com
SUMMARY:Cranford Performance Institute Summer Camp
DESCRIPTION:Come join us at CPI for Baseball & Sports camps all summer long!
URL:https://njmom.com/event/cranford-performance-institute-summer-camp/2026-10-09/
LOCATION:Cranford Performance Institute\, 140 Bryant Avenue\, CRANFORD\, NJ\, 07016-3238\, United States
ORGANIZER;CN="Cranford Performance Institute":MAILTO:info@cpiofnj.com
END:VEVENT
BEGIN:VEVENT
DTSTART;TZID=UTC:20261010T193000
DTEND;TZID=UTC:20261115T223000
DTSTAMP:20260424T062914
CREATED:20260309T124258Z
LAST-MODIFIED:20260309T124258Z
UID:10013660-1791660600-1794781800@njmom.com
SUMMARY:Hamlet
DESCRIPTION:A towering tragedy of ambition\, betrayal\, and moral reckoning\, Hamlet follows a young prince pulled into a deadly web of secrets embroiled at the seat of power. Urgent\, suspenseful\, and fiercely human\, Shakespeare’s most psychologically-rich play crackles with tension as it probes the cost of action — and inaction — in a world where truth is a slippery thing. Epic and endlessly relevant\, Hamlet asks what it truly means to live with a conscience in a corrupt world. \nOnly Complete Works Subscriptions are available at this time. \nSingle tickets will be released at a later date.
URL:https://njmom.com/event/hamlet/
LOCATION:The F.M. Kirby Shakespeare Theatre\, 36 Madison Avenue\, Madison\, New Jersey\, 07940
ATTACH;FMTTYPE=image/jpeg:https://njmom.com/wp-content/uploads/2026/03/Hamlet-1080-x-1080.jpg
ORGANIZER;CN="The Shakespeare Theatre of New Jersey":MAILTO:Info@ShakespeareNJ.org
END:VEVENT
BEGIN:VEVENT
DTSTART;TZID=UTC:20261011T100000
DTEND;TZID=UTC:20261011T200000
DTSTAMP:20260424T062914
CREATED:20260422T130708Z
LAST-MODIFIED:20260422T130708Z
UID:10014069-1791712800-1791748800@njmom.com
SUMMARY:E-Cycling Event at MarketFair
DESCRIPTION:Celebrate Earth Week with MarketFair by recycling your electronics! From April 21 through April 30\, community members can responsibly recycle unwanted e-waste during shopping center hours. Blue collection bins will be located near MarketFair’s Center Court. \nAccepted items can be found here. Please note that CRT monitors\, televisions\, paint\, household batteries\, and glass bulbs will not be accepted.
URL:https://njmom.com/event/e-cycling-event-at-marketfair/2026-10-11/
LOCATION:MarketFair\, 3535 US Highway 1\, Princeton\, NJ\, 08540\, United States
ATTACH;FMTTYPE=image/jpeg:https://njmom.com/wp-content/uploads/2026/04/EarthWeek2025_Photo_05.jpeg
END:VEVENT
BEGIN:VEVENT
DTSTART;TZID=UTC:20261011T130000
DTEND;TZID=UTC:20261011T150000
DTSTAMP:20260424T062914
CREATED:20250217T184441Z
LAST-MODIFIED:20250218T151533Z
UID:10000278-1791723600-1791730800@njmom.com
SUMMARY:IN HER FOOTSTEPS: a celebration of women in history
DESCRIPTION:Step into history with\, IN HER FOOTSTEPS\, a fun\, family-friendly\, immersive theatrical experience that brings great women from the past to life through dynamic performances\, multimedia displays\, and hands-on activities. \nIN HER FOOTSTEPS will be on Saturdays and Sundays in March 2025 at 1 PM and 4 PM at the Museum of Jersey City History\, located at the historic Apple Tree House\, 298 Academy Street\, Jersey City\, NJ. For more information\, www.speranzatheatre.org.
URL:https://njmom.com/event/in-her-footsteps-a-celebration-of-women-in-history/2026-10-11/
LOCATION:Museum of Jersey City History\, located at the historic Apple Tree House\, 298 Academy Street\, Jersey City\, NJ\, 07306\, United States
ATTACH;FMTTYPE=image/jpeg:https://njmom.com/wp-content/uploads/2025/02/Footsteps-2025-Email-Signature.jpg
ORGANIZER;CN="Diana Basmajian":MAILTO:info@speranzatheatre.org
END:VEVENT
BEGIN:VEVENT
DTSTART;TZID=UTC:20261011T140000
DTEND;TZID=UTC:20261011T160000
DTSTAMP:20260424T062914
CREATED:20260413T125719Z
LAST-MODIFIED:20260413T125719Z
UID:10013856-1791727200-1791734400@njmom.com
SUMMARY:New Jersey Symphony: Hollywood Hits: From West Side Story to Spirited Away
DESCRIPTION:Keitaro Harada conductor\nNew Jersey Symphony \nLights\, camera\, action! Rising-star conductor Keitaro Harada leads a program of thrilling orchestral music from classic movies. Movie-musicals West Side Story and An American in Paris\, with their timeless tunes\, are heard alongside Joe Hisaishi’s score to the Studio Ghibli masterpiece Spirited Away. Don’t miss this festive performance with music that dazzles and delights—the perfect way to celebrate the start of the season. \nPaul Dukas The Sorcerer’s Apprentice\nLeonard Bernstein Symphonic Dances from West Side Story\nJoe Hisaishi Suite from Spirited Away\nGeorge Gershwin An American in Paris
URL:https://njmom.com/event/new-jersey-symphony-hollywood-hits-from-west-side-story-to-spirited-away-2/
LOCATION:New Jersey Performing Arts Center\, 1 Center St\, Newark\, NJ\, 07102\, United States
ATTACH;FMTTYPE=image/jpeg:https://njmom.com/wp-content/uploads/2026/04/Hollywood-Hits-1-scaled.jpg
ORGANIZER;CN="New Jersey Symphony":MAILTO:information@njsymphony.org
END:VEVENT
END:VCALENDAR