BEGIN:VCALENDAR
VERSION:2.0
PRODID:-//NJ Mom - ECPv6.15.20//NONSGML v1.0//EN
CALSCALE:GREGORIAN
METHOD:PUBLISH
X-ORIGINAL-URL:https://njmom.com
X-WR-CALDESC:Events for NJ Mom
REFRESH-INTERVAL;VALUE=DURATION:PT1H
X-Robots-Tag:noindex
X-PUBLISHED-TTL:PT1H
BEGIN:VTIMEZONE
TZID:UTC
BEGIN:STANDARD
TZOFFSETFROM:+0000
TZOFFSETTO:+0000
TZNAME:UTC
DTSTART:20250101T000000
END:STANDARD
END:VTIMEZONE
BEGIN:VEVENT
DTSTART;TZID=UTC:20261005T080000
DTEND;TZID=UTC:20261009T153000
DTSTAMP:20260424T063038
CREATED:20260212T132900Z
LAST-MODIFIED:20260212T132900Z
UID:10013235-1791187200-1791559800@njmom.com
SUMMARY:Cranford Performance Institute Summer Camp
DESCRIPTION:Come join us at CPI for Baseball & Sports camps all summer long!
URL:https://njmom.com/event/cranford-performance-institute-summer-camp/2026-10-05/
LOCATION:Cranford Performance Institute\, 140 Bryant Avenue\, CRANFORD\, NJ\, 07016-3238\, United States
ORGANIZER;CN="Cranford Performance Institute":MAILTO:info@cpiofnj.com
END:VEVENT
BEGIN:VEVENT
DTSTART;TZID=UTC:20261006T080000
DTEND;TZID=UTC:20261010T153000
DTSTAMP:20260424T063038
CREATED:20260212T132900Z
LAST-MODIFIED:20260212T132900Z
UID:10013236-1791273600-1791646200@njmom.com
SUMMARY:Cranford Performance Institute Summer Camp
DESCRIPTION:Come join us at CPI for Baseball & Sports camps all summer long!
URL:https://njmom.com/event/cranford-performance-institute-summer-camp/2026-10-06/
LOCATION:Cranford Performance Institute\, 140 Bryant Avenue\, CRANFORD\, NJ\, 07016-3238\, United States
ORGANIZER;CN="Cranford Performance Institute":MAILTO:info@cpiofnj.com
END:VEVENT
BEGIN:VEVENT
DTSTART;TZID=UTC:20261007T080000
DTEND;TZID=UTC:20261011T153000
DTSTAMP:20260424T063038
CREATED:20260212T132900Z
LAST-MODIFIED:20260212T132900Z
UID:10013237-1791360000-1791732600@njmom.com
SUMMARY:Cranford Performance Institute Summer Camp
DESCRIPTION:Come join us at CPI for Baseball & Sports camps all summer long!
URL:https://njmom.com/event/cranford-performance-institute-summer-camp/2026-10-07/
LOCATION:Cranford Performance Institute\, 140 Bryant Avenue\, CRANFORD\, NJ\, 07016-3238\, United States
ORGANIZER;CN="Cranford Performance Institute":MAILTO:info@cpiofnj.com
END:VEVENT
BEGIN:VEVENT
DTSTART;TZID=UTC:20261007T100000
DTEND;TZID=UTC:20261007T200000
DTSTAMP:20260424T063038
CREATED:20260422T130708Z
LAST-MODIFIED:20260422T130708Z
UID:10014065-1791367200-1791403200@njmom.com
SUMMARY:E-Cycling Event at MarketFair
DESCRIPTION:Celebrate Earth Week with MarketFair by recycling your electronics! From April 21 through April 30\, community members can responsibly recycle unwanted e-waste during shopping center hours. Blue collection bins will be located near MarketFair’s Center Court. \nAccepted items can be found here. Please note that CRT monitors\, televisions\, paint\, household batteries\, and glass bulbs will not be accepted.
URL:https://njmom.com/event/e-cycling-event-at-marketfair/2026-10-07/
LOCATION:MarketFair\, 3535 US Highway 1\, Princeton\, NJ\, 08540\, United States
ATTACH;FMTTYPE=image/jpeg:https://njmom.com/wp-content/uploads/2026/04/EarthWeek2025_Photo_05.jpeg
END:VEVENT
END:VCALENDAR