BEGIN:VCALENDAR
VERSION:2.0
PRODID:-//NJ Mom - ECPv6.15.20//NONSGML v1.0//EN
CALSCALE:GREGORIAN
METHOD:PUBLISH
X-ORIGINAL-URL:https://njmom.com
X-WR-CALDESC:Events for NJ Mom
REFRESH-INTERVAL;VALUE=DURATION:PT1H
X-Robots-Tag:noindex
X-PUBLISHED-TTL:PT1H
BEGIN:VTIMEZONE
TZID:UTC
BEGIN:STANDARD
TZOFFSETFROM:+0000
TZOFFSETTO:+0000
TZNAME:UTC
DTSTART:20250101T000000
END:STANDARD
END:VTIMEZONE
BEGIN:VEVENT
DTSTART;TZID=UTC:20260929T080000
DTEND;TZID=UTC:20261003T153000
DTSTAMP:20260424T051006
CREATED:20260212T132900Z
LAST-MODIFIED:20260212T132900Z
UID:10013231-1790668800-1791041400@njmom.com
SUMMARY:Cranford Performance Institute Summer Camp
DESCRIPTION:Come join us at CPI for Baseball & Sports camps all summer long!
URL:https://njmom.com/event/cranford-performance-institute-summer-camp/2026-09-29/
LOCATION:Cranford Performance Institute\, 140 Bryant Avenue\, CRANFORD\, NJ\, 07016-3238\, United States
ORGANIZER;CN="Cranford Performance Institute":MAILTO:info@cpiofnj.com
END:VEVENT
BEGIN:VEVENT
DTSTART;TZID=UTC:20260930T080000
DTEND;TZID=UTC:20261004T153000
DTSTAMP:20260424T051006
CREATED:20260212T132900Z
LAST-MODIFIED:20260212T132900Z
UID:10013232-1790755200-1791127800@njmom.com
SUMMARY:Cranford Performance Institute Summer Camp
DESCRIPTION:Come join us at CPI for Baseball & Sports camps all summer long!
URL:https://njmom.com/event/cranford-performance-institute-summer-camp/2026-09-30/
LOCATION:Cranford Performance Institute\, 140 Bryant Avenue\, CRANFORD\, NJ\, 07016-3238\, United States
ORGANIZER;CN="Cranford Performance Institute":MAILTO:info@cpiofnj.com
END:VEVENT
BEGIN:VEVENT
DTSTART;TZID=UTC:20261001T080000
DTEND;TZID=UTC:20261005T153000
DTSTAMP:20260424T051006
CREATED:20260212T132900Z
LAST-MODIFIED:20260212T132900Z
UID:10013233-1790841600-1791214200@njmom.com
SUMMARY:Cranford Performance Institute Summer Camp
DESCRIPTION:Come join us at CPI for Baseball & Sports camps all summer long!
URL:https://njmom.com/event/cranford-performance-institute-summer-camp/2026-10-01/
LOCATION:Cranford Performance Institute\, 140 Bryant Avenue\, CRANFORD\, NJ\, 07016-3238\, United States
ORGANIZER;CN="Cranford Performance Institute":MAILTO:info@cpiofnj.com
END:VEVENT
BEGIN:VEVENT
DTSTART;TZID=UTC:20261002T080000
DTEND;TZID=UTC:20261006T153000
DTSTAMP:20260424T051006
CREATED:20260212T132900Z
LAST-MODIFIED:20260212T132900Z
UID:10013234-1790928000-1791300600@njmom.com
SUMMARY:Cranford Performance Institute Summer Camp
DESCRIPTION:Come join us at CPI for Baseball & Sports camps all summer long!
URL:https://njmom.com/event/cranford-performance-institute-summer-camp/2026-10-02/
LOCATION:Cranford Performance Institute\, 140 Bryant Avenue\, CRANFORD\, NJ\, 07016-3238\, United States
ORGANIZER;CN="Cranford Performance Institute":MAILTO:info@cpiofnj.com
END:VEVENT
BEGIN:VEVENT
DTSTART;TZID=UTC:20261003T100000
DTEND;TZID=UTC:20261003T200000
DTSTAMP:20260424T051006
CREATED:20260422T130708Z
LAST-MODIFIED:20260422T130708Z
UID:10014061-1791021600-1791057600@njmom.com
SUMMARY:E-Cycling Event at MarketFair
DESCRIPTION:Celebrate Earth Week with MarketFair by recycling your electronics! From April 21 through April 30\, community members can responsibly recycle unwanted e-waste during shopping center hours. Blue collection bins will be located near MarketFair’s Center Court. \nAccepted items can be found here. Please note that CRT monitors\, televisions\, paint\, household batteries\, and glass bulbs will not be accepted.
URL:https://njmom.com/event/e-cycling-event-at-marketfair/2026-10-03/
LOCATION:MarketFair\, 3535 US Highway 1\, Princeton\, NJ\, 08540\, United States
ATTACH;FMTTYPE=image/jpeg:https://njmom.com/wp-content/uploads/2026/04/EarthWeek2025_Photo_05.jpeg
END:VEVENT
BEGIN:VEVENT
DTSTART;TZID=UTC:20261003T130000
DTEND;TZID=UTC:20261003T150000
DTSTAMP:20260424T051006
CREATED:20250217T184441Z
LAST-MODIFIED:20250218T151533Z
UID:10000275-1791032400-1791039600@njmom.com
SUMMARY:IN HER FOOTSTEPS: a celebration of women in history
DESCRIPTION:Step into history with\, IN HER FOOTSTEPS\, a fun\, family-friendly\, immersive theatrical experience that brings great women from the past to life through dynamic performances\, multimedia displays\, and hands-on activities. \nIN HER FOOTSTEPS will be on Saturdays and Sundays in March 2025 at 1 PM and 4 PM at the Museum of Jersey City History\, located at the historic Apple Tree House\, 298 Academy Street\, Jersey City\, NJ. For more information\, www.speranzatheatre.org.
URL:https://njmom.com/event/in-her-footsteps-a-celebration-of-women-in-history/2026-10-03/
LOCATION:Museum of Jersey City History\, located at the historic Apple Tree House\, 298 Academy Street\, Jersey City\, NJ\, 07306\, United States
ATTACH;FMTTYPE=image/jpeg:https://njmom.com/wp-content/uploads/2025/02/Footsteps-2025-Email-Signature.jpg
ORGANIZER;CN="Diana Basmajian":MAILTO:info@speranzatheatre.org
END:VEVENT
END:VCALENDAR