BEGIN:VCALENDAR
VERSION:2.0
PRODID:-//NJ Mom - ECPv6.15.20//NONSGML v1.0//EN
CALSCALE:GREGORIAN
METHOD:PUBLISH
X-ORIGINAL-URL:https://njmom.com
X-WR-CALDESC:Events for NJ Mom
REFRESH-INTERVAL;VALUE=DURATION:PT1H
X-Robots-Tag:noindex
X-PUBLISHED-TTL:PT1H
BEGIN:VTIMEZONE
TZID:UTC
BEGIN:STANDARD
TZOFFSETFROM:+0000
TZOFFSETTO:+0000
TZNAME:UTC
DTSTART:20250101T000000
END:STANDARD
END:VTIMEZONE
BEGIN:VEVENT
DTSTART;VALUE=DATE:20260622
DTEND;VALUE=DATE:20260822
DTSTAMP:20260423T083924
CREATED:20260417T122857Z
LAST-MODIFIED:20260417T122857Z
UID:10013880-1782086400-1787356799@njmom.com
SUMMARY:YWCA Princeton Summer Program 2026
DESCRIPTION:The YWCA Princeton has an action-packed Summer Program for kids ages 4–8! Choose from five hands-on experiences that build confidence\, strengthen problem-solving skills\, and spark creativity. EmpowerU Summer Program encourages young learners to explore interests and discover new passions. Running from June 22 through August 21\, 2026\, each of the five themes is offered weekly and includes Mad Scientists\, Mini Makers\, Start-Up Kids Club\, Super Hero Academy\, and Take a Bow. Mix and match weeks to fit your schedule. For details and registration\, visit ywcaprinceton.org or call Namita Kumar\, Burke Enrollment\, (609) 497-2100 ext. 386\, or email nKumar@ywcaprinceton.org.
URL:https://njmom.com/event/ywca-princeton-summer-program-2026/
LOCATION:YWCA Princeton\, 59 Paul Robeson Pl\, Princeton\, NJ\, 08540\, United States
ATTACH;FMTTYPE=image/jpeg:https://njmom.com/wp-content/uploads/2026/04/Empower-U-Summer-Program-1.jpg
END:VEVENT
BEGIN:VEVENT
DTSTART;TZID=UTC:20260701T180000
DTEND;TZID=UTC:20260826T200000
DTSTAMP:20260423T083924
CREATED:20260420T123111Z
LAST-MODIFIED:20260420T123111Z
UID:10013887-1782928800-1787774400@njmom.com
SUMMARY:Cape May City Dance Nights
DESCRIPTION:COUNTRY LINE DANCING:\nJuly 1 & August 9 \nKID’S DANCE PARTY:\nJuly 8 & August 26 \nLATIN NIGHT:\nJuly 15 & August 12 \nPOPULAR LINE DANCING:\nJuly 22 \nBALLROOM DANCING:\nAugust 5
URL:https://njmom.com/event/cape-may-city-dance-nights/
LOCATION:Cape May Convention Hall\, 714 Beach Avenue\, Cape May\, PA\, 08204\, United States
ATTACH;FMTTYPE=image/jpeg:https://njmom.com/wp-content/uploads/2026/04/Dance-Nights-2026-1.jpg
ORGANIZER;CN="Cape May City":MAILTO:info@capemaycity.com
END:VEVENT
BEGIN:VEVENT
DTSTART;TZID=UTC:20260705T100000
DTEND;TZID=UTC:20260705T200000
DTSTAMP:20260423T083924
CREATED:20260422T130708Z
LAST-MODIFIED:20260422T130708Z
UID:10013971-1783245600-1783281600@njmom.com
SUMMARY:E-Cycling Event at MarketFair
DESCRIPTION:Celebrate Earth Week with MarketFair by recycling your electronics! From April 21 through April 30\, community members can responsibly recycle unwanted e-waste during shopping center hours. Blue collection bins will be located near MarketFair’s Center Court. \nAccepted items can be found here. Please note that CRT monitors\, televisions\, paint\, household batteries\, and glass bulbs will not be accepted.
URL:https://njmom.com/event/e-cycling-event-at-marketfair/2026-07-05/
LOCATION:MarketFair\, 3535 US Highway 1\, Princeton\, NJ\, 08540\, United States
ATTACH;FMTTYPE=image/jpeg:https://njmom.com/wp-content/uploads/2026/04/EarthWeek2025_Photo_05.jpeg
END:VEVENT
BEGIN:VEVENT
DTSTART;TZID=UTC:20260705T130000
DTEND;TZID=UTC:20260705T150000
DTSTAMP:20260423T083924
CREATED:20250217T184441Z
LAST-MODIFIED:20250218T151533Z
UID:10000250-1783256400-1783263600@njmom.com
SUMMARY:IN HER FOOTSTEPS: a celebration of women in history
DESCRIPTION:Step into history with\, IN HER FOOTSTEPS\, a fun\, family-friendly\, immersive theatrical experience that brings great women from the past to life through dynamic performances\, multimedia displays\, and hands-on activities. \nIN HER FOOTSTEPS will be on Saturdays and Sundays in March 2025 at 1 PM and 4 PM at the Museum of Jersey City History\, located at the historic Apple Tree House\, 298 Academy Street\, Jersey City\, NJ. For more information\, www.speranzatheatre.org.
URL:https://njmom.com/event/in-her-footsteps-a-celebration-of-women-in-history/2026-07-05/
LOCATION:Museum of Jersey City History\, located at the historic Apple Tree House\, 298 Academy Street\, Jersey City\, NJ\, 07306\, United States
ATTACH;FMTTYPE=image/jpeg:https://njmom.com/wp-content/uploads/2025/02/Footsteps-2025-Email-Signature.jpg
ORGANIZER;CN="Diana Basmajian":MAILTO:info@speranzatheatre.org
END:VEVENT
END:VCALENDAR