BEGIN:VCALENDAR
VERSION:2.0
PRODID:-//NJ Mom - ECPv6.15.20//NONSGML v1.0//EN
CALSCALE:GREGORIAN
METHOD:PUBLISH
X-ORIGINAL-URL:https://njmom.com
X-WR-CALDESC:Events for NJ Mom
REFRESH-INTERVAL;VALUE=DURATION:PT1H
X-Robots-Tag:noindex
X-PUBLISHED-TTL:PT1H
BEGIN:VTIMEZONE
TZID:UTC
BEGIN:STANDARD
TZOFFSETFROM:+0000
TZOFFSETTO:+0000
TZNAME:UTC
DTSTART:20250101T000000
END:STANDARD
END:VTIMEZONE
BEGIN:VEVENT
DTSTART;TZID=UTC:20260605T100000
DTEND;TZID=UTC:20260605T200000
DTSTAMP:20260423T213754
CREATED:20260422T130708Z
LAST-MODIFIED:20260422T130708Z
UID:10013941-1780653600-1780689600@njmom.com
SUMMARY:E-Cycling Event at MarketFair
DESCRIPTION:Celebrate Earth Week with MarketFair by recycling your electronics! From April 21 through April 30\, community members can responsibly recycle unwanted e-waste during shopping center hours. Blue collection bins will be located near MarketFair’s Center Court. \nAccepted items can be found here. Please note that CRT monitors\, televisions\, paint\, household batteries\, and glass bulbs will not be accepted.
URL:https://njmom.com/event/e-cycling-event-at-marketfair/2026-06-05/
LOCATION:MarketFair\, 3535 US Highway 1\, Princeton\, NJ\, 08540\, United States
ATTACH;FMTTYPE=image/jpeg:https://njmom.com/wp-content/uploads/2026/04/EarthWeek2025_Photo_05.jpeg
END:VEVENT
BEGIN:VEVENT
DTSTART;TZID=UTC:20260605T120000
DTEND;TZID=UTC:20260605T130000
DTSTAMP:20260423T213754
CREATED:20260123T133255Z
LAST-MODIFIED:20260123T133255Z
UID:10012512-1780660800-1780664400@njmom.com
SUMMARY:Cup and Canvas: Mindful Art Hour
DESCRIPTION:End your week with a simple\, mindful art project paired with a cup of tea. 🌿🎨☕. \nCup & Canvas weekly sessions are designed for anyone who needs an emotional and energetic tune-up. \nUnwind\, sip tea\, and explore your creativity to gather calm & new energy to decompress at the end of your week. \nNew beginner-friendly activity every week with instruction (e.g. simple watercolor\, collage\, clay handbuilding). No art experience needed. All materials are provided. Bring your lunch and a friend! \nBenefits for YOU:\n– Replenish Your Energy: Step away from daily demands with mindful art that soothes the mind.\n– Reconnect with Yourself: Enjoy time just for you—no expectations\, no pressure.\n– Build Connection: Share space with others who value creativity and self-care.\n– Flexible & Welcoming: Bring your lunch\, sip tea\, and create at your own pace.
URL:https://njmom.com/event/cup-and-canvas-mindful-art-hour/2026-06-05/
LOCATION:Rising Heart Studio\, 323 Main St\, Metuchen\, NJ\, 08840\, United States
ATTACH;FMTTYPE=image/jpeg:https://njmom.com/wp-content/uploads/2026/01/Screenshot-2026-01-22-at-2.00.22-PM.jpg
ORGANIZER;CN="Rising Heart Coaching and Art Studio":MAILTO:okollider@gmail.com
END:VEVENT
BEGIN:VEVENT
DTSTART;TZID=UTC:20260605T120000
DTEND;TZID=UTC:20260605T150000
DTSTAMP:20260423T213754
CREATED:20260324T123147Z
LAST-MODIFIED:20260324T123147Z
UID:10013768-1780660800-1780671600@njmom.com
SUMMARY:New Jersey Hall of Fame - Sensory Sensitive Hours
DESCRIPTION:The New Jersey Hall of Fame (NJHOF) hosts Sensory-Friendly Fridays on the first Friday of every month* from 12:00 PM to 3:00 PM. The experiences will include reduced lighting effects in certain exhibits\, neutral lighting throughout the space\, lower crowd levels\, decreased sound effects in select exhibits\, and minimal ambient noise overall.\n*Unless otherwise noted.
URL:https://njmom.com/event/new-jersey-hall-of-fame-sensory-sensitive-hours/2026-06-05/
LOCATION:New Jersey Hall of Fame\, 1 American Dream Way\, East Rutherford\, NJ\, 07073\, United States
ATTACH;FMTTYPE=image/jpeg:https://njmom.com/wp-content/uploads/2026/03/Sensory-Sensitive-Mobel.jpg
ORGANIZER;CN="New Jersey Hall of Fame":MAILTO:info@njhalloffame.org
END:VEVENT
END:VCALENDAR