BEGIN:VCALENDAR
VERSION:2.0
PRODID:-//NJ Mom - ECPv6.15.20//NONSGML v1.0//EN
CALSCALE:GREGORIAN
METHOD:PUBLISH
X-WR-CALNAME:NJ Mom
X-ORIGINAL-URL:https://njmom.com
X-WR-CALDESC:Events for NJ Mom
REFRESH-INTERVAL;VALUE=DURATION:PT1H
X-Robots-Tag:noindex
X-PUBLISHED-TTL:PT1H
BEGIN:VTIMEZONE
TZID:UTC
BEGIN:STANDARD
TZOFFSETFROM:+0000
TZOFFSETTO:+0000
TZNAME:UTC
DTSTART:20250101T000000
END:STANDARD
END:VTIMEZONE
BEGIN:VEVENT
DTSTART;VALUE=DATE:20260323
DTEND;VALUE=DATE:20260516
DTSTAMP:20260423T013632
CREATED:20260324T123239Z
LAST-MODIFIED:20260324T123239Z
UID:10013780-1774224000-1778889599@njmom.com
SUMMARY:Color Factory: Colors in Bloom
DESCRIPTION:The first signs of spring have arrived at Color Factory! Step into the season in our limited-time Colors In Bloom confetti installation. We’re celebrating New York’s unique beauty with larger-than-life cherry blossoms. And just like spring itself\, there are a few surprises waiting to bloom!\nOpen to the public through the middle of May\, Colors in Bloom (with tickets starting as low as $29) offers the perfect adventure\, including seasonal treats\, new photo ops\, and a spring-themed confetti room. Stroll through a transformed space that evokes the allure of the thousands of signature cherry blossoms that surround the city each spring. \nTickets available at: https://www.colorfactory.co/
URL:https://njmom.com/event/color-factory-colors-in-bloom/
LOCATION:251 Spring St\, New York\, NY 10013\, 251 Spring St\, New York\, NY\, 10013\, United States
CATEGORIES:Spring Festivals
ATTACH;FMTTYPE=image/jpeg:https://njmom.com/wp-content/uploads/2026/03/IMG_1167-3-2.jpg
ORGANIZER;CN="Color Factory":MAILTO:francesca@youneedmc.com
END:VEVENT
BEGIN:VEVENT
DTSTART;VALUE=DATE:20260417
DTEND;VALUE=DATE:20260425
DTSTAMP:20260423T013632
CREATED:20260206T135740Z
LAST-MODIFIED:20260206T135740Z
UID:10013124-1776384000-1777075199@njmom.com
SUMMARY:Beak Week
DESCRIPTION:Beak Week is an exciting\, new\, week-long birding competition happening in New Jersey this April. Participants of all ages and skill levels are invited to participate by creating a team\, competing as a pair\, or testing individual skills. \nRegistrants will collect pledges and spend the week of April 17–24 exploring a wide variety of New Jersey bird habitats including woodland forests\, shores and wetlands\, and even urban landscapes. During these explorations\, participants will listen intently to calls\, look through binoculars to identify colors and patterns\, and record as many different species of birds as they possibly can. Lists will be compiled and winners with the most species of birds will be announced after the completion of the week-long competition. \nThis competition is a new birding adventure and community celebration of nature and conservation. Prior birding experience is not necessary. Whether someone is brand new to birding or a seasoned veteran\, Beak week is an opportunity to get involved\, have fun\, and learn more about feathered friends soaring through the sky. More information regarding the rules and benefits of this birdathon and how to get involved can be found at hartshornarboretum.org/support/beak-week-2026. Beak week is organized and run by the Cora Hartshorn Arboretum and Bird Sanctuary in Short Hills\, but the competition will happen throughout New Jersey.
URL:https://njmom.com/event/beak-week/
CATEGORIES:Spring Festivals
ATTACH;FMTTYPE=image/png:https://njmom.com/wp-content/uploads/2026/02/online-ad-.png
ORGANIZER;CN="Cora Hartshorn Arboretum":MAILTO:info@hartshornarboretum.org
END:VEVENT
BEGIN:VEVENT
DTSTART;TZID=UTC:20260423T100000
DTEND;TZID=UTC:20260423T120000
DTSTAMP:20260423T013632
CREATED:20251021T130332Z
LAST-MODIFIED:20260312T125722Z
UID:10009427-1776938400-1776945600@njmom.com
SUMMARY:Play&Swim - Mom's Group at Five Star Swim School - Eatontown NJ
DESCRIPTION:Enjoy a relaxed\, family-friendly morning filled with swimming\, play\, and bonding. Our heated indoor pool and padded play area make it the perfect spot for parents\, caregivers\, and children to spend quality time together while having fun and socializing with other families! \nJoin us every Thursday from 10:00 AM to 12:00 PM\, with swimming from 10 to 11 and playtime until noon. Homeschool groups are always welcome! \nPrice: $15 per child\, and one parent or caregiver swims free. Additional parents are $5\, and extra children are $10. \nJoin the fun and make Thursday mornings your family’s favorite time of the week. Starts on October 23rd.
URL:https://njmom.com/event/playswim-moms-group-at-five-star-swim-school-eatontown-nj/2026-04-23/
LOCATION:Five Star Swim School –  Eatontown NJ\, 1 Corbett Way 07724\, Eatontown\, NJ\, 07724\, United States
CATEGORIES:New Moms
ATTACH;FMTTYPE=image/jpeg:https://njmom.com/wp-content/uploads/2025/10/NJMOM-Playswim-Eatontown-Oct25.jpg
ORGANIZER;CN="Five Star Swim School - Eatontown NJ":MAILTO:Eatontown@FSSwimSchool.com
END:VEVENT
BEGIN:VEVENT
DTSTART;TZID=UTC:20260423T100000
DTEND;TZID=UTC:20260423T170000
DTSTAMP:20260423T013632
CREATED:20260202T133443Z
LAST-MODIFIED:20260202T133443Z
UID:10013077-1776938400-1776963600@njmom.com
SUMMARY:Tulip & Dinosaur Festival
DESCRIPTION:Tickets are sold online only on our website (Opening mid March).\nTickets will be $28 per person (Taxes included)\nEnjoy this prehistoric fun starting April 9th and goes extinct on May 3rd. (Thursday- Sunday ONLY)\nWe are open 10am to 5pm\, last entrance is ONE HOUR prior to closing. \nActivities on the farm\n〰️ 30 life size animatronic dinosaurs placed throughout the tulip fields 🦖🌷\n〰️ Dinosaur dig site 🦕\n〰️ Stage shows 🎪\n〰️ Meet and greet with the dinosaurs 🦖🦕\n〰️ Food trucks and our lemonade stand 🍋\n〰️ Access to the tulip fields 🌷\n〰️ Endless photo-ops throughout the farm 💗\n*Flowers and food are sold separately. Please note tulips are a weather dependent crop and we cannot guarantee when they will be in full bloom* \nInterested in booking a school trip? Arrowhead Farmstead offers farm school trips with lots of fun and educational experiences for students and teachers!\nEmail us at Arrowheadfarmsteadnj@gmail.com or visit our website for more details!
URL:https://njmom.com/event/tulip-dinosaur-festival-2/2026-04-23/
ATTACH;FMTTYPE=image/png:https://njmom.com/wp-content/uploads/2026/01/Tulip-Dinosaur-Festival-2026-1.png
END:VEVENT
BEGIN:VEVENT
DTSTART;TZID=UTC:20260423T100000
DTEND;TZID=UTC:20260423T200000
DTSTAMP:20260423T013632
CREATED:20260422T130708Z
LAST-MODIFIED:20260422T130708Z
UID:10013898-1776938400-1776974400@njmom.com
SUMMARY:E-Cycling Event at MarketFair
DESCRIPTION:Celebrate Earth Week with MarketFair by recycling your electronics! From April 21 through April 30\, community members can responsibly recycle unwanted e-waste during shopping center hours. Blue collection bins will be located near MarketFair’s Center Court. \nAccepted items can be found here. Please note that CRT monitors\, televisions\, paint\, household batteries\, and glass bulbs will not be accepted.
URL:https://njmom.com/event/e-cycling-event-at-marketfair/2026-04-23/
LOCATION:MarketFair\, 3535 US Highway 1\, Princeton\, NJ\, 08540\, United States
ATTACH;FMTTYPE=image/jpeg:https://njmom.com/wp-content/uploads/2026/04/EarthWeek2025_Photo_05.jpeg
END:VEVENT
END:VCALENDAR