BEGIN:VCALENDAR
VERSION:2.0
PRODID:-//NJ Mom - ECPv6.15.20//NONSGML v1.0//EN
CALSCALE:GREGORIAN
METHOD:PUBLISH
X-WR-CALNAME:NJ Mom
X-ORIGINAL-URL:https://njmom.com
X-WR-CALDESC:Events for NJ Mom
REFRESH-INTERVAL;VALUE=DURATION:PT1H
X-Robots-Tag:noindex
X-PUBLISHED-TTL:PT1H
BEGIN:VTIMEZONE
TZID:UTC
BEGIN:STANDARD
TZOFFSETFROM:+0000
TZOFFSETTO:+0000
TZNAME:UTC
DTSTART:20250101T000000
END:STANDARD
END:VTIMEZONE
BEGIN:VEVENT
DTSTART;VALUE=DATE:20260323
DTEND;VALUE=DATE:20260516
DTSTAMP:20260421T103947
CREATED:20260324T123239Z
LAST-MODIFIED:20260324T123239Z
UID:10013780-1774224000-1778889599@njmom.com
SUMMARY:Color Factory: Colors in Bloom
DESCRIPTION:The first signs of spring have arrived at Color Factory! Step into the season in our limited-time Colors In Bloom confetti installation. We’re celebrating New York’s unique beauty with larger-than-life cherry blossoms. And just like spring itself\, there are a few surprises waiting to bloom!\nOpen to the public through the middle of May\, Colors in Bloom (with tickets starting as low as $29) offers the perfect adventure\, including seasonal treats\, new photo ops\, and a spring-themed confetti room. Stroll through a transformed space that evokes the allure of the thousands of signature cherry blossoms that surround the city each spring. \nTickets available at: https://www.colorfactory.co/
URL:https://njmom.com/event/color-factory-colors-in-bloom/
LOCATION:251 Spring St\, New York\, NY 10013\, 251 Spring St\, New York\, NY\, 10013\, United States
CATEGORIES:Spring Festivals
ATTACH;FMTTYPE=image/jpeg:https://njmom.com/wp-content/uploads/2026/03/IMG_1167-3-2.jpg
ORGANIZER;CN="Color Factory":MAILTO:francesca@youneedmc.com
END:VEVENT
BEGIN:VEVENT
DTSTART;VALUE=DATE:20260417
DTEND;VALUE=DATE:20260425
DTSTAMP:20260421T103947
CREATED:20260206T135740Z
LAST-MODIFIED:20260206T135740Z
UID:10013124-1776384000-1777075199@njmom.com
SUMMARY:Beak Week
DESCRIPTION:Beak Week is an exciting\, new\, week-long birding competition happening in New Jersey this April. Participants of all ages and skill levels are invited to participate by creating a team\, competing as a pair\, or testing individual skills. \nRegistrants will collect pledges and spend the week of April 17–24 exploring a wide variety of New Jersey bird habitats including woodland forests\, shores and wetlands\, and even urban landscapes. During these explorations\, participants will listen intently to calls\, look through binoculars to identify colors and patterns\, and record as many different species of birds as they possibly can. Lists will be compiled and winners with the most species of birds will be announced after the completion of the week-long competition. \nThis competition is a new birding adventure and community celebration of nature and conservation. Prior birding experience is not necessary. Whether someone is brand new to birding or a seasoned veteran\, Beak week is an opportunity to get involved\, have fun\, and learn more about feathered friends soaring through the sky. More information regarding the rules and benefits of this birdathon and how to get involved can be found at hartshornarboretum.org/support/beak-week-2026. Beak week is organized and run by the Cora Hartshorn Arboretum and Bird Sanctuary in Short Hills\, but the competition will happen throughout New Jersey.
URL:https://njmom.com/event/beak-week/
LOCATION:NJ
CATEGORIES:Spring Festivals
ATTACH;FMTTYPE=image/png:https://njmom.com/wp-content/uploads/2026/02/online-ad-.png
ORGANIZER;CN="Cora Hartshorn Arboretum":MAILTO:info@hartshornarboretum.org
END:VEVENT
BEGIN:VEVENT
DTSTART;TZID=UTC:20260419T100000
DTEND;TZID=UTC:20260419T160000
DTSTAMP:20260421T103947
CREATED:20260309T124335Z
LAST-MODIFIED:20260309T124335Z
UID:10013663-1776592800-1776614400@njmom.com
SUMMARY:The Jersey Shore Spring Comic Book Show
DESCRIPTION:Collectibles festival celebrating comics\, trading cards\, toys and crafts. Meet arists and writers like Neil Vokes and Steven Farkas. Kids can interact with costumed characters from the Star Wars 501st Legion. Fun for the whole family.
URL:https://njmom.com/event/the-jersey-shore-spring-comic-book-show/
LOCATION:Toms River Elks Lodge\, 600 Washington Street\, NJ\, 08753\, United States
CATEGORIES:Spring Festivals
ATTACH;FMTTYPE=image/jpeg:https://njmom.com/wp-content/uploads/2026/03/11011928_10153275164429077_7322389017926561753_n.jpg
ORGANIZER;CN="Jersey Shore Comic Book Show":MAILTO:Danielc439@aol.com
END:VEVENT
BEGIN:VEVENT
DTSTART;TZID=UTC:20260419T100000
DTEND;TZID=UTC:20260419T170000
DTSTAMP:20260421T103947
CREATED:20260202T133443Z
LAST-MODIFIED:20260202T133443Z
UID:10013073-1776592800-1776618000@njmom.com
SUMMARY:Tulip & Dinosaur Festival
DESCRIPTION:Tickets are sold online only on our website (Opening mid March).\nTickets will be $28 per person (Taxes included)\nEnjoy this prehistoric fun starting April 9th and goes extinct on May 3rd. (Thursday- Sunday ONLY)\nWe are open 10am to 5pm\, last entrance is ONE HOUR prior to closing. \nActivities on the farm\n〰️ 30 life size animatronic dinosaurs placed throughout the tulip fields 🦖🌷\n〰️ Dinosaur dig site 🦕\n〰️ Stage shows 🎪\n〰️ Meet and greet with the dinosaurs 🦖🦕\n〰️ Food trucks and our lemonade stand 🍋\n〰️ Access to the tulip fields 🌷\n〰️ Endless photo-ops throughout the farm 💗\n*Flowers and food are sold separately. Please note tulips are a weather dependent crop and we cannot guarantee when they will be in full bloom* \nInterested in booking a school trip? Arrowhead Farmstead offers farm school trips with lots of fun and educational experiences for students and teachers!\nEmail us at Arrowheadfarmsteadnj@gmail.com or visit our website for more details!
URL:https://njmom.com/event/tulip-dinosaur-festival-2/2026-04-19/
LOCATION:NJ
ATTACH;FMTTYPE=image/png:https://njmom.com/wp-content/uploads/2026/01/Tulip-Dinosaur-Festival-2026-1.png
END:VEVENT
BEGIN:VEVENT
DTSTART;TZID=UTC:20260419T120000
DTEND;TZID=UTC:20260419T160000
DTSTAMP:20260421T103947
CREATED:20260330T124207Z
LAST-MODIFIED:20260330T124207Z
UID:10013818-1776600000-1776614400@njmom.com
SUMMARY:Earth Day Celebration 2026
DESCRIPTION:The composting chickens return! Join Sustainable Princeton and Morven Museum & Garden for a free day of sustainable\, Earth-friendly outdoor fun. There will be activities\, crafts\, a photo booth\, and raffle prizes. Bring your gently used books and puzzles for an all-ages swap\, and do good for the community by donating your clean clothing\, footwear\, accessories\, and home linens to the Helpsy clothing drive. Food\, flowers\, and native plants will be for sale. Want to walk the runway in the annual Trashion Show? Register by April 3!\nDate/Time: Rain or shine! Sunday\, April 19\, 12 pm-4 pm\nLocation: Morven Museum & Garden\, 55 Stockton Street\, Princeton\, NJ 08540\n*New this year* – FREE Event Shuttle to Morven Museum and Garden. Stay tuned for the shuttle route and times.\nTickets: FREE! Pre-registration not required.\nDetails at https://www.morven.org/events/earth-day-celebration-2026
URL:https://njmom.com/event/earth-day-celebration-2026/
LOCATION:Morven Museum & Garden\, 55 Stockton Street\, Princeton\, NJ\, 08540\, United States
ATTACH;FMTTYPE=image/jpeg:https://njmom.com/wp-content/uploads/2026/03/Earth-Day-300x250-1.jpg
ORGANIZER;CN="Morven Museum &amp%3B Garden":MAILTO:info@morven.org
END:VEVENT
BEGIN:VEVENT
DTSTART;TZID=UTC:20260419T120000
DTEND;TZID=UTC:20260419T160000
DTSTAMP:20260421T103947
CREATED:20260410T121948Z
LAST-MODIFIED:20260410T121948Z
UID:10013853-1776600000-1776614400@njmom.com
SUMMARY:South Orange Downtown  Food Stroll
DESCRIPTION:Big flavors. Local favorites. One unforgettable afternoon. The South Orange Downtown Food Stroll returns Sunday\, April 19 from 12PM – 4PM. Spend the day tasting your way through downtown with generous bites from a wide range of restaurants\, plus exclusive shopping deals and drink specials for wristband holders. \nPresale wristbands are available for purchase now for the best value and are expected to sell quickly. This is a self guided tasting event with limited quantities\, so purchasing in advance is strongly recommended. All proceeds go directly back to participating businesses. Visit this link to purchase and for more information: https://www.southorangedowntown.org/food-stroll-2026-presale
URL:https://njmom.com/event/south-orange-downtown-food-stroll-2/
LOCATION:Spiotta Park\, 20-32 Village Plaza\, South Orange Village\, New Jersey\, 07079
ATTACH;FMTTYPE=image/jpeg:https://njmom.com/wp-content/uploads/2026/04/Food-Stroll-2026-IG-1080-x-1080-px.jpg
END:VEVENT
BEGIN:VEVENT
DTSTART;TZID=UTC:20260419T120000
DTEND;TZID=UTC:20260419T160000
DTSTAMP:20260421T103947
CREATED:20260413T125733Z
LAST-MODIFIED:20260413T125733Z
UID:10013857-1776600000-1776614400@njmom.com
SUMMARY:South Orange Downtown Food Stroll
DESCRIPTION:Big flavors. Local favorites. One unforgettable afternoon. The South Orange Downtown Food Stroll returns to South Orange\, NJ on Sunday\, April 19 from 12PM – 4PM. Spend the day tasting your way through downtown with generous bites from a wide range of restaurants\, plus exclusive shopping deals and drink specials for wristband holders. This event is rain or shine. \nPresale wristbands are available for purchase now for the best value! This is a self guided tasting event with limited quantities\, so purchasing in advance is strongly recommended. All proceeds go directly back to participating businesses. Visit this link to purchase and for more information: https://www.southorangedowntown.org/food-stroll-2026-presale
URL:https://njmom.com/event/south-orange-downtown-food-stroll-3/
LOCATION:Spiotta Park\, 20-32 Village Plaza\, South Orange Village\, New Jersey\, 07079
CATEGORIES:Spring Festivals
ATTACH;FMTTYPE=image/jpeg:https://njmom.com/wp-content/uploads/2026/04/Food-Stroll-2026-AD-size-1200-x-628-px.jpg
END:VEVENT
BEGIN:VEVENT
DTSTART;TZID=UTC:20260419T130000
DTEND;TZID=UTC:20260419T150000
DTSTAMP:20260421T103947
CREATED:20250217T184441Z
LAST-MODIFIED:20250218T151533Z
UID:10000228-1776603600-1776610800@njmom.com
SUMMARY:IN HER FOOTSTEPS: a celebration of women in history
DESCRIPTION:Step into history with\, IN HER FOOTSTEPS\, a fun\, family-friendly\, immersive theatrical experience that brings great women from the past to life through dynamic performances\, multimedia displays\, and hands-on activities. \nIN HER FOOTSTEPS will be on Saturdays and Sundays in March 2025 at 1 PM and 4 PM at the Museum of Jersey City History\, located at the historic Apple Tree House\, 298 Academy Street\, Jersey City\, NJ. For more information\, www.speranzatheatre.org.
URL:https://njmom.com/event/in-her-footsteps-a-celebration-of-women-in-history/2026-04-19/
LOCATION:Museum of Jersey City History\, located at the historic Apple Tree House\, 298 Academy Street\, Jersey City\, NJ\, 07306\, United States
ATTACH;FMTTYPE=image/jpeg:https://njmom.com/wp-content/uploads/2025/02/Footsteps-2025-Email-Signature.jpg
ORGANIZER;CN="Diana Basmajian":MAILTO:info@speranzatheatre.org
END:VEVENT
BEGIN:VEVENT
DTSTART;TZID=UTC:20260419T130000
DTEND;TZID=UTC:20260419T160000
DTSTAMP:20260421T103947
CREATED:20260408T134050Z
LAST-MODIFIED:20260408T134050Z
UID:10013846-1776603600-1776614400@njmom.com
SUMMARY:April Tours Featuring Handspinning
DESCRIPTION:Join us as we continue our celebration of the 250th anniversary of the signing of the Declaration of Independence. \nThis month\, we will be focusing on the art of spinning yarn by hand. Members of the Essex County Handspinners guild (https://essexspinners.org/) will be spinning on wheels and hand spindles. You will see how animal and plant fiber is turned into yarn. You can even try spinning on a drop spindle! \nTours are free\, but donations are gratefully accepted and applied to our scholarship fund. \nThe Kingsland Manor is located at the corner of Kingsland Street and Lakeside Drive. Entry and parking are on Lakeside Drive. \nFor more information\, email us at KingslandManorNutley@gmail.com\, or visit our Kingsland Manor Facebook group.
URL:https://njmom.com/event/april-tours-featuring-handspinning/
LOCATION:Kingsland Manor\, 3 Kingsland Street (entrance on Lakeside Drive)\, Nutley\, 07110
CATEGORIES:Free Events
ATTACH;FMTTYPE=image/png:https://njmom.com/wp-content/uploads/2026/04/spinning-image.png
ORGANIZER;CN="Kingsland Manor":MAILTO:kingslandmanornutley@gmail.com
END:VEVENT
BEGIN:VEVENT
DTSTART;TZID=UTC:20260419T150000
DTEND;TZID=UTC:20260419T170000
DTSTAMP:20260421T103947
CREATED:20260206T135827Z
LAST-MODIFIED:20260206T135827Z
UID:10013129-1776610800-1776618000@njmom.com
SUMMARY:Chris Funk The Wonderist - Redefining Wonder
DESCRIPTION:Chris Funk’s “Redefining Wonder” is an engaging multimedia experience that will have your family talking and scratching their heads for years to come. Finally\, a MAGIC SHOW WITH LIVE MUSIC! Chris has pioneered the use of instruments like the violin\, guitar\, sax and more into his illusions. \nChris’ parents wanted him to be a musician\, but he wanted to be a magician. In “Redefining Wonder\,” he combines his love for music and magic in a show unlike any other. Whether it’s a violin concerto to a magical dancing sheet of music to impossibly suspending various instruments on stage\, you’ve never seen anything quite like it. With a live-feed camera and interactive videos to bring audiences up onstage and into the action\, Chris Funk’s “Redefining Wonder” is a show your whole family will love! \nFrom NBC’s “America’s Got Talent\,” the CW’s “Penn & Teller: Fool Us” and “Masters of Illusion\,” Fox’s “Hell’s Kitchen\,” and Syfy’s “Wizard Wars\,” Chris’ unique approach to magic has delighted audiences at Las Vegas’ Planet Hollywood\, Venetian\, Mandalay Bay\, Rio\, and Tropicana casinos as well as residencies at Disney. In addition to his own touring\, Chris has starred in the major touring magic production “Masters of Illusion LIVE.” His performances have earned him standing ovations and a reputation for excellence.
URL:https://njmom.com/event/chris-funk-the-wonderist-redefining-wonder/
LOCATION:Union County Performing Arts Center\, 1601 Irving Street\, Rahway\, NJ\, 07065\, United States
ATTACH;FMTTYPE=image/jpeg:https://njmom.com/wp-content/uploads/2026/02/UCPAC_2026_ChrisFunk_DIGITAL_1080x1080.jpg
ORGANIZER;CN="Union County Performing Arts Center":MAILTO:boxoffice@ucpac.org
END:VEVENT
BEGIN:VEVENT
DTSTART;TZID=UTC:20260419T150000
DTEND;TZID=UTC:20260419T170000
DTSTAMP:20260421T103947
CREATED:20260220T140008Z
LAST-MODIFIED:20260220T140008Z
UID:10013491-1776610800-1776618000@njmom.com
SUMMARY:Chris Funk The Wonderist - Redefining Wonder
DESCRIPTION:Chris Funk’s “Redefining Wonder” is an engaging multimedia experience that will have your family talking and scratching their heads for years to come. Finally\, a MAGIC SHOW WITH LIVE MUSIC! Chris has pioneered the use of instruments like the violin\, guitar\, sax and more into his illusions. \nChris’ parents wanted him to be a musician\, but he wanted to be a magician. In “Redefining Wonder\,” he combines his love for music and magic in a show unlike any other. Whether it’s a violin concerto to a magical dancing sheet of music to impossibly suspending various instruments on stage\, you’ve never seen anything quite like it. With a live-feed camera and interactive videos to bring audiences up onstage and into the action\, Chris Funk’s “Redefining Wonder” is a show your whole family will love! \nFrom NBC’s “America’s Got Talent\,” the CW’s “Penn & Teller: Fool Us” and “Masters of Illusion\,” Fox’s “Hell’s Kitchen\,” and Syfy’s “Wizard Wars\,” Chris’ unique approach to magic has delighted audiences at Las Vegas’ Planet Hollywood\, Venetian\, Mandalay Bay\, Rio\, and Tropicana casinos as well as residencies at Disney. In addition to his own touring\, Chris has starred in the major touring magic production “Masters of Illusion LIVE.” His performances have earned him standing ovations and a reputation for excellence.
URL:https://njmom.com/event/chris-funk-the-wonderist-redefining-wonder-3/
LOCATION:Union County Performing Arts Center\, 1601 Irving Street\, Rahway\, NJ\, 07065\, United States
ATTACH;FMTTYPE=image/jpeg:https://njmom.com/wp-content/uploads/2026/02/UCPAC_2026_ChrisFunk_DIGITAL_1080x1080-2.jpg
ORGANIZER;CN="Union County Performing Arts Center":MAILTO:boxoffice@ucpac.org
END:VEVENT
BEGIN:VEVENT
DTSTART;TZID=UTC:20260419T151500
DTEND;TZID=UTC:20260419T160000
DTSTAMP:20260421T103947
CREATED:20260330T124154Z
LAST-MODIFIED:20260330T124154Z
UID:10013817-1776611700-1776614400@njmom.com
SUMMARY:Earth Day Celebration Trashion Show
DESCRIPTION:Walk the runway at the second annual Trashion Show\, part of Sustainable Princeton and Morven Museum & Garden’s free Earth Day Celebration\, presented in collaboration with the Princeton Public Library and Princeton Environmental Film Festival. Turn ordinary trash like paper bags\, broken umbrellas\, and plastic utensils into extraordinary fashion! Prizes will be awarded in three age categories (kids ages 8-12\, teens ages 13-18\, and adults ages 19+)\, with designs judged on creativity\, originality\, and artistic merit. Check out the website for materials ideas and guidelines.\nDeadline to register: Friday\, April 3.\nEvent date: Rain or shine! Sunday\, April 19\, 3:15 pm\nEvent location: Morven Museum & Garden\, 55 Stockton Street\, Princeton\, NJ 08540\nDetails (including contest rules and how to register) at https://www.sustainableprinceton.org/earth-day-trashion-show-2026/
URL:https://njmom.com/event/earth-day-celebration-trashion-show/
LOCATION:Morven Museum & Garden\, 55 Stockton Street\, Princeton\, NJ\, 08540\, United States
ATTACH;FMTTYPE=image/jpeg:https://njmom.com/wp-content/uploads/2026/03/Trashion-Show-300x250-1.jpg
ORGANIZER;CN="Morven Museum &amp%3B Garden":MAILTO:info@morven.org
END:VEVENT
END:VCALENDAR