BEGIN:VCALENDAR
VERSION:2.0
PRODID:-//NJ Mom - ECPv6.15.20//NONSGML v1.0//EN
CALSCALE:GREGORIAN
METHOD:PUBLISH
X-WR-CALNAME:NJ Mom
X-ORIGINAL-URL:https://njmom.com
X-WR-CALDESC:Events for NJ Mom
REFRESH-INTERVAL;VALUE=DURATION:PT1H
X-Robots-Tag:noindex
X-PUBLISHED-TTL:PT1H
BEGIN:VTIMEZONE
TZID:UTC
BEGIN:STANDARD
TZOFFSETFROM:+0000
TZOFFSETTO:+0000
TZNAME:UTC
DTSTART:20250101T000000
END:STANDARD
END:VTIMEZONE
BEGIN:VTIMEZONE
TZID:America/New_York
BEGIN:DAYLIGHT
TZOFFSETFROM:-0500
TZOFFSETTO:-0400
TZNAME:EDT
DTSTART:20250309T070000
END:DAYLIGHT
BEGIN:STANDARD
TZOFFSETFROM:-0400
TZOFFSETTO:-0500
TZNAME:EST
DTSTART:20251102T060000
END:STANDARD
BEGIN:DAYLIGHT
TZOFFSETFROM:-0500
TZOFFSETTO:-0400
TZNAME:EDT
DTSTART:20260308T070000
END:DAYLIGHT
BEGIN:STANDARD
TZOFFSETFROM:-0400
TZOFFSETTO:-0500
TZNAME:EST
DTSTART:20261101T060000
END:STANDARD
BEGIN:DAYLIGHT
TZOFFSETFROM:-0500
TZOFFSETTO:-0400
TZNAME:EDT
DTSTART:20270314T070000
END:DAYLIGHT
BEGIN:STANDARD
TZOFFSETFROM:-0400
TZOFFSETTO:-0500
TZNAME:EST
DTSTART:20271107T060000
END:STANDARD
END:VTIMEZONE
BEGIN:VEVENT
DTSTART;TZID=UTC:20260305T080000
DTEND;TZID=UTC:20260406T233000
DTSTAMP:20260420T173234
CREATED:20260318T121201Z
LAST-MODIFIED:20260318T121201Z
UID:10013747-1772697600-1775518200@njmom.com
SUMMARY:Annual Plant Sale
DESCRIPTION:Now through April 6\, Morven Museum & Garden hosts their annual online plant sale\, an affordable selection of flowers\, vegetables\, herbs\, trees\, shrubs\, and more. Morven’s expert horticulturalists have curated a diverse selection of in-demand\, unique\, and hard-to-find items\, including seedlings from the historic garden. All proceeds benefit Morven. Customers can pick up their order\, which comes with planting and care instructions\, May 15-18.
URL:https://njmom.com/event/annual-plant-sale/
LOCATION:Morven Museum & Garden\, 55 Stockton Street\, Princeton\, NJ\, 08540\, United States
CATEGORIES:Charity
ATTACH;FMTTYPE=image/jpeg:https://njmom.com/wp-content/uploads/2026/03/Plant-Sale-600x300-1.jpg
ORGANIZER;CN="Morven Museum &amp%3B Garden":MAILTO:info@morven.org
END:VEVENT
BEGIN:VEVENT
DTSTART;VALUE=DATE:20260323
DTEND;VALUE=DATE:20260516
DTSTAMP:20260420T173234
CREATED:20260324T123239Z
LAST-MODIFIED:20260324T123239Z
UID:10013780-1774224000-1778889599@njmom.com
SUMMARY:Color Factory: Colors in Bloom
DESCRIPTION:The first signs of spring have arrived at Color Factory! Step into the season in our limited-time Colors In Bloom confetti installation. We’re celebrating New York’s unique beauty with larger-than-life cherry blossoms. And just like spring itself\, there are a few surprises waiting to bloom!\nOpen to the public through the middle of May\, Colors in Bloom (with tickets starting as low as $29) offers the perfect adventure\, including seasonal treats\, new photo ops\, and a spring-themed confetti room. Stroll through a transformed space that evokes the allure of the thousands of signature cherry blossoms that surround the city each spring. \nTickets available at: https://www.colorfactory.co/
URL:https://njmom.com/event/color-factory-colors-in-bloom/
LOCATION:251 Spring St\, New York\, NY 10013\, 251 Spring St\, New York\, NY\, 10013\, United States
CATEGORIES:Spring Festivals
ATTACH;FMTTYPE=image/jpeg:https://njmom.com/wp-content/uploads/2026/03/IMG_1167-3-2.jpg
ORGANIZER;CN="Color Factory":MAILTO:francesca@youneedmc.com
END:VEVENT
BEGIN:VEVENT
DTSTART;VALUE=DATE:20260328
DTEND;VALUE=DATE:20260407
DTSTAMP:20260420T173234
CREATED:20260330T124007Z
LAST-MODIFIED:20260330T124007Z
UID:10013812-1774656000-1775519999@njmom.com
SUMMARY:Annual Plant Sale
DESCRIPTION:Now through April 6\, Morven Museum & Garden hosts their annual online plant sale\, an affordable selection of flowers\, vegetables\, herbs\, trees\, shrubs\, and more. Morven’s expert horticulturalists have curated a diverse selection of in-demand\, unique\, and hard-to-find items\, including seedlings from the historic garden. All proceeds benefit Morven. Customers can pick up their order\, which comes with planting and care instructions\, May 15-18.\nDates: Through Monday\, April 6; pick-up orders Friday-Monday\, May 15-18.\nLocation: Order online at https://www.morven.org/plantsale; order pick-up will take place at\nMorven Museum & Garden\, 55 Stockton Street\, Princeton\, NJ 08540
URL:https://njmom.com/event/annual-plant-sale-2/
LOCATION:Morven Museum & Garden\, 55 Stockton Street\, Princeton\, NJ 08540\, 55 Stockton Street\, Princeton\, NJ\, NJ\, 08540\, United States
ATTACH;FMTTYPE=image/jpeg:https://njmom.com/wp-content/uploads/2026/03/Plant-Sale-300x250-1.jpg
ORGANIZER;CN="Morven Museum &amp%3B Garden":MAILTO:info@morven.org
END:VEVENT
BEGIN:VEVENT
DTSTART;TZID=America/New_York:20260331T100000
DTEND;TZID=America/New_York:20260402T150000
DTSTAMP:20260420T173234
CREATED:20260327T124828Z
LAST-MODIFIED:20260327T124828Z
UID:10013787-1774951200-1775142000@njmom.com
SUMMARY:Kids Easter Workshop: Chocolate Bunny Lab
DESCRIPTION:Join us for a fun and messy Chocolate Bunny Lab at 215 Rutgers St! \nPerfect for kids who love Easter and chocolate\, this hands-on workshop lets your little ones create their own sweet bunny treats. Come ready to get creative and enjoy some tasty fun with other kids. Don’t miss out on this awesome Easter event!
URL:https://njmom.com/event/kids-easter-workshop-chocolate-bunny-lab/
LOCATION:Kahkow USA\, 215 Rutgers St\, Maplewood\, NJ\, 07040\, United States
ATTACH;FMTTYPE=image/jpeg:https://njmom.com/wp-content/uploads/2026/03/INSTAGRAM-POST-2.jpg
ORGANIZER;CN="Kahkow USA":MAILTO:INFO@KAHKOW.COM
END:VEVENT
BEGIN:VEVENT
DTSTART;TZID=UTC:20260331T140000
DTEND;TZID=UTC:20260331T190000
DTSTAMP:20260420T173234
CREATED:20260226T131525Z
LAST-MODIFIED:20260226T131525Z
UID:10013624-1774965600-1774983600@njmom.com
SUMMARY:Photos with the Easter Bunny at MarketFair
DESCRIPTION:Celebrate spring at MarketFair with the Easter Bunny! Families can enjoy festive photos\, smiles\, and a variety of fun activities throughout the event. Each hour\, kids can join the Bunny for high-energy KIDZ BOP dance parties\, while special events like the Super Bunny & Friends Welcome Party on March 14 feature crafts\, face painting\, sweet treats\, an obstacle course\, and live music. Pet owners can bring their furry friends for photos on select Mondays\, and children and families with special needs can enjoy a calm\, sensory-friendly experience on March 22. \nGet egg-cited for sweet cheer and springtime fun all around!
URL:https://njmom.com/event/photos-with-the-easter-bunny-at-marketfair/2026-03-31/
LOCATION:MarketFair\, 3535 US Highway 1\, Princeton\, NJ\, 08540\, United States
ATTACH;FMTTYPE=image/jpeg:https://njmom.com/wp-content/uploads/2026/02/7092a8c6-aa12-4945-9637-95f33a1a8724.jpg
END:VEVENT
BEGIN:VEVENT
DTSTART;TZID=UTC:20260331T190000
DTEND;TZID=UTC:20260331T210000
DTSTAMP:20260420T173234
CREATED:20260108T134312Z
LAST-MODIFIED:20260223T203712Z
UID:10013548-1774983600-1774990800@njmom.com
SUMMARY:Roxey Ballet's Journey Back to the 80's
DESCRIPTION:New Hope\, PA & Lambertville\, NJ — Roxey Ballet invites audiences to rewind the clock and crank up the volume with Journey Back to the 80’s\, an electrifying dance experience that blends high-energy performance\, live music\, and immersive pre-show festivities. Running February 13 through March 31\, this retro celebration is the perfect outing for Valentine’s Day weekend and beyond. \nMore than a performance\, Journey Back to the 80’s is a full-blown experience. Select performances feature the Gruvtyme Band live on stage\, bringing iconic 80s hits to life alongside Roxey Ballet’s dynamic dancers. The party kicks off 30 minutes before curtain with a DJ spinning throwback favorites\, access to the Totally Tubular Bar\, an 80s boutique\, and plenty of surprises to set the vibe.\nAudiences can elevate their night with exclusive ticket add-ons\, including the Totally Tubular Bar Pass\, Little Rockstar Party for younger fans\, VIP experiences\, and more—making it the ultimate night out for date nights\, groups\, and families alike.\nPerformances will be held at:\nMill Ballet School\, 46 N. Sugan Rd\, New Hope\, PA\nMusic Mountain Theatre\, Lambertville\, NJ\nFeaturing a special Relaxed Matinee\, designed to create a welcoming\, sensory-friendly environment for young audiences and families. \nJourney Back to the 80’s celebrates the music\, style\, and spirit of a decade that defined cool—through bold choreography\, infectious rhythms\, and a festive atmosphere that invites audiences to be part of the fun.
URL:https://njmom.com/event/roxey-ballets-journey-back-to-the-80s/2026-03-31/
LOCATION:Mill Ballet School\, 46 N Sugan Rd\, New Hope\, PA\, 18938\, United States
CATEGORIES:Valentine's Day
ATTACH;FMTTYPE=image/jpeg:https://njmom.com/wp-content/uploads/2026/01/IMG_1891.jpg
ORGANIZER;CN="Roxey Ballet":MAILTO:roxeypr@gmail.com
END:VEVENT
END:VCALENDAR