BEGIN:VCALENDAR
VERSION:2.0
PRODID:-//NJ Mom - ECPv6.15.20//NONSGML v1.0//EN
CALSCALE:GREGORIAN
METHOD:PUBLISH
X-WR-CALNAME:NJ Mom
X-ORIGINAL-URL:https://njmom.com
X-WR-CALDESC:Events for NJ Mom
REFRESH-INTERVAL;VALUE=DURATION:PT1H
X-Robots-Tag:noindex
X-PUBLISHED-TTL:PT1H
BEGIN:VTIMEZONE
TZID:UTC
BEGIN:STANDARD
TZOFFSETFROM:+0000
TZOFFSETTO:+0000
TZNAME:UTC
DTSTART:20250101T000000
END:STANDARD
END:VTIMEZONE
BEGIN:VTIMEZONE
TZID:America/New_York
BEGIN:DAYLIGHT
TZOFFSETFROM:-0500
TZOFFSETTO:-0400
TZNAME:EDT
DTSTART:20250309T070000
END:DAYLIGHT
BEGIN:STANDARD
TZOFFSETFROM:-0400
TZOFFSETTO:-0500
TZNAME:EST
DTSTART:20251102T060000
END:STANDARD
BEGIN:DAYLIGHT
TZOFFSETFROM:-0500
TZOFFSETTO:-0400
TZNAME:EDT
DTSTART:20260308T070000
END:DAYLIGHT
BEGIN:STANDARD
TZOFFSETFROM:-0400
TZOFFSETTO:-0500
TZNAME:EST
DTSTART:20261101T060000
END:STANDARD
BEGIN:DAYLIGHT
TZOFFSETFROM:-0500
TZOFFSETTO:-0400
TZNAME:EDT
DTSTART:20270314T070000
END:DAYLIGHT
BEGIN:STANDARD
TZOFFSETFROM:-0400
TZOFFSETTO:-0500
TZNAME:EST
DTSTART:20271107T060000
END:STANDARD
END:VTIMEZONE
BEGIN:VEVENT
DTSTART;VALUE=DATE:20260304
DTEND;VALUE=DATE:20260316
DTSTAMP:20260421T072159
CREATED:20260129T132240Z
LAST-MODIFIED:20260129T132240Z
UID:10013051-1772582400-1773619199@njmom.com
SUMMARY:Circus Quixote
DESCRIPTION:A Lookingglass Theatre Company production\nBased on Miguel de Cervantes’ Don Quijote of La Mancha\nWritten and Directed by Kerry and David Catlin\nCircus by Sylvia Hernandez-DiStasi\nProduced in Association with The Actors Gymnasium \nCervantes’ classic is reimagined in a dazzling new production from the creators of McCarter audience favorites\, Lookingglass Alice and Mary Shelley’s Frankenstein. \nSomewhere in La Mancha there lived a man who read so many books that his brains dried up…so he becomes a knight! As Don Quixote embarks on his impossible quest for justice\, Lookingglass Theatre’s signature acrobatics\, breathtaking visuals\, and boundless imagination transport audiences into his wild\, windmill-tilting world.
URL:https://njmom.com/event/circus-quixote/
LOCATION:McCarter Theatre\, 91 University Pl\, Princeton\, NJ\, 08540\, United States
ATTACH;FMTTYPE=image/jpeg:https://njmom.com/wp-content/uploads/2026/01/PMax_CircusQ_1200x1200.jpg
END:VEVENT
BEGIN:VEVENT
DTSTART;TZID=UTC:20260305T080000
DTEND;TZID=UTC:20260406T233000
DTSTAMP:20260421T072159
CREATED:20260318T121201Z
LAST-MODIFIED:20260318T121201Z
UID:10013747-1772697600-1775518200@njmom.com
SUMMARY:Annual Plant Sale
DESCRIPTION:Now through April 6\, Morven Museum & Garden hosts their annual online plant sale\, an affordable selection of flowers\, vegetables\, herbs\, trees\, shrubs\, and more. Morven’s expert horticulturalists have curated a diverse selection of in-demand\, unique\, and hard-to-find items\, including seedlings from the historic garden. All proceeds benefit Morven. Customers can pick up their order\, which comes with planting and care instructions\, May 15-18.
URL:https://njmom.com/event/annual-plant-sale/
LOCATION:Morven Museum & Garden\, 55 Stockton Street\, Princeton\, NJ\, 08540\, United States
CATEGORIES:Charity
ATTACH;FMTTYPE=image/jpeg:https://njmom.com/wp-content/uploads/2026/03/Plant-Sale-600x300-1.jpg
ORGANIZER;CN="Morven Museum &amp%3B Garden":MAILTO:info@morven.org
END:VEVENT
BEGIN:VEVENT
DTSTART;TZID=UTC:20260315T100000
DTEND;TZID=UTC:20260315T150000
DTSTAMP:20260421T072159
CREATED:20251203T132547Z
LAST-MODIFIED:20251203T132547Z
UID:10011402-1773568800-1773586800@njmom.com
SUMMARY:Maple Syrup Festival
DESCRIPTION:Happy Day Farm’s Maple Festival is returning in 2026! 🍁🥞 \n〰️Admission is $18 per person\, tickets are sold at the door only\n〰️ Tours take place at 10am\, 11:15am\, 12:30pm\, & 1:45pm (please arrive 15 minutes prior)\n〰️ Please note this is an outdoor event\, so dress accordingly \nIncluded with admission…\n〰️ Educational tour\n〰️ Tractor ride to the sugar bush\n〰️ Animal zoo\n〰️ Wooden train\n〰️ Bubble cart \n*Discounts are available for Girlscout and Boyscout troops for our maple syrup tours. Please email us at NJhappydayfarm@gmail.com to plan your trip! (Reservations are required. All group members must wear their vest/ sash in order to receive the discount).
URL:https://njmom.com/event/maple-syrup-festival/2026-03-15/
LOCATION:NJ
ATTACH;FMTTYPE=image/jpeg:https://njmom.com/wp-content/uploads/2025/12/CA7C9FA1-745E-45DA-AD34-F06F22F64D34.jpeg
END:VEVENT
BEGIN:VEVENT
DTSTART;TZID=UTC:20260315T100000
DTEND;TZID=UTC:20260315T160000
DTSTAMP:20260421T072159
CREATED:20260126T143828Z
LAST-MODIFIED:20260126T143828Z
UID:10012756-1773568800-1773590400@njmom.com
SUMMARY:Cranbury Craft Show
DESCRIPTION:The 28th Annual Cranbury Craft Show will take place on Saturday March 14\, 2026 10am-4pm and Sunday March 15\, 2026 11am-4pm. This two day show has over 100 juried artisans – Handmade items\, culinary delights\, art\, gifts – a creative and family friendly community event!\nAdmission only $5\, free for children 12 and under.
URL:https://njmom.com/event/cranbury-craft-show/2026-03-15/
LOCATION:Cranbury School\, 23 North Main Street\, Cranbury\, NJ\, 08512
CATEGORIES:Spring Festivals
ATTACH;FMTTYPE=image/jpeg:https://njmom.com/wp-content/uploads/2026/01/2026-Craft-Show-Flyer-Facebook-Profile-Picture.jpg
ORGANIZER;CN="Cranbury Education Foundation":MAILTO:cranburynjcraftshow@gmail.com
END:VEVENT
BEGIN:VEVENT
DTSTART;TZID=UTC:20260315T103000
DTEND;TZID=UTC:20260315T120000
DTSTAMP:20260421T072159
CREATED:20260304T141855Z
LAST-MODIFIED:20260304T141855Z
UID:10013643-1773570600-1773576000@njmom.com
SUMMARY:Slime and Dance party - Denville Studio
DESCRIPTION:Get ready for a gooey good time at Slime and Dance Party! Kids will mix\, stretch\, and create their own slime.\nSlime and Dance party – Denville Studio\nSunday\, March 15⋅10:30am – 12:00pm \n424 W Main St\, Denville \nPricing: $20 per participant | $15 for additional kids | $5 per parent
URL:https://njmom.com/event/slime-and-dance-party-denville-studio/
LOCATION:All Children’s Art Center\, 424 W Main St\, Denville\, NJ\, 07834\, United States
ATTACH;FMTTYPE=image/jpeg:https://njmom.com/wp-content/uploads/2026/03/Slime-and-Dance-Denville.jpg
ORGANIZER;CN="ACACNJ":MAILTO:info@acacnj.org
END:VEVENT
BEGIN:VEVENT
DTSTART;TZID=America/New_York:20260315T110000
DTEND;TZID=America/New_York:20260315T120000
DTSTAMP:20260421T072159
CREATED:20260126T144020Z
LAST-MODIFIED:20260126T144020Z
UID:10012763-1773572400-1773576000@njmom.com
SUMMARY:The Hula Hoopin' Queen
DESCRIPTION:New York City Children’s Theater’s The Hula Hoopin’ Queen is a joyful 50 minute performance for young audiences ages 5 and up. \nSet on a vibrant Harlem block\, the story follows 10-year old Kameeka as she chases her dream of becoming the Hula Hoopin’ Queen of 139th Street. When preparations for Miz Adline’s birthday shift her plans\, Kameeka discovers that caring for family and community can be the greatest victory of all. \nFilled with catchy music\, Harlem pride\, and a grand hula-hooping finale\, this lively production celebrates family\, friendship\, and finding creative ways to shine.
URL:https://njmom.com/event/the-hula-hoopin-queen/2026-03-15/
LOCATION:Theatre row\, 410 W 42nd St\, New York\, NY 10036\, New York City\, 10036\, United States
ATTACH;FMTTYPE=image/jpeg:https://njmom.com/wp-content/uploads/2026/01/Your-paragraph-text-3.jpg
END:VEVENT
BEGIN:VEVENT
DTSTART;TZID=UTC:20260315T130000
DTEND;TZID=UTC:20260315T140000
DTSTAMP:20260421T072159
CREATED:20260304T142024Z
LAST-MODIFIED:20260304T142024Z
UID:10013648-1773579600-1773583200@njmom.com
SUMMARY:In Her Footsteps
DESCRIPTION:What if the past didn’t just live in books… but stood right in front\nof you? Speranza Theatre Company presents IN HER FOOTSTEPS\, a fun\, immersive theatre experience\nwhere the stories of remarkable women come alive. Professional actors embody extraordinary women\nfrom history whose courage and creativity changed our world. Through live performance\, interactive\nexhibits\, and meaningful dialogue\, attendees are invited to experience these defining moments\nfirsthand. This is theatre shaped by curiosity.\nThroughout the experience\, IN HER FOOTSTEPS explores enduring gender inequities and their impact\ntoday\, encouraging reflection and meaningful conversation. It’s perfect for families looking to be\nentertained and inspired this March in celebration of Women’s History Month.
URL:https://njmom.com/event/in-her-footsteps/2026-03-15/
LOCATION:Museum of Jersey City History\, located at the historic Apple Tree House\, 298 Academy Street\, Jersey City\, NJ\, 07306\, United States
ATTACH;FMTTYPE=image/jpeg:https://njmom.com/wp-content/uploads/2026/03/IHF-FLyer-2026-v1-for-public-performances-and-elementary-schools.jpg
ORGANIZER;CN="Speranza Theatre Company":MAILTO:speranzatheatre@gmail.com
END:VEVENT
BEGIN:VEVENT
DTSTART;TZID=UTC:20260315T130000
DTEND;TZID=UTC:20260315T150000
DTSTAMP:20260421T072159
CREATED:20250217T184441Z
LAST-MODIFIED:20250218T151533Z
UID:10000218-1773579600-1773586800@njmom.com
SUMMARY:IN HER FOOTSTEPS: a celebration of women in history
DESCRIPTION:Step into history with\, IN HER FOOTSTEPS\, a fun\, family-friendly\, immersive theatrical experience that brings great women from the past to life through dynamic performances\, multimedia displays\, and hands-on activities. \nIN HER FOOTSTEPS will be on Saturdays and Sundays in March 2025 at 1 PM and 4 PM at the Museum of Jersey City History\, located at the historic Apple Tree House\, 298 Academy Street\, Jersey City\, NJ. For more information\, www.speranzatheatre.org.
URL:https://njmom.com/event/in-her-footsteps-a-celebration-of-women-in-history/2026-03-15/
LOCATION:Museum of Jersey City History\, located at the historic Apple Tree House\, 298 Academy Street\, Jersey City\, NJ\, 07306\, United States
ATTACH;FMTTYPE=image/jpeg:https://njmom.com/wp-content/uploads/2025/02/Footsteps-2025-Email-Signature.jpg
ORGANIZER;CN="Diana Basmajian":MAILTO:info@speranzatheatre.org
END:VEVENT
BEGIN:VEVENT
DTSTART;TZID=UTC:20260315T130000
DTEND;TZID=UTC:20260315T150000
DTSTAMP:20260421T072159
CREATED:20260313T130018Z
LAST-MODIFIED:20260313T130018Z
UID:10013730-1773579600-1773586800@njmom.com
SUMMARY:ST. PATRICK’S DAY OPEN STUDIO - Boonton
DESCRIPTION:ST. PATRICK’S DAY OPEN STUDIO – Boonton\nSunday\, March 15⋅1:00 – 3:00pm \nSpecial St. Patrick’s Day themed projects and festive creative activities will be included throughout the session. All activities are optional so kids can explore what they love. \n117 Washington St\, Boonton\, NJ 07005\, USA\nPricing: $20 per participant | $15 for additional kids | $5 per parent
URL:https://njmom.com/event/st-patricks-day-open-studio-boonton/
LOCATION:All Children’s Art Center\, 424 W Main St\, Denville\, NJ\, 07834\, United States
ATTACH;FMTTYPE=image/png:https://njmom.com/wp-content/uploads/2026/03/StPatricksDay.png
ORGANIZER;CN="ACACNJ":MAILTO:info@acacnj.org
END:VEVENT
BEGIN:VEVENT
DTSTART;TZID=UTC:20260315T130000
DTEND;TZID=UTC:20260315T160000
DTSTAMP:20260421T072159
CREATED:20260312T130642Z
LAST-MODIFIED:20260312T130642Z
UID:10013725-1773579600-1773590400@njmom.com
SUMMARY:Kingsland Manor Tours and Colonial Skills Demonstrations
DESCRIPTION:Join us as we continue our celebration of the 250th anniversary of the signing of the Declaration of Independence. This month\, the Colonial skills we will be focusing on are butter churning\, tying nautical knots (a nod to Kingsland Manor’s location on a waterway)\, and chair caning. Homemade butter will be served on Irish soda bread.
URL:https://njmom.com/event/kingsland-manor-tours-and-colonial-skills-demonstrations/
LOCATION:Kingsland Manor\, 3 Kingsland Street (entrance on Lakeside Drive)\, Nutley\, 07110
CATEGORIES:Free Events
ATTACH;FMTTYPE=image/png:https://njmom.com/wp-content/uploads/2026/03/image-for-March-2026-open-house.png
ORGANIZER;CN="Karen Wallace%2C Trustee":MAILTO:kingslandmanornutley@gmail.com
END:VEVENT
BEGIN:VEVENT
DTSTART;TZID=UTC:20260315T140000
DTEND;TZID=UTC:20260315T190000
DTSTAMP:20260421T072159
CREATED:20260226T131525Z
LAST-MODIFIED:20260226T131525Z
UID:10013608-1773583200-1773601200@njmom.com
SUMMARY:Photos with the Easter Bunny at MarketFair
DESCRIPTION:Celebrate spring at MarketFair with the Easter Bunny! Families can enjoy festive photos\, smiles\, and a variety of fun activities throughout the event. Each hour\, kids can join the Bunny for high-energy KIDZ BOP dance parties\, while special events like the Super Bunny & Friends Welcome Party on March 14 feature crafts\, face painting\, sweet treats\, an obstacle course\, and live music. Pet owners can bring their furry friends for photos on select Mondays\, and children and families with special needs can enjoy a calm\, sensory-friendly experience on March 22. \nGet egg-cited for sweet cheer and springtime fun all around!
URL:https://njmom.com/event/photos-with-the-easter-bunny-at-marketfair/2026-03-15/
LOCATION:MarketFair\, 3535 US Highway 1\, Princeton\, NJ\, 08540\, United States
ATTACH;FMTTYPE=image/jpeg:https://njmom.com/wp-content/uploads/2026/02/7092a8c6-aa12-4945-9637-95f33a1a8724.jpg
END:VEVENT
BEGIN:VEVENT
DTSTART;TZID=UTC:20260315T190000
DTEND;TZID=UTC:20260315T210000
DTSTAMP:20260421T072159
CREATED:20260108T134312Z
LAST-MODIFIED:20260223T203712Z
UID:10013532-1773601200-1773608400@njmom.com
SUMMARY:Roxey Ballet's Journey Back to the 80's
DESCRIPTION:New Hope\, PA & Lambertville\, NJ — Roxey Ballet invites audiences to rewind the clock and crank up the volume with Journey Back to the 80’s\, an electrifying dance experience that blends high-energy performance\, live music\, and immersive pre-show festivities. Running February 13 through March 31\, this retro celebration is the perfect outing for Valentine’s Day weekend and beyond. \nMore than a performance\, Journey Back to the 80’s is a full-blown experience. Select performances feature the Gruvtyme Band live on stage\, bringing iconic 80s hits to life alongside Roxey Ballet’s dynamic dancers. The party kicks off 30 minutes before curtain with a DJ spinning throwback favorites\, access to the Totally Tubular Bar\, an 80s boutique\, and plenty of surprises to set the vibe.\nAudiences can elevate their night with exclusive ticket add-ons\, including the Totally Tubular Bar Pass\, Little Rockstar Party for younger fans\, VIP experiences\, and more—making it the ultimate night out for date nights\, groups\, and families alike.\nPerformances will be held at:\nMill Ballet School\, 46 N. Sugan Rd\, New Hope\, PA\nMusic Mountain Theatre\, Lambertville\, NJ\nFeaturing a special Relaxed Matinee\, designed to create a welcoming\, sensory-friendly environment for young audiences and families. \nJourney Back to the 80’s celebrates the music\, style\, and spirit of a decade that defined cool—through bold choreography\, infectious rhythms\, and a festive atmosphere that invites audiences to be part of the fun.
URL:https://njmom.com/event/roxey-ballets-journey-back-to-the-80s/2026-03-15/
LOCATION:Mill Ballet School\, 46 N Sugan Rd\, New Hope\, PA\, 18938\, United States
CATEGORIES:Valentine's Day
ATTACH;FMTTYPE=image/jpeg:https://njmom.com/wp-content/uploads/2026/01/IMG_1891.jpg
ORGANIZER;CN="Roxey Ballet":MAILTO:roxeypr@gmail.com
END:VEVENT
END:VCALENDAR