BEGIN:VCALENDAR
VERSION:2.0
PRODID:-//NJ Mom - ECPv6.15.20//NONSGML v1.0//EN
CALSCALE:GREGORIAN
METHOD:PUBLISH
X-ORIGINAL-URL:https://njmom.com
X-WR-CALDESC:Events for NJ Mom
REFRESH-INTERVAL;VALUE=DURATION:PT1H
X-Robots-Tag:noindex
X-PUBLISHED-TTL:PT1H
BEGIN:VTIMEZONE
TZID:UTC
BEGIN:STANDARD
TZOFFSETFROM:+0000
TZOFFSETTO:+0000
TZNAME:UTC
DTSTART:20250101T000000
END:STANDARD
END:VTIMEZONE
BEGIN:VEVENT
DTSTART;VALUE=DATE:20260304
DTEND;VALUE=DATE:20260316
DTSTAMP:20260422T083504
CREATED:20260129T132240Z
LAST-MODIFIED:20260129T132240Z
UID:10013051-1772582400-1773619199@njmom.com
SUMMARY:Circus Quixote
DESCRIPTION:A Lookingglass Theatre Company production\nBased on Miguel de Cervantes’ Don Quijote of La Mancha\nWritten and Directed by Kerry and David Catlin\nCircus by Sylvia Hernandez-DiStasi\nProduced in Association with The Actors Gymnasium \nCervantes’ classic is reimagined in a dazzling new production from the creators of McCarter audience favorites\, Lookingglass Alice and Mary Shelley’s Frankenstein. \nSomewhere in La Mancha there lived a man who read so many books that his brains dried up…so he becomes a knight! As Don Quixote embarks on his impossible quest for justice\, Lookingglass Theatre’s signature acrobatics\, breathtaking visuals\, and boundless imagination transport audiences into his wild\, windmill-tilting world.
URL:https://njmom.com/event/circus-quixote/
LOCATION:McCarter Theatre\, 91 University Pl\, Princeton\, NJ\, 08540\, United States
ATTACH;FMTTYPE=image/jpeg:https://njmom.com/wp-content/uploads/2026/01/PMax_CircusQ_1200x1200.jpg
END:VEVENT
BEGIN:VEVENT
DTSTART;TZID=UTC:20260305T080000
DTEND;TZID=UTC:20260406T233000
DTSTAMP:20260422T083504
CREATED:20260318T121201Z
LAST-MODIFIED:20260318T121201Z
UID:10013747-1772697600-1775518200@njmom.com
SUMMARY:Annual Plant Sale
DESCRIPTION:Now through April 6\, Morven Museum & Garden hosts their annual online plant sale\, an affordable selection of flowers\, vegetables\, herbs\, trees\, shrubs\, and more. Morven’s expert horticulturalists have curated a diverse selection of in-demand\, unique\, and hard-to-find items\, including seedlings from the historic garden. All proceeds benefit Morven. Customers can pick up their order\, which comes with planting and care instructions\, May 15-18.
URL:https://njmom.com/event/annual-plant-sale/
LOCATION:Morven Museum & Garden\, 55 Stockton Street\, Princeton\, NJ\, 08540\, United States
CATEGORIES:Charity
ATTACH;FMTTYPE=image/jpeg:https://njmom.com/wp-content/uploads/2026/03/Plant-Sale-600x300-1.jpg
ORGANIZER;CN="Morven Museum &amp%3B Garden":MAILTO:info@morven.org
END:VEVENT
BEGIN:VEVENT
DTSTART;TZID=UTC:20260305T100000
DTEND;TZID=UTC:20260305T120000
DTSTAMP:20260422T083504
CREATED:20251021T130332Z
LAST-MODIFIED:20260312T125722Z
UID:10009420-1772704800-1772712000@njmom.com
SUMMARY:Play&Swim - Mom's Group at Five Star Swim School - Eatontown NJ
DESCRIPTION:Enjoy a relaxed\, family-friendly morning filled with swimming\, play\, and bonding. Our heated indoor pool and padded play area make it the perfect spot for parents\, caregivers\, and children to spend quality time together while having fun and socializing with other families! \nJoin us every Thursday from 10:00 AM to 12:00 PM\, with swimming from 10 to 11 and playtime until noon. Homeschool groups are always welcome! \nPrice: $15 per child\, and one parent or caregiver swims free. Additional parents are $5\, and extra children are $10. \nJoin the fun and make Thursday mornings your family’s favorite time of the week. Starts on October 23rd.
URL:https://njmom.com/event/playswim-moms-group-at-five-star-swim-school-eatontown-nj/2026-03-05/
LOCATION:Five Star Swim School –  Eatontown NJ\, 1 Corbett Way 07724\, Eatontown\, NJ\, 07724\, United States
CATEGORIES:New Moms
ATTACH;FMTTYPE=image/jpeg:https://njmom.com/wp-content/uploads/2025/10/NJMOM-Playswim-Eatontown-Oct25.jpg
ORGANIZER;CN="Five Star Swim School - Eatontown NJ":MAILTO:Eatontown@FSSwimSchool.com
END:VEVENT
BEGIN:VEVENT
DTSTART;TZID=UTC:20260305T190000
DTEND;TZID=UTC:20260305T210000
DTSTAMP:20260422T083504
CREATED:20260108T134312Z
LAST-MODIFIED:20260223T203712Z
UID:10013522-1772737200-1772744400@njmom.com
SUMMARY:Roxey Ballet's Journey Back to the 80's
DESCRIPTION:New Hope\, PA & Lambertville\, NJ — Roxey Ballet invites audiences to rewind the clock and crank up the volume with Journey Back to the 80’s\, an electrifying dance experience that blends high-energy performance\, live music\, and immersive pre-show festivities. Running February 13 through March 31\, this retro celebration is the perfect outing for Valentine’s Day weekend and beyond. \nMore than a performance\, Journey Back to the 80’s is a full-blown experience. Select performances feature the Gruvtyme Band live on stage\, bringing iconic 80s hits to life alongside Roxey Ballet’s dynamic dancers. The party kicks off 30 minutes before curtain with a DJ spinning throwback favorites\, access to the Totally Tubular Bar\, an 80s boutique\, and plenty of surprises to set the vibe.\nAudiences can elevate their night with exclusive ticket add-ons\, including the Totally Tubular Bar Pass\, Little Rockstar Party for younger fans\, VIP experiences\, and more—making it the ultimate night out for date nights\, groups\, and families alike.\nPerformances will be held at:\nMill Ballet School\, 46 N. Sugan Rd\, New Hope\, PA\nMusic Mountain Theatre\, Lambertville\, NJ\nFeaturing a special Relaxed Matinee\, designed to create a welcoming\, sensory-friendly environment for young audiences and families. \nJourney Back to the 80’s celebrates the music\, style\, and spirit of a decade that defined cool—through bold choreography\, infectious rhythms\, and a festive atmosphere that invites audiences to be part of the fun.
URL:https://njmom.com/event/roxey-ballets-journey-back-to-the-80s/2026-03-05/
LOCATION:Mill Ballet School\, 46 N Sugan Rd\, New Hope\, PA\, 18938\, United States
CATEGORIES:Valentine's Day
ATTACH;FMTTYPE=image/jpeg:https://njmom.com/wp-content/uploads/2026/01/IMG_1891.jpg
ORGANIZER;CN="Roxey Ballet":MAILTO:roxeypr@gmail.com
END:VEVENT
END:VCALENDAR