BEGIN:VCALENDAR
VERSION:2.0
PRODID:-//NJ Mom - ECPv6.15.20//NONSGML v1.0//EN
CALSCALE:GREGORIAN
METHOD:PUBLISH
X-WR-CALNAME:NJ Mom
X-ORIGINAL-URL:https://njmom.com
X-WR-CALDESC:Events for NJ Mom
REFRESH-INTERVAL;VALUE=DURATION:PT1H
X-Robots-Tag:noindex
X-PUBLISHED-TTL:PT1H
BEGIN:VTIMEZONE
TZID:UTC
BEGIN:STANDARD
TZOFFSETFROM:+0000
TZOFFSETTO:+0000
TZNAME:UTC
DTSTART:20250101T000000
END:STANDARD
END:VTIMEZONE
BEGIN:VEVENT
DTSTART;TZID=UTC:20260130T080000
DTEND;TZID=UTC:20260202T170000
DTSTAMP:20260420T122242
CREATED:20260126T150307Z
LAST-MODIFIED:20260126T150307Z
UID:10013029-1769760000-1770051600@njmom.com
SUMMARY:WinterFest Ice Skating
DESCRIPTION:Is there anything better than lacing up some skates and hitting the ice with the family? Bundle up for the cold winter weather and spend the day enjoying gliding across the ice.\nCost: Skate rentals and rink admission prices vary\nCopper River Park\, Cuthbert Boulevard and Park Avenue\, Cherry Hill\, NJ 08002
URL:https://njmom.com/event/winterfest-ice-skating-3/
LOCATION:NJ
END:VEVENT
BEGIN:VEVENT
DTSTART;TZID=UTC:20260202T100000
DTEND;TZID=UTC:20260202T110000
DTSTAMP:20260420T122242
CREATED:20251208T133712Z
LAST-MODIFIED:20251208T133712Z
UID:10011416-1770026400-1770030000@njmom.com
SUMMARY:Beyond the Bug Preschool Series
DESCRIPTION:Spark curiosity and wonder in your little explorers with Beyond the Bug’s interactive preschool programs! These hour-long programs feature 2–3 live animal ambassadors alongside engaging hands-on activities\, games\, and crafts designed for younger learners. Each program fosters a love for nature while teaching age-appropriate lessons about the amazing animals that share our planet.
URL:https://njmom.com/event/beyond-the-bug-preschool-series/2026-02-02/
LOCATION:Monroe Twp Community Center\, 120 monmouth rd\, monroe twp\, NJ\, 08831\, United States
ATTACH;FMTTYPE=image/jpeg:https://njmom.com/wp-content/uploads/2025/12/Screenshot-2025-12-06-161549.jpg
ORGANIZER;CN="Beyond the Bug":MAILTO:beyondthebugllc@gmail.com
END:VEVENT
BEGIN:VEVENT
DTSTART;TZID=UTC:20260202T183000
DTEND;TZID=UTC:20260202T213000
DTSTAMP:20260420T122242
CREATED:20260123T133151Z
LAST-MODIFIED:20260123T133152Z
UID:10012128-1770057000-1770067800@njmom.com
SUMMARY:Live Music at Eddie V's at MarketFair
DESCRIPTION:Live music at Eddie V’s at MarketFair from 6:30-9:00 PM sets the tone for an unforgettable evening. Nothing accompanies the experience quite like the perfect blend of a live music trio\, sophisticated cocktails\, and you. At the V Lounge\, you’re not just a guest – you’re the final piece that brings everything to live.
URL:https://njmom.com/event/live-music-at-eddie-vs-at-marketfair/2026-02-02/
LOCATION:MarketFair\, 3535 US Highway 1\, Princeton\, NJ\, 08540\, United States
ATTACH;FMTTYPE=image/jpeg:https://njmom.com/wp-content/uploads/2026/01/c3cc7e3b-8eb1-4e3c-9bb8-134a27f44f51.jpg
END:VEVENT
END:VCALENDAR